Workbook

Sheet Упр и Профком
B3: СВЕДЕНИЯ О ПЕРЕДОВИКАХ на уборке зерновых по ОАО "Калининский"
B4: по состоянию на | C4: =Директору!G26 -> 23 | D4: августа 2024 года
C6: По намолоту среди комбайнёров
B7: Ф.И.О. | C7: Убрано, га | E7: Намолот зерна, тонн | G7: Марка комбайна | H7: Отработано часов | I7: Срок эксплу-атации, лет | J7: В.Ч. Варганов Ан. Сам-но 10 га 23,2 т | M7: Корма
C8: всего | D8: в т.ч. рапса | E8: всего | F8: в т.ч. рапса
B9: Ермоленко В.В. ( Не с начала ) | C9: ='Всего и по культурам+1'!E16+M10 -> 353.2 | D9: ='Свод по датам'!E47 -> 0 | E9: ='Всего и по культурам+1'!E15+M9 -> 908.4 | F9: ='Свод по датам'!E46 -> 0 | G9: ='Всего и по культурам+1'!D15 -> КЗС-12А | H9: =ROUND('Всего и по культурам+1'!A16*11,0) -> 297 | I9: 1.5 | L9: т
B10: ='Всего и по культурам+1'!C16 -> Варганов Андрей Николаевич | H10: =H9 -> 297 | L10: га
B11: Самойленко Петр Григорьевич | C11: ='Всего и по культурам+1'!E18+M12 -> 361.4 | D11: ='Свод по датам'!E49 -> 161 | E11: ='Всего и по культурам+1'!E17+M11 -> 933.8 | F11: ='Свод по датам'!E48 -> 413.5 | G11: ='Всего и по культурам+1'!D17 -> КЗС-12А | H11: =ROUND('Всего и по культурам+1'!A18*11,0) -> 165 | I11: 1.5 | L11: т
B12: ='Всего и по культурам+1'!C18 -> Варганов Андрей Николаевич | H12: =H11 -> 165 | L12: га
B13: ='Всего и по культурам+1'!C19 -> Белоусов Сергей Викторович | C13: ='Всего и по культурам+1'!E20+M14 -> 828.4 | D13: ='Свод по датам'!E51 -> 189.8 | E13: ='Всего и по культурам+1'!E19+M13 -> 2106.9 | F13: ='Свод по датам'!E50 -> 443.7 | G13: ='Всего и по культурам+1'!D19 -> КЗС-12 | H13: =ROUND('Всего и по культурам+1'!A20*11,0) -> 451 | I13: 1.5 | L13: т
B14: ='Всего и по культурам+1'!C20 -> Белоусов Александр Владимирович | L14: га
B15: ='Всего и по культурам+1'!C21 -> Чуянов П.А. | C15: ='Всего и по культурам+1'!E22 -> 118 | D15: ='Свод по датам'!E53 -> 0 | E15: ='Всего и по культурам+1'!E21 -> 307.6 | F15: ='Свод по датам'!E52 -> 0 | G15: ='Всего и по культурам+1'!D21 -> КЗС-10К | H15: =ROUND('Всего и по культурам+1'!A22*11,0) -> 121 | I15: 14
B16: ='Всего и по культурам+1'!C22 -> 0 | H16: =H15 -> 121
B17: ='Всего и по культурам+1'!C23 -> Чиканов Андрей Алексеевич | C17: ='Всего и по культурам+1'!E24 -> 245.95 | D17: ='Свод по датам'!E55 -> 0 | E17: ='Всего и по культурам+1'!E23 -> 659.3 | F17: ='Свод по датам'!E54 -> 0 | G17: ='Всего и по культурам+1'!D23 -> КЗС-12 | H17: =ROUND('Всего и по культурам+1'!A24*11,0) -> 275 | I17: 15
B18: ='Всего и по культурам+1'!C24 -> 0 | H18: =H17 -> 275
B19: Кайдунов Андрей Вячеславович | C19: ='Всего и по культурам+1'!E26 -> 396.05 | D19: ='Свод по датам'!E57 -> 78.2 | E19: ='Всего и по культурам+1'!E25 -> 1068.9 | F19: ='Свод по датам'!E56 -> 192.7 | G19: ='Всего и по культурам+1'!D27 -> КЗС-12 | H19: =ROUND('Всего и по культурам+1'!A26*11,0) -> 330 | I19: 6
H20: =H19 -> 330
B21: ='Всего и по культурам+1'!C27 -> Сидельников Сергей Александрович | C21: ='Всего и по культурам+1'!E28 -> 590 | D21: ='Свод по датам'!E59 -> 116 | E21: ='Всего и по культурам+1'!E27 -> 1472.06 | F21: ='Свод по датам'!E58 -> 266.1 | G21: ='Всего и по культурам+1'!D27 -> КЗС-12 | H21: =H13 -> 451 | I21: 13
B22: ='Всего и по культурам+1'!C28 -> Сидельников Николай Сергеевич
B23: ='Всего и по культурам+1'!C29 -> 0 | C23: ='Всего и по культурам+1'!E30+D23 -> 0 | D23: ='Свод по датам'!E61 -> 0 | E23: ='Всего и по культурам+1'!E29 -> 0 | F23: ='Свод по датам'!E60 -> 0 | G23: ='Всего и по культурам+1'!D29 -> 0
B24: ='Всего и по культурам+1'!C30 -> 0
B25: ='Всего и по культурам+1'!C31 -> 0 | C25: ='Всего и по культурам+1'!E32+D25 -> 0 | D25: ='Свод по датам'!E63 -> 0 | E25: ='Всего и по культурам+1'!E31 -> 0 | F25: ='Свод по датам'!E62 -> 0 | G25: ='Всего и по культурам+1'!D31 -> 0 | H25: =ROUND('Всего и по культурам+1'!A32*11,0) -> 0
B26: ='Всего и по культурам+1'!C32 -> 0
A27: ИТОГО | C27: =SUM(C9:C26) -> 2893 | D27: =SUM(D9:D26) -> 545 | E27: =SUM(E9:E26) -> 7456.96 | F27: =SUM(F9:F26) -> 1316
A29: Экипажей, намолотивших | F29: 1000 и более тонн- | H29: с рапсом
D31: По намолоту среди молодёжных экипажей
B32: Ф.И.О. | C32: Убрано, га | E32: Намолот зерна, тонн | G32: Марка комбайна | H32: Отработано часов | I32: Срок эксплу-атации, лет
C33: всего | D33: в т.ч. рапса | E33: всего | F33: в т.ч. рапса
B34: ='Всего и по культурам+1'!C21 -> Чуянов П.А. | C34: =C15 -> 118 | D34: =D15 -> 0 | E34: =E15 -> 307.6 | F34: =F15 -> 0 | G34: =G15 -> КЗС-10К | H34: =H15 -> 121 | I34: =I15 -> 14
B35: 17.04.1994г.р.
B36: ='Всего и по культурам+1'!C22 -> 0 | H36: =H16 -> 121
A42: ИТОГО | C42: =C38+C34 -> 118 | E42: =SUM(E34:E40) -> 307.6
D44: На отвозке зерна
B45: Ф.И.О. | C45: Перевезено зерна, т | E45: Марка | F45: Грузоподъ ёмность, т | G45: Отработано часов | H45: Срок эксплу-атации, лет
C46: всего | D46: в т.ч. рапс
B47: ='Всего и по культурам+1'!C38 -> Старотиторов Александр Николаевич | C47: ='Всего и по культурам+1'!E38 -> 1911.4 | D47: ='Свод по датам'!E69 -> 492.9 | E47: ='Всего и по культурам+1'!D38 -> ГАЗ-САЗ-35071 | F47: 4.15 | G47: =ROUND('Всего и по культурам+1'!A37*9,0) -> 0 | H47: 16
B48: ='Всего и по культурам+1'!C39 -> Бужан В.В. | C48: ='Всего и по культурам+1'!E39 -> 989.66 | D48: ='Свод по датам'!E70 -> 0 | E48: ='Всего и по культурам+1'!D39 -> МАЗ-5551 | F48: 9 | G48: =ROUND('Всего и по культурам+1'!A39*9,0) -> 198
B49: ='Всего и по культурам+1'!C40 -> Скоробогатый Кирилл Владимирович | C49: ='Всего и по культурам+1'!E40 -> 581.8 | D49: ='Свод по датам'!E71 -> 306.1 | E49: ='Всего и по культурам+1'!D40 -> МАЗ-457043 | F49: 4.2 | G49: =ROUND('Всего и по культурам+1'!A40*9,0) -> 72 | H49: 5
B50: ='Всего и по культурам+1'!C41 -> Зайцев Владимир Александрович | C50: ='Всего и по культурам+1'!E41 -> 66.9 | D50: ='Свод по датам'!E72 -> 0 | E50: ='Всего и по культурам+1'!D41 -> МАЗ-5551 | F50: 9 | G50: =ROUND('Всего и по культурам+1'!A41*9,0) -> 27 | H50: 15
B51: ='Всего и по культурам+1'!C42 -> Ермоленко Антон Александрович | C51: ='Всего и по культурам+1'!E42 -> 0 | D51: ='Свод по датам'!E73 -> 0 | E51: ='Всего и по культурам+1'!D42 -> МАЗ-5551 | F51: 9.5 | G51: =ROUND('Всего и по культурам+1'!A42*9,0) -> 0 | H51: 19
B52: ='Всего и по культурам+1'!C43 -> Ермоленко Александр Владимирович | C52: ='Всего и по культурам+1'!E43 -> 0 | D52: ='Свод по датам'!E74 -> 0 | E52: ='Всего и по культурам+1'!D43 -> МАЗ-551605 | G52: =ROUND('Всего и по культурам+1'!A43*9,0) -> 0
B53: ='Всего и по культурам+1'!C44 -> Скоробогатый Владимир Николаевич | C53: ='Всего и по культурам+1'!E44 -> 2813.1 | D53: ='Свод по датам'!E75 -> 511 | E53: ='Всего и по культурам+1'!D44 -> МАЗ-551605 | F53: 20 | G53: =ROUND('Всего и по культурам+1'!A44*9,0) -> 351 | H53: 14
B54: ='Всего и по культурам+1'!C45 -> Горбаченко Сергей Анатольевич | C54: ='Всего и по культурам+1'!E45 -> 847.3 | D54: ='Свод по датам'!E76 -> 6 | E54: ='Всего и по культурам+1'!D45 -> МАЗ-5551 | F54: 9.075 | G54: =ROUND('Всего и по культурам+1'!A45*9,0) -> 189 | H54: 9
B55: ='Всего и по культурам+1'!C46 -> Бондаренко Николай Александрович | C55: ='Всего и по культурам+1'!E46 -> 0 | D55: ='Свод по датам'!E77 -> 0 | E55: ='Всего и по культурам+1'!D46 -> МАЗ-457041 | F55: 4.2 | G55: =ROUND('Всего и по культурам+1'!A46*9,0) -> 0 | H55: 9
B56: ='Всего и по культурам+1'!C47 -> Середа Д. | C56: ='Всего и по культурам+1'!E47 -> 42.4 | D56: ='Свод по датам'!E78 -> 0 | E56: ='Всего и по культурам+1'!D47 -> 0 | G56: =ROUND('Всего и по культурам+1'!A47*9,0) -> 9
B57: ='Всего и по культурам+1'!C48 -> Васьковцов | C57: ='Всего и по культурам+1'!E48 -> 2.7 | D57: ='Свод по датам'!E79 -> 0 | E57: ='Всего и по культурам+1'!D48 -> 0 | G57: =ROUND('Всего и по культурам+1'!A48*9,0) -> 18
B58: ='Всего и по культурам+1'!C49 -> Скобликов | C58: ='Всего и по культурам+1'!E49 -> 201.7 | D58: ='Свод по датам'!E80 -> 0 | E58: ='Всего и по культурам+1'!D49 -> 0 | G58: =ROUND('Всего и по культурам+1'!A49*9,0) -> 63
A59: ИТОГО | C59: =SUM(C47:C58) -> 7456.96 | D59: =SUM(D47:D58) -> 1316
D61: На отвозке зерна среди молодых водителей
B62: Ф.И.О. | C62: Перевезено зерна, т | E62: Марка | F62: Грузоподъ ёмность, т | G62: Отработано часов | H62: Срок эксплу-атации, лет
C63: всего | D63: в т.ч. рапс
B64: Скоробогатый К.В. | C64: =C49 -> 581.8 | D64: =D49 -> 306.1 | E64: =E49 -> МАЗ-457043 | F64: =F49 -> 4.2 | G64: =G49 -> 72 | H64: =H49 -> 5
B66: Всего водителей, перевёзших 1000 и более тон зерна - | F66: с рапсом
D69: На сушильных агрегатах
B71: Ф.И.О. машиниста, обслуживающего агрегат | D71: Наименование организации | E71: Марка агрегата | G71: Высушено тонн
B72: Концевой Сергей Викторович | D72: ОАО Калининский | E72: КЗС-25 | G72: 3130
B73: Годунов Николай Игоревич
B75: Всего высушивших на сушильных агрегатах 1000 и более тонн зерна-
D78: По урожайности среди хозяйств района (без рапса)
B80: Наименование хозяйства | C80: Убрано зерновых в % к общей площади | E80: Урожайность, ц/га | G80: Ф.И.О. руководителя и председателя профкома
B81: ОАО "Калининский" | C81: =Директору!J82/100 -> 0.96984717 | E81: =Директору!E82 -> 26.2 | G81: Черноморченко Алексей Александрович
G82: Дергачёва Надежда Леонидовна

Sheet Директору
C1: Обновить сведения | H1: Скачать сведения в XLS файл
C4: на сайт : | D4: www.pererost.by | H4: https://www.pererost.by/
E24: СВЕДЕНИЯ
C25: о ходе уборки зерновых по ОАО "Калининский"
C26: по состоянию на утро | G26: 23 | H26: августа
B28: % от первого | C28: Ф.И.О. | E28: Марка ком-байна | G28: Намолот , т | I28: В том числе | L28: Расценка, руб/т | M28: З/плата за день, руб
G29: за день | H29: с нач уборки | I29: зерно | J29: рапс
B30: =H30/MAX($H$30:$H$47) -> 0.43115478 | C30: Ермоленко Вас.Викт | E30: ='Всего и по культурам+1'!D15 -> КЗС-12А | G30: ='Всего и по культурам+1'!E3 -> 7.7 | H30: ='Всего и по культурам+1'!E15 -> 908.4 | I30: =-J30+H30 -> 908.4 | J30: ='Свод по датам'!E46 -> 0 | L30: 2.05 | M30: =L30*G30 -> 15.785
C31: Варганов Анд.Ник. | L31: 0.7 | M31: =M30*L31 -> 11.0495
B32: =H32/MAX($H$30:$H$47) -> 0.4432104 | C32: Самойленко П.Г. | E32: ='Всего и по культурам+1'!D17 -> КЗС-12А | G32: ='Всего и по культурам+1'!E4 -> 0 | H32: ='Всего и по культурам+1'!E17 -> 933.8 | I32: =-J32+H32 -> 520.3 | J32: ='Свод по датам'!E48 -> 413.5 | L32: 2.05 | M32: =G32*L32 -> 0
C33: Варганов Анд.Ник. | L33: 0.7 | M33: =M32*L33 -> 0
B34: =H34/MAX($H$30:$H$47) -> 1 | C34: Белоусов С.Викт. | E34: ='Всего и по культурам+1'!D19 -> КЗС-12 | G34: ='Всего и по культурам+1'!E5 -> 0 | H34: ='Всего и по культурам+1'!E19 -> 2106.9 | I34: =-J34+H34 -> 1663.2 | J34: ='Свод по датам'!E50 -> 443.7 | L34: 2.05 | M34: =G34*L34 -> 0 | S34: За день | T34: Всего
C35: Белоусов А.Влад. | L35: 0.8 | M35: =M34*L35 -> 0 | R35: Ермоленко В.В. | S35: =G30 -> 7.7 | T35: =H30 -> 908.4
B36: =H36/MAX($H$30:$H$47) -> 0.14599649 | C36: Чуянов П.А. | E36: ='Всего и по культурам+1'!D21 -> КЗС-10К | G36: ='Всего и по культурам+1'!E6 -> 0 | H36: ='Всего и по культурам+1'!E21 -> 307.6 | I36: =-J36+H36 -> 307.6 | J36: ='Свод по датам'!E52 -> 0 | L36: 2.63 | M36: =G36*L36 -> 0 | R36: Самойленко П.Г. | S36: =G32 -> 0 | T36: =H32 -> 933.8
L37: 0.5 | M37: =M36*L37 -> 0 | R37: Белоусов С.В. | S37: =G34 -> 0 | T37: =H34 -> 2106.9
B38: =H38/MAX($H$30:$H$47) -> 0.3129242 | C38: Чиканов Анд. | E38: ='Всего и по культурам+1'!D23 -> КЗС-12 | G38: ='Всего и по культурам+1'!E7 -> 0 | H38: ='Всего и по культурам+1'!E23 -> 659.3 | I38: =-J38+H38 -> 659.3 | J38: ='Свод по датам'!E54 -> 0 | L38: 2.25 | M38: =G38*L38 -> 0 | R38: Чуянов П.А. | S38: =G36 -> 0 | T38: =H36 -> 307.6
C39: Некрасов С.Н. | L39: 0.8 | M39: =M38*L39 -> 0 | R39: Чиканов Анд. | S39: =G38 -> 0 | T39: =H38 -> 659.3
B40: =H40/MAX($H$30:$H$47) -> 0.50733305 | C40: Кайдунов Анд Вяч | E40: ='Всего и по культурам+1'!D25 -> КЗС-12 | G40: ='Всего и по культурам+1'!E8 -> 0 | H40: ='Всего и по культурам+1'!E25 -> 1068.9 | I40: =-J40+H40 -> 876.2 | J40: ='Свод по датам'!E56 -> 192.7 | L40: 2.25 | M40: =G40*L40 -> 0 | R40: Кайдунов А.В. | S40: =G40 -> 0 | T40: =H40 -> 1068.9
L41: 0.7 | M41: =M40*L41 -> 0 | R41: Сидельников С.А. | S41: =G42 -> 2.8 | T41: =H42 -> 1472.06
B42: =H42/MAX($H$30:$H$47) -> 0.69868527 | C42: Сидельников С.А. | E42: ='Всего и по культурам+1'!D27 -> КЗС-12 | G42: ='Всего и по культурам+1'!E9 -> 2.8 | H42: ='Всего и по культурам+1'!E27 -> 1472.06 | I42: =-J42+H42 -> 1205.96 | J42: ='Свод по датам'!E58 -> 266.1 | L42: 2.25 | M42: =G42*L42 -> 6.3 | R42: Лепенков | S42: =G46 -> 0 | T42: =H46 -> 0
C43: Сидельников Ник. С. | L43: 0.8 | M43: =M42*L43 -> 5.04
B44: =H44/MAX($H$30:$H$47) -> 0 | E44: ='Всего и по культурам+1'!D29 -> 0 | G44: ='Всего и по культурам+1'!E10 -> 0 | H44: ='Всего и по культурам+1'!E29 -> 0 | I44: =-J44+H44 -> 0 | J44: ='Свод по датам'!E60 -> 0 | M44: =G44*L44 -> 0
M45: =M44*L45 -> 0
B46: =H46/MAX($H$30:$H$47) -> 0 | E46: ='Всего и по культурам+1'!D29 -> 0 | G46: ='Всего и по культурам+1'!E11 -> 0 | H46: ='Всего и по культурам+1'!E31 -> 0 | I46: =-J46+H46 -> 0 | J46: ='Свод по датам'!E62 -> 0 | M46: =G46*L46*1.5 -> 0
C48: ИТОГО | G48: =SUM(G30:G47) -> 10.5 | H48: =SUM(H30:H47) -> 7456.96 | I48: =SUM(I30:I47) -> 6140.96 | J48: =SUM(J30:J47) -> 1316
C50: Водители
B51: % от первого | C51: Ф.И.О. | E51: Марка | G51: Перевезено, т | I51: В том числе | L51: Расценка, руб/т | M51: З/плата за день, руб
G52: за день | H52: с нач | I52: зерно | J52: рапс
B53: =H53/MAX($H$53:$H$64) -> 0.67946394 | C53: Старотиторов А.Н. | E53: ='Всего и по культурам+1'!D38 -> ГАЗ-САЗ-35071 | G53: ='Всего и по культурам+1'!E53 -> 0 | H53: ='Всего и по культурам+1'!E38 -> 1911.4 | I53: =H53-J53 -> 1418.5 | J53: ='Свод по датам'!E69 -> 492.9 | L53: 1.42 | M53: =G53*L53 -> 0
B54: =H54/MAX($H$53:$H$64) -> 0.35180406 | C54: Бужан В.В. | E54: ='Всего и по культурам+1'!D39 -> МАЗ-5551 | G54: ='Всего и по культурам+1'!E54 -> 0 | H54: ='Всего и по культурам+1'!E39 -> 989.66 | I54: =H54-J54 -> 989.66 | J54: ='Свод по датам'!E70 -> 0 | L54: 1.23 | M54: =G54*L54 -> 0
B55: =H55/MAX($H$53:$H$64) -> 0.2068181 | C55: Скоробогатый К.В. | E55: ='Всего и по культурам+1'!D40 -> МАЗ-457043 | G55: ='Всего и по культурам+1'!E55 -> 0 | H55: ='Всего и по культурам+1'!E40 -> 581.8 | I55: =H55-J55 -> 275.7 | J55: ='Свод по датам'!E71 -> 306.1 | L55: 1.42 | M55: =G55*L55 -> 0
B56: =H56/MAX($H$53:$H$64) -> 0.023781593 | C56: Зайцев В.А. | E56: ='Всего и по культурам+1'!D41 -> МАЗ-5551 | G56: ='Всего и по культурам+1'!E56 -> 10.5 | H56: ='Всего и по культурам+1'!E41 -> 66.9 | I56: =H56-J56 -> 66.9 | J56: ='Свод по датам'!E72 -> 0 | L56: 1.23 | M56: =G56*L56 -> 12.915
B57: =H57/MAX($H$53:$H$64) -> 0 | C57: Ермоленко Антон | E57: ='Всего и по культурам+1'!D42 -> МАЗ-5551 | G57: ='Всего и по культурам+1'!E57 -> 0 | H57: ='Всего и по культурам+1'!E42 -> 0 | I57: =H57-J57 -> 0 | J57: ='Свод по датам'!E73 -> 0 | L57: 1.23 | M57: =G57*L57 -> 0
B58: =H58/MAX($H$53:$H$64) -> 0 | C58: Ермоленко А. В. | E58: ='Всего и по культурам+1'!D43 -> МАЗ-551605 | G58: ='Всего и по культурам+1'!E58 -> 0 | H58: ='Всего и по культурам+1'!E43 -> 0 | I58: =H58-J58 -> 0 | J58: ='Свод по датам'!E74 -> 0 | L58: 1.23 | M58: =G58*L58 -> 0
B59: =H59/MAX($H$53:$H$64) -> 1 | C59: Скоробогатый В.Н. | E59: ='Всего и по культурам+1'!D44 -> МАЗ-551605 | G59: ='Всего и по культурам+1'!E59 -> 0 | H59: ='Всего и по культурам+1'!E44 -> 2813.1 | I59: =H59-J59 -> 2302.1 | J59: ='Свод по датам'!E75 -> 511 | L59: 1.23 | M59: =G59*L59 -> 0
B60: =H60/MAX($H$53:$H$64) -> 0.30119797 | C60: Горбаченко С.А. | E60: ='Всего и по культурам+1'!D45 -> МАЗ-5551 | G60: ='Всего и по культурам+1'!E60 -> 0 | H60: ='Всего и по культурам+1'!E45 -> 847.3 | I60: =H60-J60 -> 841.3 | J60: ='Свод по датам'!E76 -> 6 | L60: 1.23 | M60: =G60*L60 -> 0
B61: =H61/MAX($H$53:$H$64) -> 0 | C61: Бондаренко Н.А. | E61: ='Всего и по культурам+1'!D46 -> МАЗ-457041 | G61: ='Всего и по культурам+1'!E61 -> 0 | H61: ='Всего и по культурам+1'!E46 -> 0 | I61: =H61-J61 -> 0 | J61: ='Свод по датам'!E77 -> 0 | L61: 1.42 | M61: =G61*L61 -> 0
B62: =H62/MAX($H$53:$H$64) -> 0.01507234 | C62: Середа Д.С. | E62: ='Всего и по культурам+1'!D47 -> 0 | G62: ='Всего и по культурам+1'!E62 -> 0 | H62: ='Всего и по культурам+1'!E47 -> 42.4 | I62: =H62-J62 -> 42.4 | J62: ='Свод по датам'!E78 -> 0 | L62: 1.23 | M62: =G62*L62 -> 0
B63: =H63/MAX($H$53:$H$64) -> 0.00095979524 | C63: ='Всего и по культурам+1'!C48 -> Васьковцов | E63: ='Всего и по культурам+1'!D48 -> 0 | G63: ='Всего и по культурам+1'!E63 -> 0 | H63: ='Всего и по культурам+1'!E48 -> 2.7 | I63: =H63-J63 -> 2.7 | J63: ='Свод по датам'!E79 -> 0 | M63: =G63*L63 -> 0
B64: =H64/MAX($H$53:$H$64) -> 0.07170026 | C64: ='Всего и по культурам+1'!C49 -> Скобликов | E64: ='Всего и по культурам+1'!D49 -> 0 | G64: ='Всего и по культурам+1'!E64 -> 0 | H64: ='Всего и по культурам+1'!E49 -> 201.7 | I64: =H64-J64 -> 201.7 | J64: ='Свод по датам'!E80 -> 0 | M64: =G64*L64 -> 0
C65: ИТОГО | G65: =SUM(G53:G64) -> 10.5 | H65: =SUM(H53:H64) -> 7456.96 | I65: =SUM(I53:I64) -> 6140.96 | J65: =SUM(J53:J64) -> 1316
C67: Информация о ходе уборки и на сайте pererost.by
C70: Культура | D70: Намо- | E70: Ц/га | F70: Плащадь, га | J70: % уборки | N70: =J70 -> % уборки
D71: лот | F71: убрано | H71: всего к уборке | I71: оста-лось
D72: т
C73: Пшеница | D73: ='Всего и по культурам+1'!E67 -> 2853.8 | E73: =IF(F73>0,ROUND(D73/F73*10,1),0) -> 28.6 | F73: ='Всего и по культурам+1'!E68 -> 998 | H73: 998 | I73: =H73-F73 -> 0 | J73: =F73/H73*100 -> 100 | N73: =J73 -> 100
C74: Тритикале | D74: ='Всего и по культурам+1'!E69 -> 747.7 | E74: =IF(F74>0,ROUND(D74/F74*10,1),0) -> 21.9 | F74: ='Всего и по культурам+1'!E70 -> 342 | H74: =292+50 -> 342 | I74: =H74-F74 -> 0 | J74: =F74/H74*100 -> 100 | N74: =J74 -> 100
C75: Рожь | D75: ='Всего и по культурам+1'!E71 -> 767.96 | E75: =IF(F75>0,ROUND(D75/F75*10,1),0) -> 24 | F75: ='Всего и по культурам+1'!E72 -> 320 | H75: 320 | I75: =H75-F75 -> 0 | J75: =F75/H75*100 -> 100 | N75: =J75 -> 100
C76: Ячмень яр | D76: ='Всего и по культурам+1'!E73 -> 204.6 | E76: =IF(F76>0,ROUND(D76/F76*10,1),0) -> 18.8 | F76: ='Всего и по культурам+1'!E74 -> 109 | H76: 109 | I76: =H76-F76 -> 0 | J76: =F76/H76*100 -> 100 | N76: =J76 -> 100
C77: Ячмень оз | D77: ='Всего и по культурам+1'!E83 -> 720.4 | E77: =IF(F77>0,ROUND(D77/F77*10,1),0) -> 22.9 | F77: ='Всего и по культурам+1'!E84 -> 315 | H77: 315 | I77: =H77-F77 -> 0 | J77: =F77/H77*100 -> 100 | N77: =J77 -> 100
C78: Овес | D78: ='Всего и по культурам+1'!E75 -> 779.6 | E78: =IF(F78>0,ROUND(D78/F78*10,1),0) -> 37.7 | F78: ='Всего и по культурам+1'!E76 -> 207 | H78: 207 | I78: =H78-F78 -> 0 | J78: =F78/H78*100 -> 100 | N78: =J78 -> 100
C79: Просо | D79: ='Всего и по культурам+1'!E79 -> 0 | E79: =IF(F79>0,ROUND(D79/F79*10,1),0) -> 0 | F79: ='Всего и по культурам+1'!E78 -> 0 | H79: 20 | I79: =H79-F79 -> 20 | J79: =F79/H79*100 -> 0 | N79: =J79 -> 0
C80: Зернобобовые | D80: ='Всего и по культурам+1'!E80 -> 0 | E80: =IF(F80>0,ROUND(D80/F80*10,1),0) -> 0 | F80: ='Всего и по культурам+1'!E80 -> 0 | I80: =H80-F80 -> 0
C81: Гречиха | D81: ='Всего и по культурам+1'!E81 -> 66.9 | E81: =IF(F81>0,ROUND(D81/F81*10,1),0) -> 11.7 | F81: ='Всего и по культурам+1'!E82 -> 57 | H81: 110 | I81: =H81-F81 -> 53 | J81: =F81/H81*100 -> 51.818182 | N81: =J81 -> 51.818182
C82: Итого | D82: =SUM(D73:D81) -> 6140.96 | E82: =IF(F82>0,ROUND(D82/F82*10,1),0) -> 26.2 | F82: =SUM(F73:F81) -> 2348 | H82: =SUM(H73:H81) -> 2421 | I82: =SUM(I73:I81) -> 73 | J82: =F82/H82*100 -> 96.984717 | N82: =J82 -> 96.984717
C84: Рапс | D84: ='Всего и по культурам+1'!E89 -> 1316 | E84: =IF(F84>0,ROUND(D84/F84*10,1),0) -> 24.1 | F84: ='Всего и по культурам+1'!E90 -> 545 | H84: 545 | I84: =H84-F84 -> 0 | J84: =F84/H84*100 -> 100 | N84: =J84 -> 100

Sheet Всего и по культурам+1
C2: Определение намолота за последний день:
C3: =C15 -> Ермоленко Вас | E3: =IF(SUM($G$13:$CU$13)=1,SUM(G3:CU3),0) -> 7.7 | G3: =G13*G15 -> 0 | H3: =H13*H15 -> 0 | I3: =I13*I15 -> 0 | J3: =J13*J15 -> 0 | K3: =K13*K15 -> 0 | L3: =L13*L15 -> 0 | M3: =M13*M15 -> 0 | N3: =N13*N15 -> 0 | ... CU3: =CU13*CU15 -> 0
C4: =C17 -> Самойленко П.Г. | E4: =IF(SUM($G$13:$CU$13)=1,SUM(G4:CU4),0) -> 0 | G4: =G13*G17 -> 0 | H4: =H13*H17 -> 0 | I4: =I13*I17 -> 0 | J4: =J13*J17 -> 0 | K4: =K13*K17 -> 0 | L4: =L13*L17 -> 0 | M4: =M13*M17 -> 0 | N4: =N13*N17 -> 0 | ... CU4: =CU13*CU17 -> 0
C5: =C19 -> Белоусов Сергей Викторович | E5: =IF(SUM($G$13:$CU$13)=1,SUM(G5:CU5),0) -> 0 | G5: =G13*G19 -> 0 | H5: =H13*H19 -> 0 | I5: =I13*I19 -> 0 | J5: =J13*J19 -> 0 | K5: =K13*K19 -> 0 | L5: =L13*L19 -> 0 | M5: =M13*M19 -> 0 | N5: =N13*N19 -> 0 | ... CU5: =CU13*CU19 -> 0
C6: =C21 -> Чуянов П.А. | E6: =IF(SUM($G$13:$CU$13)=1,SUM(G6:CU6),0) -> 0 | G6: =G13*G21 -> 0 | H6: =H13*H21 -> 0 | I6: =I13*I21 -> 0 | J6: =J13*J21 -> 0 | K6: =K13*K21 -> 0 | L6: =L13*L21 -> 0 | M6: =M13*M21 -> 0 | N6: =N13*N21 -> 0 | ... CU6: =CU13*CU21 -> 0
C7: =C23 -> Чиканов Андрей Алексеевич | E7: =IF(SUM($G$13:$CU$13)=1,SUM(G7:CU7),0) -> 0 | G7: =G13*G23 -> 0 | H7: =H13*H23 -> 0 | I7: =I13*I23 -> 0 | J7: =J13*J23 -> 0 | K7: =K13*K23 -> 0 | L7: =L13*L23 -> 0 | M7: =M13*M23 -> 0 | N7: =N13*N23 -> 0 | ... CU7: =CU13*CU23 -> 0
C8: =C25 -> Кайдунов А.В. | E8: =IF(SUM($G$13:$CU$13)=1,SUM(G8:CU8),0) -> 0 | G8: =G13*G25 -> 0 | H8: =H13*H25 -> 0 | I8: =I13*I25 -> 0 | J8: =J13*J25 -> 0 | K8: =K13*K25 -> 0 | L8: =L13*L25 -> 0 | M8: =M13*M25 -> 0 | N8: =N13*N25 -> 0 | ... CU8: =CU13*CU25 -> 0
C9: =C27 -> Сидельников Сергей Александрович | E9: =IF(SUM($G$13:$CU$13)=1,SUM(G9:CU9),0) -> 2.8 | G9: =G13*G27 -> 0 | H9: =H13*H27 -> 0 | I9: =I13*I27 -> 0 | J9: =J13*J27 -> 0 | K9: =K13*K27 -> 0 | L9: =L13*L27 -> 0 | M9: =M13*M27 -> 0 | N9: =N13*N27 -> 0 | ... CU9: =CU13*CU27 -> 0
C10: =C29 -> 0 | E10: =IF(SUM($G$13:$CU$13)=1,SUM(G10:CU10),0) -> 0 | G10: =G13*G29 -> 0 | H10: =H13*H29 -> 0 | I10: =I13*I29 -> 0 | J10: =J13*J29 -> 0 | K10: =K13*K29 -> 0 | L10: =L13*L29 -> 0 | M10: =M13*M29 -> 0 | N10: =N13*N29 -> 0 | ... CU10: =CU13*CU29 -> 0
C11: =C31 -> 0 | E11: =IF(SUM($G$13:$CU$13)=1,SUM(G11:CU11),0) -> 0 | G11: =G13*G31 -> 0 | H11: =H13*H31 -> 0 | I11: =I13*I31 -> 0 | J11: =J13*J31 -> 0 | K11: =K13*K31 -> 0 | L11: =L13*L31 -> 0 | M11: =M13*M31 -> 0 | N11: =N13*N31 -> 0 | ... CU11: =CU13*CU31 -> 0
A12: Дней до 31.08
C13: Поставь "1" в этой строке на отчётную дату | BH13: 1
G14: 44012 | H14: 44013 | I14: 44014 | J14: 44015 | K14: 44016 | L14: 44017 | M14: 44018 | N14: 44019 | O14: 44020 | P14: 44021 | Q14: 44022 | R14: 44023 | S14: 44024 | T14: 44025 | U14: 44026 | V14: 44027 | W14: 44028 | X14: 44029 | Y14: 44030 | Z14: 44031 | AA14: 44032 | AB14: 44033 | AC14: 44034 | AD14: 44035 | AE14: 44036 | AF14: 44037 | AG14: 44038 | AH14: 44039 | AI14: 44040 | AJ14: 44041 | AK14: 44042 | AL14: 44043 | AM14: 44044 | AN14: 44045 | AO14: 44046 | AP14: 44047 | AQ14: 44048 | AR14: 44049 | AS14: 44050 | AT14: 44051 | AU14: 44052 | AV14: 44053 | AW14: 44054 | AX14: 44055 | AY14: 44056 | AZ14: 44057 | BA14: 44058 | BB14: 44059 | BC14: 44060 | BD14: 44061 | BE14: 44062 | BF14: 44063 | BG14: 44064 | BH14: 44065 | BI14: 44066 | BJ14: 44067 | BK14: 44068 | BL14: 44069 | BM14: 44070 | BN14: 44071 | BO14: 44072 | BP14: 44073 | BQ14: 44074 | BR14: 44075 | BS14: 44076 | BT14: 44077 | BU14: 44078 | BV14: 44079 | BW14: 44080 | BX14: 44081 | BY14: 44082 | BZ14: 44083 | CA14: 44084 | CB14: 44085 | CC14: 44086 | CD14: 44087 | CE14: 44088 | CF14: 44089 | CG14: 44090 | CH14: 44091 | CI14: 44092 | CJ14: 44093 | CK14: 44094 | CL14: 44095 | CM14: 44096 | CN14: 44097 | CO14: 44098 | CP14: 44099 | CQ14: 44100 | CR14: 44101 | CS14: 44102 | CT14: 44103 | CU14: 44104 | CV14: Итого
C15: Ермоленко Вас | D15: КЗС-12А | E15: =CV15 -> 908.4 | F15: тонн | G15: =SUM('Свод по датам'!F4:H4)+SUM('Свод по датам'!F46:H46) -> 0 | H15: =SUM('Свод по датам'!I4:K4)+SUM('Свод по датам'!I46:K46) -> 0 | I15: =SUM('Свод по датам'!L4:N4)+SUM('Свод по датам'!L46:N46) -> 0 | J15: =SUM('Свод по датам'!O4:Q4)+SUM('Свод по датам'!O46:Q46) -> 0 | K15: =SUM('Свод по датам'!R4:T4)+SUM('Свод по датам'!R46:T46) -> 0 | L15: =SUM('Свод по датам'!U4:W4)+SUM('Свод по датам'!U46:W46) -> 0 | M15: =SUM('Свод по датам'!X4:Z4)+SUM('Свод по датам'!X46:Z46) -> 0 | N15: =SUM('Свод по датам'!AA4:AC4)+SUM('Свод по датам'!AA46:AC46) -> 0 | O15: =SUM('Свод по датам'!AD4:AF4)+SUM('Свод по датам'!AD46:AF46) -> 0 | P15: =SUM('Свод по датам'!AG4:AI4)+SUM('Свод по датам'!AG46:AI46) -> 0 | Q15: =SUM('Свод по датам'!AJ4:AL4)+SUM('Свод по датам'!AJ46:AL46) -> 0 | R15: =SUM('Свод по датам'!AM4:AO4)+SUM('Свод по датам'!AM46:AO46) -> 0 | S15: =SUM('Свод по датам'!AP4:AR4)+SUM('Свод по датам'!AP46:AR46) -> 0 | T15: =SUM('Свод по датам'!AS4:AU4)+SUM('Свод по датам'!AS46:AU46) -> 0 | U15: =SUM('Свод по датам'!AV4:AX4)+SUM('Свод по датам'!AV46:AX46) -> 0 | V15: =SUM('Свод по датам'!AY4:BA4)+SUM('Свод по датам'!AY46:BA46) -> 0 | W15: =SUM('Свод по датам'!BB4:BD4)+SUM('Свод по датам'!BB46:BD46) -> 0 | X15: =SUM('Свод по датам'!BE4:BG4)+SUM('Свод по датам'!BE46:BG46) -> 37.6 | Y15: =SUM('Свод по датам'!BH4:BJ4)+SUM('Свод по датам'!BH46:BJ46) -> 8.6 | Z15: =SUM('Свод по датам'!BK4:BM4)+SUM('Свод по датам'!BK46:BM46) -> 0 | AA15: =SUM('Свод по датам'!BN4:BP4)+SUM('Свод по датам'!BN46:BP46) -> 71 | AB15: =SUM('Свод по датам'!BQ4:BS4)+SUM('Свод по датам'!BQ46:BS46) -> 59.4 | AC15: =SUM('Свод по датам'!BT4:BV4)+SUM('Свод по датам'!BT46:BV46) -> 21.2 | AD15: =SUM('Свод по датам'!BW4:BY4)+SUM('Свод по датам'!BW46:BY46) -> 44.2 | AE15: =SUM('Свод по датам'!BZ4:CB4)+SUM('Свод по датам'!BZ46:CB46) -> 69.2 | AF15: =SUM('Свод по датам'!CC4:CE4)+SUM('Свод по датам'!CC46:CE46) -> 25.5 | AG15: =SUM('Свод по датам'!CF4:CH4)+SUM('Свод по датам'!CF46:CH46) -> 63.6 | AH15: =SUM('Свод по датам'!CI4:CK4)+SUM('Свод по датам'!CI46:CK46) -> 43.1 | AI15: =SUM('Свод по датам'!CL4:CN4)+SUM('Свод по датам'!CL46:CN46) -> 40.8 | AJ15: =SUM('Свод по датам'!CO4:CQ4)+SUM('Свод по датам'!CO46:CQ46) -> 0 | AK15: =SUM('Свод по датам'!CR4:CT4)+SUM('Свод по датам'!CR46:CT46) -> 1.2 | AL15: =SUM('Свод по датам'!CU4:CW4) -> 0 | AM15: =SUM('Свод по датам'!CX4:CZ4) -> 46.7 | AN15: =SUM('Свод по датам'!DA4:DC4) -> 36.4 | AO15: =SUM('Свод по датам'!DD4:DF4) -> 21.9 | AP15: =SUM('Свод по датам'!DG4:DI4) -> 33 | AQ15: =SUM('Свод по датам'!DJ4:DL4) -> 49.9 | AR15: =SUM('Свод по датам'!DM4:DO4) -> 25.5 | AS15: =SUM('Свод по датам'!DP4:DR4) -> 0 | AT15: =SUM('Свод по датам'!DS4:DU4) -> 34.6 | AU15: =SUM('Свод по датам'!DV4:DX4) -> 50.3 | AV15: =SUM('Свод по датам'!DY4:EA4) -> 26.3 | AW15: =SUM('Свод по датам'!EB4:ED4) -> 29.8 | AX15: =SUM('Свод по датам'!EE4:EG4) -> 18 | AY15: =SUM('Свод по датам'!EH4:EJ4) -> 23.7 | AZ15: =SUM('Свод по датам'!EK4:EM4) -> 0 | BA15: =SUM('Свод по датам'!EN4:EP4) -> 0 | BB15: =SUM('Свод по датам'!EQ4:ES4) -> 0 | BC15: =SUM('Свод по датам'!ET4:EV4) -> 0 | BD15: =SUM('Свод по датам'!EW4:EY4) -> 0 | BE15: =SUM('Свод по датам'!EZ4:FB4) -> 0 | BF15: =SUM('Свод по датам'!FC4:FE4) -> 4.6 | BG15: =SUM('Свод по датам'!FF4:FH4) -> 14.6 | BH15: =SUM('Свод по датам'!FI4:FK4) -> 7.7 | BI15: =SUM('Свод по датам'!FL4:FN4) -> 0 | BJ15: =SUM('Свод по датам'!FO4:FQ4) -> 0 | BK15: =SUM('Свод по датам'!FR4:FT4) -> 0 | BL15: =SUM('Свод по датам'!FU4:FW4) -> 0 | BM15: =SUM('Свод по датам'!FX4:FZ4) -> 0 | BN15: =SUM('Свод по датам'!GA4:GC4) -> 0 | BO15: =SUM('Свод по датам'!GD4:GF4) -> 0 | BP15: =SUM('Свод по датам'!GG4:GI4) -> 0 | BQ15: =SUM('Свод по датам'!GJ4:GL4) -> 0 | BR15: =SUM('Свод по датам'!GM4:GO4) -> 0 | BS15: =SUM('Свод по датам'!GP4:GR4) -> 0 | BT15: =SUM('Свод по датам'!GS4:GU4) -> 0 | BU15: =SUM('Свод по датам'!GV4:GX4) -> 0 | BV15: =SUM('Свод по датам'!GY4:HA4) -> 0 | BW15: =SUM('Свод по датам'!HB4:HD4) -> 0 | BX15: =SUM('Свод по датам'!HE4:HG4) -> 0 | BY15: =SUM('Свод по датам'!HH4:HJ4) -> 0 | BZ15: =SUM('Свод по датам'!HK4:HM4) -> 0 | CA15: =SUM('Свод по датам'!HN4:HP4) -> 0 | CB15: =SUM('Свод по датам'!HQ4:HS4) -> 0 | CC15: =SUM('Свод по датам'!HT4:HV4) -> 0 | CD15: =SUM('Свод по датам'!HW4:HY4) -> 0 | CE15: =SUM('Свод по датам'!HZ4:IB4) -> 0 | CF15: =SUM('Свод по датам'!IC4:IE4) -> 0 | CG15: =SUM('Свод по датам'!IF4:IH4) -> 0 | CH15: =SUM('Свод по датам'!II4:IK4) -> 0 | CI15: =SUM('Свод по датам'!IL4:IN4) -> 0 | CJ15: =SUM('Свод по датам'!IO4:IQ4) -> 0 | CK15: =SUM('Свод по датам'!IR4:IT4) -> 0 | CL15: =SUM('Свод по датам'!IU4:IW4) -> 0 | CM15: =SUM('Свод по датам'!IX4:IZ4) -> 0 | CN15: =SUM('Свод по датам'!JA4:JC4) -> 0 | CO15: =SUM('Свод по датам'!JD4:JF4) -> 0 | CP15: =SUM('Свод по датам'!JG4:JI4) -> 0 | CQ15: =SUM('Свод по датам'!JJ4:JL4) -> 0 | CR15: =SUM('Свод по датам'!JM4:JO4) -> 0 | CS15: =SUM('Свод по датам'!JP4:JR4) -> 0 | CT15: =SUM('Свод по датам'!JS4:JU4) -> 0 | CU15: =SUM('Свод по датам'!JV4:JX4) -> 0 | CV15: =SUM(G15:CU15) -> 908.4
A16: =G15/(G15+0.001)+H15/(H15+0.001)+K15/(K15+0.001)+L15/(L15+0.001)+M15/(M15+0.001)+N15/(N15+0.001)+O15/(O15+0.001)+P15/(P15+0.001)+Q15/(Q15+0.001)+R15/(R15+0.001)+T15/(T15+0.001)+I15/(I15+0.001)+U15/(U15+0.001)+V15/(V15+0.001)+X15/(X15+0.001)+J15/(J15+0.001)+W15/(W15+0.001)+Y15/(Y15+0.001)+Z15/(Z15+0.001)+AA15/(AA15+0.001)+AB15/(AB15+0.001)+AC15/(AC15+0.001)+AD15/(AD15+0.001)+AE15/(AE15+0.001)+AF15/(AF15+0.001)+AG15/(AG15+0.001)+AH15/(AH15+0.001)+AI15/(AI15+0.001)+AJ15/(AJ15+0.001)+AK15/(AK15+0.001)+AL15/(AL15+0.001)+AM15/(AM15+0.001)+AN15/(AN15+0.001)+AO15/(AO15+0.001)+AP15/(AP15+0.001)+AQ15/(AQ15+0.001)+AR15/(AR15+0.001)+AS15/(AS15+0.001)+AT15/(AT15+0.001)+AU15/(AU15+0.001)+AV15/(AV15+0.001)+AW15/(AW15+0.001)+AX15/(AX15+0.001)+AY15/(AY15+0.001)+AZ15/(AZ15+0.001)+BA15/(BA15+0.001)+BB15/(BB15+0.001)+BC15/(BC15+0.001)+BD15/(BD15+0.001)+BE15/(BE15+0.001)+BF15/(BF15+0.001)+BG15/(BG15+0.001)+BH15/(BH15+0.001)+BI15/(BI15+0.001)+BJ15/(BJ15+0.001)+BK15/(BK15+0.001)+BL15/(BL15+0.001)+BM15/(BM15+0.001)+BN15/(BN15+0.001)+BO15/(BO15+0.001)+BP15/(BP15+0.001)+BQ15/(BQ15+0.001) -> 26.997989 | C16: Варганов Андрей Николаевич | D16: 9848 | E16: =CV16 -> 353.2 | F16: га | G16: =SUM('Свод по датам'!F5:H5)+SUM('Свод по датам'!F47:H47) -> 0 | H16: =SUM('Свод по датам'!I5:K5)+SUM('Свод по датам'!I47:K47) -> 0 | I16: =SUM('Свод по датам'!L5:N5)+SUM('Свод по датам'!L47:N47) -> 0 | J16: =SUM('Свод по датам'!O5:Q5)+SUM('Свод по датам'!O47:Q47) -> 0 | K16: =SUM('Свод по датам'!R5:T5)+SUM('Свод по датам'!R47:T47) -> 0 | L16: =SUM('Свод по датам'!U5:W5)+SUM('Свод по датам'!U47:W47) -> 0 | M16: =SUM('Свод по датам'!X5:Z5)+SUM('Свод по датам'!X47:Z47) -> 0 | N16: =SUM('Свод по датам'!AA5:AC5)+SUM('Свод по датам'!AA47:AC47) -> 0 | O16: =SUM('Свод по датам'!AD5:AF5)+SUM('Свод по датам'!AD47:AF47) -> 0 | P16: =SUM('Свод по датам'!AG5:AI5)+SUM('Свод по датам'!AG47:AI47) -> 0 | Q16: =SUM('Свод по датам'!AJ5:AL5)+SUM('Свод по датам'!AJ47:AL47) -> 0 | R16: =SUM('Свод по датам'!AM5:AO5)+SUM('Свод по датам'!AM47:AO47) -> 0 | S16: =SUM('Свод по датам'!AP5:AR5)+SUM('Свод по датам'!AP47:AR47) -> 0 | T16: =SUM('Свод по датам'!AS5:AU5)+SUM('Свод по датам'!AS47:AU47) -> 0 | U16: =SUM('Свод по датам'!AV5:AX5)+SUM('Свод по датам'!AV47:AX47) -> 0 | V16: =SUM('Свод по датам'!AY5:BA5)+SUM('Свод по датам'!AY47:BA47) -> 0 | W16: =SUM('Свод по датам'!BB5:BD5)+SUM('Свод по датам'!BB47:BD47) -> 0 | X16: =SUM('Свод по датам'!BE5:BG5)+SUM('Свод по датам'!BE47:BG47) -> 13.5 | Y16: =SUM('Свод по датам'!BH5:BJ5)+SUM('Свод по датам'!BH47:BJ47) -> 2.2 | Z16: =SUM('Свод по датам'!BK5:BM5)+SUM('Свод по датам'!BK47:BM47) -> 0 | AA16: =SUM('Свод по датам'!BN5:BP5)+SUM('Свод по датам'!BN47:BP47) -> 25 | AB16: =SUM('Свод по датам'!BQ5:BS5)+SUM('Свод по датам'!BQ47:BS47) -> 22 | AC16: =SUM('Свод по датам'!BT5:BV5)+SUM('Свод по датам'!BT47:BV47) -> 9 | AD16: =SUM('Свод по датам'!BW5:BY5)+SUM('Свод по датам'!BW47:BY47) -> 18.2 | AE16: =SUM('Свод по датам'!BZ5:CB5)+SUM('Свод по датам'!BZ47:CB47) -> 29 | AF16: =SUM('Свод по датам'!CC5:CE5)+SUM('Свод по датам'!CC47:CE47) -> 9 | AG16: =SUM('Свод по датам'!CF5:CH5)+SUM('Свод по датам'!CF47:CH47) -> 18 | AH16: =SUM('Свод по датам'!CI5:CK5)+SUM('Свод по датам'!CI47:CK47) -> 19 | AI16: =SUM('Свод по датам'!CL5:CN5)+SUM('Свод по датам'!CL47:CN47) -> 13.5 | AJ16: =SUM('Свод по датам'!CO5:CQ5)+SUM('Свод по датам'!CO47:CQ47) -> 0 | AK16: =SUM('Свод по датам'!CR5:CT5)+SUM('Свод по датам'!CR47:CT47) -> 0.4 | AL16: =SUM('Свод по датам'!CU5:CW5) -> 0 | AM16: =SUM('Свод по датам'!CX5:CZ5) -> 16.5 | AN16: =SUM('Свод по датам'!DA5:DC5) -> 13.5 | AO16: =SUM('Свод по датам'!DD5:DF5) -> 9 | AP16: =SUM('Свод по датам'!DG5:DI5) -> 12.5 | AQ16: =SUM('Свод по датам'!DJ5:DL5) -> 18 | AR16: =SUM('Свод по датам'!DM5:DO5) -> 9 | AS16: =SUM('Свод по датам'!DP5:DR5) -> 0 | AT16: =SUM('Свод по датам'!DS5:DU5) -> 17.5 | AU16: =SUM('Свод по датам'!DV5:DX5) -> 25.5 | AV16: =SUM('Свод по датам'!DY5:EA5) -> 10.8 | AW16: =SUM('Свод по датам'!EB5:ED5) -> 6.8 | AX16: =SUM('Свод по датам'!EE5:EG5) -> 8.6 | AY16: =SUM('Свод по датам'!EH5:EJ5) -> 6.5 | AZ16: =SUM('Свод по датам'!EK5:EM5) -> 0 | BA16: =SUM('Свод по датам'!EN5:EP5) -> 0 | BB16: =SUM('Свод по датам'!EQ5:ES5) -> 0 | BC16: =SUM('Свод по датам'!ET5:EV5) -> 0 | BD16: =SUM('Свод по датам'!EW5:EY5) -> 0 | BE16: =SUM('Свод по датам'!EZ5:FB5) -> 0 | BF16: =SUM('Свод по датам'!FC5:FE5) -> 7 | BG16: =SUM('Свод по датам'!FF5:FH5) -> 8.2 | BH16: =SUM('Свод по датам'!FI5:FK5) -> 5 | BI16: =SUM('Свод по датам'!FL5:FN5) -> 0 | BJ16: =SUM('Свод по датам'!FO5:FQ5) -> 0 | BK16: =SUM('Свод по датам'!FR5:FT5) -> 0 | BL16: =SUM('Свод по датам'!FU5:FW5) -> 0 | BM16: =SUM('Свод по датам'!FX5:FZ5) -> 0 | BN16: =SUM('Свод по датам'!GA5:GC5) -> 0 | BO16: =SUM('Свод по датам'!GD5:GF5) -> 0 | BP16: =SUM('Свод по датам'!GG5:GI5) -> 0 | BQ16: =SUM('Свод по датам'!GJ5:GL5) -> 0 | BR16: =SUM('Свод по датам'!GM5:GO5) -> 0 | BS16: =SUM('Свод по датам'!GP5:GR5) -> 0 | BT16: =SUM('Свод по датам'!GS5:GU5) -> 0 | BU16: =SUM('Свод по датам'!GV5:GX5) -> 0 | BV16: =SUM('Свод по датам'!GY5:HA5) -> 0 | BW16: =SUM('Свод по датам'!HB5:HD5) -> 0 | BX16: =SUM('Свод по датам'!HE5:HG5) -> 0 | BY16: =SUM('Свод по датам'!HH5:HJ5) -> 0 | BZ16: =SUM('Свод по датам'!HK5:HM5) -> 0 | CA16: =SUM('Свод по датам'!HN5:HP5) -> 0 | CB16: =SUM('Свод по датам'!HQ5:HS5) -> 0 | CC16: =SUM('Свод по датам'!HT5:HV5) -> 0 | CD16: =SUM('Свод по датам'!HW5:HY5) -> 0 | CE16: =SUM('Свод по датам'!HZ5:IB5) -> 0 | CF16: =SUM('Свод по датам'!IC5:IE5) -> 0 | CG16: =SUM('Свод по датам'!IF5:IH5) -> 0 | CH16: =SUM('Свод по датам'!II5:IK5) -> 0 | CI16: =SUM('Свод по датам'!IL5:IN5) -> 0 | CJ16: =SUM('Свод по датам'!IO5:IQ5) -> 0 | CK16: =SUM('Свод по датам'!IR5:IT5) -> 0 | CL16: =SUM('Свод по датам'!IU5:IW5) -> 0 | CM16: =SUM('Свод по датам'!IX5:IZ5) -> 0 | CN16: =SUM('Свод по датам'!JA5:JC5) -> 0 | CO16: =SUM('Свод по датам'!JD5:JF5) -> 0 | CP16: =SUM('Свод по датам'!JG5:JI5) -> 0 | CQ16: =SUM('Свод по датам'!JJ5:JL5) -> 0 | CR16: =SUM('Свод по датам'!JM5:JO5) -> 0 | CS16: =SUM('Свод по датам'!JP5:JR5) -> 0 | CT16: =SUM('Свод по датам'!JS5:JU5) -> 0 | CU16: =SUM('Свод по датам'!JV5:JX5) -> 0 | CV16: =SUM(G16:CU16) -> 353.2
C17: Самойленко П.Г. | D17: КЗС-12А | E17: =CV17 -> 933.8 | F17: тонн | G17: =SUM('Свод по датам'!F6:H6)+SUM('Свод по датам'!F48:H48) -> 266.7 | H17: =SUM('Свод по датам'!I6:K6)+SUM('Свод по датам'!I48:K48) -> 0 | I17: =SUM('Свод по датам'!L6:N6)+SUM('Свод по датам'!L48:N48) -> 24.6 | J17: =SUM('Свод по датам'!O6:Q6)+SUM('Свод по датам'!O48:Q48) -> 26.7 | K17: =SUM('Свод по датам'!R6:T6)+SUM('Свод по датам'!R48:T48) -> 49.6 | L17: =SUM('Свод по датам'!U6:W6)+SUM('Свод по датам'!U48:W48) -> 25.8 | M17: =SUM('Свод по датам'!X6:Z6)+SUM('Свод по датам'!X48:Z48) -> 45.4 | N17: =SUM('Свод по датам'!AA6:AC6)+SUM('Свод по датам'!AA48:AC48) -> 44.5 | O17: =SUM('Свод по датам'!AD6:AF6)+SUM('Свод по датам'!AD48:AF48) -> 58.4 | P17: =SUM('Свод по датам'!AG6:AI6)+SUM('Свод по датам'!AG48:AI48) -> 104.7 | Q17: =SUM('Свод по датам'!AJ6:AL6)+SUM('Свод по датам'!AJ48:AL48) -> 33 | R17: =SUM('Свод по датам'!AM6:AO6)+SUM('Свод по датам'!AM48:AO48) -> 37.8 | S17: =SUM('Свод по датам'!AP6:AR6)+SUM('Свод по датам'!AP48:AR48) -> 0 | T17: =SUM('Свод по датам'!AS6:AU6)+SUM('Свод по датам'!AS48:AU48) -> 34.8 | U17: =SUM('Свод по датам'!AV6:AX6)+SUM('Свод по датам'!AV48:AX48) -> 57.4 | V17: =SUM('Свод по датам'!AY6:BA6)+SUM('Свод по датам'!AY48:BA48) -> 29.3 | W17: =SUM('Свод по датам'!BB6:BD6)+SUM('Свод по датам'!BB48:BD48) -> 95.1 | X17: =SUM('Свод по датам'!BE6:BG6)+SUM('Свод по датам'!BE48:BG48) -> 0 | Y17: =SUM('Свод по датам'!BH6:BJ6)+SUM('Свод по датам'!BH48:BJ48) -> 0 | Z17: =SUM('Свод по датам'!BK6:BM6)+SUM('Свод по датам'!BK48:BM48) -> 0 | AA17: =SUM('Свод по датам'!BN6:BP6)+SUM('Свод по датам'!BN48:BP48) -> 0 | AB17: =SUM('Свод по датам'!BQ6:BS6)+SUM('Свод по датам'!BQ48:BS48) -> 0 | AC17: =SUM('Свод по датам'!BT6:BV6)+SUM('Свод по датам'!BT48:BV48) -> 0 | AD17: =SUM('Свод по датам'!BW6:BY6)+SUM('Свод по датам'!BW48:BY48) -> 0 | AE17: =SUM('Свод по датам'!BZ6:CB6)+SUM('Свод по датам'!BZ48:CB48) -> 0 | AF17: =SUM('Свод по датам'!CC6:CE6)+SUM('Свод по датам'!CC48:CE48) -> 0 | AG17: =SUM('Свод по датам'!CF6:CH6)+SUM('Свод по датам'!CF48:CH48) -> 0 | AH17: =SUM('Свод по датам'!CI6:CK6)+SUM('Свод по датам'!CI48:CK48) -> 0 | AI17: =SUM('Свод по датам'!CL6:CN6)+SUM('Свод по датам'!CL48:CN48) -> 0 | AJ17: =SUM('Свод по датам'!CO6:CQ6)+SUM('Свод по датам'!CO48:CQ48) -> 0 | AK17: =SUM('Свод по датам'!CR6:CT6)+SUM('Свод по датам'!CR48:CT48) -> 0 | AL17: =SUM('Свод по датам'!CU6:CW6) -> 0 | AM17: =SUM('Свод по датам'!CX6:CZ6) -> 0 | AN17: =SUM('Свод по датам'!DA6:DC6) -> 0 | AO17: =SUM('Свод по датам'!DD6:DF6) -> 0 | AP17: =SUM('Свод по датам'!DG6:DI6) -> 0 | AQ17: =SUM('Свод по датам'!DJ6:DL6) -> 0 | AR17: =SUM('Свод по датам'!DM6:DO6) -> 0 | AS17: =SUM('Свод по датам'!DP6:DR6) -> 0 | AT17: =SUM('Свод по датам'!DS6:DU6) -> 0 | AU17: =SUM('Свод по датам'!DV6:DX6) -> 0 | AV17: =SUM('Свод по датам'!DY6:EA6) -> 0 | AW17: =SUM('Свод по датам'!EB6:ED6) -> 0 | AX17: =SUM('Свод по датам'!EE6:EG6) -> 0 | AY17: =SUM('Свод по датам'!EH6:EJ6) -> 0 | AZ17: =SUM('Свод по датам'!EK6:EM6) -> 0 | BA17: =SUM('Свод по датам'!EN6:EP6) -> 0 | BB17: =SUM('Свод по датам'!EQ6:ES6) -> 0 | BC17: =SUM('Свод по датам'!ET6:EV6) -> 0 | BD17: =SUM('Свод по датам'!EW6:EY6) -> 0 | BE17: =SUM('Свод по датам'!EZ6:FB6) -> 0 | BF17: =SUM('Свод по датам'!FC6:FE6) -> 0 | BG17: =SUM('Свод по датам'!FF6:FH6) -> 0 | BH17: =SUM('Свод по датам'!FI6:FK6) -> 0 | BI17: =SUM('Свод по датам'!FL6:FN6) -> 0 | BJ17: =SUM('Свод по датам'!FO6:FQ6) -> 0 | BK17: =SUM('Свод по датам'!FR6:FT6) -> 0 | BL17: =SUM('Свод по датам'!FU6:FW6) -> 0 | BM17: =SUM('Свод по датам'!FX6:FZ6) -> 0 | BN17: =SUM('Свод по датам'!GA6:GC6) -> 0 | BO17: =SUM('Свод по датам'!GD6:GF6) -> 0 | BP17: =SUM('Свод по датам'!GG6:GI6) -> 0 | BQ17: =SUM('Свод по датам'!GJ6:GL6) -> 0 | BR17: =SUM('Свод по датам'!GM6:GO6) -> 0 | BS17: =SUM('Свод по датам'!GP6:GR6) -> 0 | BT17: =SUM('Свод по датам'!GS6:GU6) -> 0 | BU17: =SUM('Свод по датам'!GV6:GX6) -> 0 | BV17: =SUM('Свод по датам'!GY6:HA6) -> 0 | BW17: =SUM('Свод по датам'!HB6:HD6) -> 0 | BX17: =SUM('Свод по датам'!HE6:HG6) -> 0 | BY17: =SUM('Свод по датам'!HH6:HJ6) -> 0 | BZ17: =SUM('Свод по датам'!HK6:HM6) -> 0 | CA17: =SUM('Свод по датам'!HN6:HP6) -> 0 | CB17: =SUM('Свод по датам'!HQ6:HS6) -> 0 | CC17: =SUM('Свод по датам'!HT6:HV6) -> 0 | CD17: =SUM('Свод по датам'!HW6:HY6) -> 0 | CE17: =SUM('Свод по датам'!HZ6:IB6) -> 0 | CF17: =SUM('Свод по датам'!IC6:IE6) -> 0 | CG17: =SUM('Свод по датам'!IF6:IH6) -> 0 | CH17: =SUM('Свод по датам'!II6:IK6) -> 0 | CI17: =SUM('Свод по датам'!IL6:IN6) -> 0 | CJ17: =SUM('Свод по датам'!IO6:IQ6) -> 0 | CK17: =SUM('Свод по датам'!IR6:IT6) -> 0 | CL17: =SUM('Свод по датам'!IU6:IW6) -> 0 | CM17: =SUM('Свод по датам'!IX6:IZ6) -> 0 | CN17: =SUM('Свод по датам'!JA6:JC6) -> 0 | CO17: =SUM('Свод по датам'!JD6:JF6) -> 0 | CP17: =SUM('Свод по датам'!JG6:JI6) -> 0 | CQ17: =SUM('Свод по датам'!JJ6:JL6) -> 0 | CR17: =SUM('Свод по датам'!JM6:JO6) -> 0 | CS17: =SUM('Свод по датам'!JP6:JR6) -> 0 | CT17: =SUM('Свод по датам'!JS6:JU6) -> 0 | CU17: =SUM('Свод по датам'!JV6:JX6) -> 0 | CV17: =SUM(G17:CU17) -> 933.8
A18: =G17/(G17+0.001)+H17/(H17+0.001)+K17/(K17+0.001)+L17/(L17+0.001)+M17/(M17+0.001)+N17/(N17+0.001)+O17/(O17+0.001)+P17/(P17+0.001)+Q17/(Q17+0.001)+R17/(R17+0.001)+T17/(T17+0.001)+I17/(I17+0.001)+U17/(U17+0.001)+V17/(V17+0.001)+X17/(X17+0.001)+J17/(J17+0.001)+W17/(W17+0.001)+Y17/(Y17+0.001)+Z17/(Z17+0.001)+AA17/(AA17+0.001)+AB17/(AB17+0.001)+AC17/(AC17+0.001)+AD17/(AD17+0.001)+AE17/(AE17+0.001)+AF17/(AF17+0.001)+AG17/(AG17+0.001)+AH17/(AH17+0.001)+AI17/(AI17+0.001)+AJ17/(AJ17+0.001)+AK17/(AK17+0.001)+AL17/(AL17+0.001)+AM17/(AM17+0.001)+AN17/(AN17+0.001)+AO17/(AO17+0.001)+AP17/(AP17+0.001)+AQ17/(AQ17+0.001)+AR17/(AR17+0.001)+AS17/(AS17+0.001)+AT17/(AT17+0.001)+AU17/(AU17+0.001)+AV17/(AV17+0.001)+AW17/(AW17+0.001)+AX17/(AX17+0.001)+AY17/(AY17+0.001)+AZ17/(AZ17+0.001)+BA17/(BA17+0.001)+BB17/(BB17+0.001)+BC17/(BC17+0.001)+BD17/(BD17+0.001)+BE17/(BE17+0.001)+BF17/(BF17+0.001)+BG17/(BG17+0.001)+BH17/(BH17+0.001)+BI17/(BI17+0.001)+BJ17/(BJ17+0.001)+BK17/(BK17+0.001)+BL17/(BL17+0.001)+BM17/(BM17+0.001)+BN17/(BN17+0.001)+BO17/(BO17+0.001)+BP17/(BP17+0.001)+BQ17/(BQ17+0.001) -> 14.999641 | C18: Варганов Андрей Николаевич | D18: 9848 | E18: =CV18 -> 361.4 | F18: га | G18: =SUM('Свод по датам'!F7:H7)+SUM('Свод по датам'!F49:H49) -> 114.8 | H18: =SUM('Свод по датам'!I7:K7)+SUM('Свод по датам'!I49:K49) -> 0 | I18: =SUM('Свод по датам'!L7:N7)+SUM('Свод по датам'!L49:N49) -> 30.7 | J18: =SUM('Свод по датам'!O7:Q7)+SUM('Свод по датам'!O49:Q49) -> 8.9 | K18: =SUM('Свод по датам'!R7:T7)+SUM('Свод по датам'!R49:T49) -> 16.5 | L18: =SUM('Свод по датам'!U7:W7)+SUM('Свод по датам'!U49:W49) -> 11.7 | M18: =SUM('Свод по датам'!X7:Z7)+SUM('Свод по датам'!X49:Z49) -> 20.6 | N18: =SUM('Свод по датам'!AA7:AC7)+SUM('Свод по датам'!AA49:AC49) -> 15.6 | O18: =SUM('Свод по датам'!AD7:AF7)+SUM('Свод по датам'!AD49:AF49) -> 17.7 | P18: =SUM('Свод по датам'!AG7:AI7)+SUM('Свод по датам'!AG49:AI49) -> 29.9 | Q18: =SUM('Свод по датам'!AJ7:AL7)+SUM('Свод по датам'!AJ49:AL49) -> 9.4 | R18: =SUM('Свод по датам'!AM7:AO7)+SUM('Свод по датам'!AM49:AO49) -> 8.6 | S18: =SUM('Свод по датам'!AP7:AR7)+SUM('Свод по датам'!AP49:AR49) -> 0 | T18: =SUM('Свод по датам'!AS7:AU7)+SUM('Свод по датам'!AS49:AU49) -> 12.5 | U18: =SUM('Свод по датам'!AV7:AX7)+SUM('Свод по датам'!AV49:AX49) -> 20 | V18: =SUM('Свод по датам'!AY7:BA7)+SUM('Свод по датам'!AY49:BA49) -> 10.4 | W18: =SUM('Свод по датам'!BB7:BD7)+SUM('Свод по датам'!BB49:BD49) -> 34.1 | X18: =SUM('Свод по датам'!BE7:BG7)+SUM('Свод по датам'!BE49:BG49) -> 0 | Y18: =SUM('Свод по датам'!BH7:BJ7)+SUM('Свод по датам'!BH49:BJ49) -> 0 | Z18: =SUM('Свод по датам'!BK7:BM7)+SUM('Свод по датам'!BK49:BM49) -> 0 | AA18: =SUM('Свод по датам'!BN7:BP7)+SUM('Свод по датам'!BN49:BP49) -> 0 | AB18: =SUM('Свод по датам'!BQ7:BS7)+SUM('Свод по датам'!BQ49:BS49) -> 0 | AC18: =SUM('Свод по датам'!BT7:BV7)+SUM('Свод по датам'!BT49:BV49) -> 0 | AD18: =SUM('Свод по датам'!BW7:BY7)+SUM('Свод по датам'!BW49:BY49) -> 0 | AE18: =SUM('Свод по датам'!BZ7:CB7)+SUM('Свод по датам'!BZ49:CB49) -> 0 | AF18: =SUM('Свод по датам'!CC7:CE7)+SUM('Свод по датам'!CC49:CE49) -> 0 | AG18: =SUM('Свод по датам'!CF7:CH7)+SUM('Свод по датам'!CF49:CH49) -> 0 | AH18: =SUM('Свод по датам'!CI7:CK7)+SUM('Свод по датам'!CI49:CK49) -> 0 | AI18: =SUM('Свод по датам'!CL7:CN7)+SUM('Свод по датам'!CL49:CN49) -> 0 | AJ18: =SUM('Свод по датам'!CO7:CQ7)+SUM('Свод по датам'!CO49:CQ49) -> 0 | AK18: =SUM('Свод по датам'!CR7:CT7)+SUM('Свод по датам'!CR49:CT49) -> 0 | AL18: =SUM('Свод по датам'!CU7:CW7) -> 0 | AM18: =SUM('Свод по датам'!CX7:CZ7) -> 0 | AN18: =SUM('Свод по датам'!DA7:DC7) -> 0 | AO18: =SUM('Свод по датам'!DD7:DF7) -> 0 | AP18: =SUM('Свод по датам'!DG7:DI7) -> 0 | AQ18: =SUM('Свод по датам'!DJ7:DL7) -> 0 | AR18: =SUM('Свод по датам'!DM7:DO7) -> 0 | AS18: =SUM('Свод по датам'!DP7:DR7) -> 0 | AT18: =SUM('Свод по датам'!DS7:DU7) -> 0 | AU18: =SUM('Свод по датам'!DV7:DX7) -> 0 | AV18: =SUM('Свод по датам'!DY7:EA7) -> 0 | AW18: =SUM('Свод по датам'!EB7:ED7) -> 0 | AX18: =SUM('Свод по датам'!EE7:EG7) -> 0 | AY18: =SUM('Свод по датам'!EH7:EJ7) -> 0 | AZ18: =SUM('Свод по датам'!EK7:EM7) -> 0 | BA18: =SUM('Свод по датам'!EN7:EP7) -> 0 | BB18: =SUM('Свод по датам'!EQ7:ES7) -> 0 | BC18: =SUM('Свод по датам'!ET7:EV7) -> 0 | BD18: =SUM('Свод по датам'!EW7:EY7) -> 0 | BE18: =SUM('Свод по датам'!EZ7:FB7) -> 0 | BF18: =SUM('Свод по датам'!FC7:FE7) -> 0 | BG18: =SUM('Свод по датам'!FF7:FH7) -> 0 | BH18: =SUM('Свод по датам'!FI7:FK7) -> 0 | BI18: =SUM('Свод по датам'!FL7:FN7) -> 0 | BJ18: =SUM('Свод по датам'!FO7:FQ7) -> 0 | BK18: =SUM('Свод по датам'!FR7:FT7) -> 0 | BL18: =SUM('Свод по датам'!FU7:FW7) -> 0 | BM18: =SUM('Свод по датам'!FX7:FZ7) -> 0 | BN18: =SUM('Свод по датам'!GA7:GC7) -> 0 | BO18: =SUM('Свод по датам'!GD7:GF7) -> 0 | BP18: =SUM('Свод по датам'!GG7:GI7) -> 0 | BQ18: =SUM('Свод по датам'!GJ7:GL7) -> 0 | BR18: =SUM('Свод по датам'!GM7:GO7) -> 0 | BS18: =SUM('Свод по датам'!GP7:GR7) -> 0 | BT18: =SUM('Свод по датам'!GS7:GU7) -> 0 | BU18: =SUM('Свод по датам'!GV7:GX7) -> 0 | BV18: =SUM('Свод по датам'!GY7:HA7) -> 0 | BW18: =SUM('Свод по датам'!HB7:HD7) -> 0 | BX18: =SUM('Свод по датам'!HE7:HG7) -> 0 | BY18: =SUM('Свод по датам'!HH7:HJ7) -> 0 | BZ18: =SUM('Свод по датам'!HK7:HM7) -> 0 | CA18: =SUM('Свод по датам'!HN7:HP7) -> 0 | CB18: =SUM('Свод по датам'!HQ7:HS7) -> 0 | CC18: =SUM('Свод по датам'!HT7:HV7) -> 0 | CD18: =SUM('Свод по датам'!HW7:HY7) -> 0 | CE18: =SUM('Свод по датам'!HZ7:IB7) -> 0 | CF18: =SUM('Свод по датам'!IC7:IE7) -> 0 | CG18: =SUM('Свод по датам'!IF7:IH7) -> 0 | CH18: =SUM('Свод по датам'!II7:IK7) -> 0 | CI18: =SUM('Свод по датам'!IL7:IN7) -> 0 | CJ18: =SUM('Свод по датам'!IO7:IQ7) -> 0 | CK18: =SUM('Свод по датам'!IR7:IT7) -> 0 | CL18: =SUM('Свод по датам'!IU7:IW7) -> 0 | CM18: =SUM('Свод по датам'!IX7:IZ7) -> 0 | CN18: =SUM('Свод по датам'!JA7:JC7) -> 0 | CO18: =SUM('Свод по датам'!JD7:JF7) -> 0 | CP18: =SUM('Свод по датам'!JG7:JI7) -> 0 | CQ18: =SUM('Свод по датам'!JJ7:JL7) -> 0 | CR18: =SUM('Свод по датам'!JM7:JO7) -> 0 | CS18: =SUM('Свод по датам'!JP7:JR7) -> 0 | CT18: =SUM('Свод по датам'!JS7:JU7) -> 0 | CU18: =SUM('Свод по датам'!JV7:JX7) -> 0 | CV18: =SUM(G18:CU18) -> 361.4
C19: Белоусов Сергей Викторович | D19: КЗС-12 | E19: =CV19 -> 2106.9 | F19: тонн | G19: =SUM('Свод по датам'!F8:H8)+SUM('Свод по датам'!F50:H50) -> 259.7 | H19: =SUM('Свод по датам'!I8:K8)+SUM('Свод по датам'!I50:K50) -> 0 | I19: =SUM('Свод по датам'!L8:N8)+SUM('Свод по датам'!L50:N50) -> 23.9 | J19: =SUM('Свод по датам'!O8:Q8)+SUM('Свод по датам'!O50:Q50) -> 26.8 | K19: =SUM('Свод по датам'!R8:T8)+SUM('Свод по датам'!R50:T50) -> 38.1 | L19: =SUM('Свод по датам'!U8:W8)+SUM('Свод по датам'!U50:W50) -> 33.1 | M19: =SUM('Свод по датам'!X8:Z8)+SUM('Свод по датам'!X50:Z50) -> 43.1 | N19: =SUM('Свод по датам'!AA8:AC8)+SUM('Свод по датам'!AA50:AC50) -> 46 | O19: =SUM('Свод по датам'!AD8:AF8)+SUM('Свод по датам'!AD50:AF50) -> 57.3 | P19: =SUM('Свод по датам'!AG8:AI8)+SUM('Свод по датам'!AG50:AI50) -> 104.2 | Q19: =SUM('Свод по датам'!AJ8:AL8)+SUM('Свод по датам'!AJ50:AL50) -> 70.4 | R19: =SUM('Свод по датам'!AM8:AO8)+SUM('Свод по датам'!AM50:AO50) -> 34.7 | S19: =SUM('Свод по датам'!AP8:AR8)+SUM('Свод по датам'!AP50:AR50) -> 63.9 | T19: =SUM('Свод по датам'!AS8:AU8)+SUM('Свод по датам'!AS50:AU50) -> 35.7 | U19: =SUM('Свод по датам'!AV8:AX8)+SUM('Свод по датам'!AV50:AX50) -> 74.9 | V19: =SUM('Свод по датам'!AY8:BA8)+SUM('Свод по датам'!AY50:BA50) -> 30.7 | W19: =SUM('Свод по датам'!BB8:BD8)+SUM('Свод по датам'!BB50:BD50) -> 108.5 | X19: =SUM('Свод по датам'!BE8:BG8)+SUM('Свод по датам'!BE50:BG50) -> 43.6 | Y19: =SUM('Свод по датам'!BH8:BJ8)+SUM('Свод по датам'!BH50:BJ50) -> 8.2 | Z19: =SUM('Свод по датам'!BK8:BM8)+SUM('Свод по датам'!BK50:BM50) -> 0 | AA19: =SUM('Свод по датам'!BN8:BP8)+SUM('Свод по датам'!BN50:BP50) -> 70.3 | AB19: =SUM('Свод по датам'!BQ8:BS8)+SUM('Свод по датам'!BQ50:BS50) -> 74 | AC19: =SUM('Свод по датам'!BT8:BV8)+SUM('Свод по датам'!BT50:BV50) -> 24 | AD19: =SUM('Свод по датам'!BW8:BY8)+SUM('Свод по датам'!BW50:BY50) -> 47.2 | AE19: =SUM('Свод по датам'!BZ8:CB8)+SUM('Свод по датам'!BZ50:CB50) -> 70 | AF19: =SUM('Свод по датам'!CC8:CE8)+SUM('Свод по датам'!CC50:CE50) -> 61.3 | AG19: =SUM('Свод по датам'!CF8:CH8)+SUM('Свод по датам'!CF50:CH50) -> 75.4 | AH19: =SUM('Свод по датам'!CI8:CK8)+SUM('Свод по датам'!CI50:CK50) -> 45.6 | AI19: =SUM('Свод по датам'!CL8:CN8)+SUM('Свод по датам'!CL50:CN50) -> 91.4 | AJ19: =SUM('Свод по датам'!CO8:CQ8)+SUM('Свод по датам'!CO50:CQ50) -> 0 | AK19: =SUM('Свод по датам'!CR8:CT8)+SUM('Свод по датам'!CR50:CT50) -> 0 | AL19: =SUM('Свод по датам'!CU8:CW8) -> 2.2 | AM19: =SUM('Свод по датам'!CX8:CZ8) -> 46.8 | AN19: =SUM('Свод по датам'!DA8:DC8) -> 43 | AO19: =SUM('Свод по датам'!DD8:DF8) -> 22 | AP19: =SUM('Свод по датам'!DG8:DI8) -> 38.5 | AQ19: =SUM('Свод по датам'!DJ8:DL8) -> 59.3 | AR19: =SUM('Свод по датам'!DM8:DO8) -> 26.4 | AS19: =SUM('Свод по датам'!DP8:DR8) -> 0 | AT19: =SUM('Свод по датам'!DS8:DU8) -> 32 | AU19: =SUM('Свод по датам'!DV8:DX8) -> 54.7 | AV19: =SUM('Свод по датам'!DY8:EA8) -> 29.2 | AW19: =SUM('Свод по датам'!EB8:ED8) -> 26.2 | AX19: =SUM('Свод по датам'!EE8:EG8) -> 25.4 | AY19: =SUM('Свод по датам'!EH8:EJ8) -> 25.3 | AZ19: =SUM('Свод по датам'!EK8:EM8) -> 0 | BA19: =SUM('Свод по датам'!EN8:EP8) -> 0 | BB19: =SUM('Свод по датам'!EQ8:ES8) -> 0 | BC19: =SUM('Свод по датам'!ET8:EV8) -> 0 | BD19: =SUM('Свод по датам'!EW8:EY8) -> 0 | BE19: =SUM('Свод по датам'!EZ8:FB8) -> 0 | BF19: =SUM('Свод по датам'!FC8:FE8) -> 9.3 | BG19: =SUM('Свод по датам'!FF8:FH8) -> 4.6 | BH19: =SUM('Свод по датам'!FI8:FK8) -> 0 | BI19: =SUM('Свод по датам'!FL8:FN8) -> 0 | BJ19: =SUM('Свод по датам'!FO8:FQ8) -> 0 | BK19: =SUM('Свод по датам'!FR8:FT8) -> 0 | BL19: =SUM('Свод по датам'!FU8:FW8) -> 0 | BM19: =SUM('Свод по датам'!FX8:FZ8) -> 0 | BN19: =SUM('Свод по датам'!GA8:GC8) -> 0 | BO19: =SUM('Свод по датам'!GD8:GF8) -> 0 | BP19: =SUM('Свод по датам'!GG8:GI8) -> 0 | BQ19: =SUM('Свод по датам'!GJ8:GL8) -> 0 | BR19: =SUM('Свод по датам'!GM8:GO8) -> 0 | BS19: =SUM('Свод по датам'!GP8:GR8) -> 0 | BT19: =SUM('Свод по датам'!GS8:GU8) -> 0 | BU19: =SUM('Свод по датам'!GV8:GX8) -> 0 | BV19: =SUM('Свод по датам'!GY8:HA8) -> 0 | BW19: =SUM('Свод по датам'!HB8:HD8) -> 0 | BX19: =SUM('Свод по датам'!HE8:HG8) -> 0 | BY19: =SUM('Свод по датам'!HH8:HJ8) -> 0 | BZ19: =SUM('Свод по датам'!HK8:HM8) -> 0 | CA19: =SUM('Свод по датам'!HN8:HP8) -> 0 | CB19: =SUM('Свод по датам'!HQ8:HS8) -> 0 | CC19: =SUM('Свод по датам'!HT8:HV8) -> 0 | CD19: =SUM('Свод по датам'!HW8:HY8) -> 0 | CE19: =SUM('Свод по датам'!HZ8:IB8) -> 0 | CF19: =SUM('Свод по датам'!IC8:IE8) -> 0 | CG19: =SUM('Свод по датам'!IF8:IH8) -> 0 | CH19: =SUM('Свод по датам'!II8:IK8) -> 0 | CI19: =SUM('Свод по датам'!IL8:IN8) -> 0 | CJ19: =SUM('Свод по датам'!IO8:IQ8) -> 0 | CK19: =SUM('Свод по датам'!IR8:IT8) -> 0 | CL19: =SUM('Свод по датам'!IU8:IW8) -> 0 | CM19: =SUM('Свод по датам'!IX8:IZ8) -> 0 | CN19: =SUM('Свод по датам'!JA8:JC8) -> 0 | CO19: =SUM('Свод по датам'!JD8:JF8) -> 0 | CP19: =SUM('Свод по датам'!JG8:JI8) -> 0 | CQ19: =SUM('Свод по датам'!JJ8:JL8) -> 0 | CR19: =SUM('Свод по датам'!JM8:JO8) -> 0 | CS19: =SUM('Свод по датам'!JP8:JR8) -> 0 | CT19: =SUM('Свод по датам'!JS8:JU8) -> 0 | CU19: =SUM('Свод по датам'!JV8:JX8) -> 0 | CV19: =SUM(G19:CU19) -> 2106.9
A20: =G19/(G19+0.001)+H19/(H19+0.001)+K19/(K19+0.001)+L19/(L19+0.001)+M19/(M19+0.001)+N19/(N19+0.001)+O19/(O19+0.001)+P19/(P19+0.001)+Q19/(Q19+0.001)+R19/(R19+0.001)+T19/(T19+0.001)+I19/(I19+0.001)+U19/(U19+0.001)+V19/(V19+0.001)+X19/(X19+0.001)+J19/(J19+0.001)+W19/(W19+0.001)+Y19/(Y19+0.001)+Z19/(Z19+0.001)+AA19/(AA19+0.001)+AB19/(AB19+0.001)+AC19/(AC19+0.001)+AD19/(AD19+0.001)+AE19/(AE19+0.001)+AF19/(AF19+0.001)+AG19/(AG19+0.001)+AH19/(AH19+0.001)+AI19/(AI19+0.001)+AJ19/(AJ19+0.001)+AK19/(AK19+0.001)+AL19/(AL19+0.001)+AM19/(AM19+0.001)+AN19/(AN19+0.001)+AO19/(AO19+0.001)+AP19/(AP19+0.001)+AQ19/(AQ19+0.001)+AR19/(AR19+0.001)+AS19/(AS19+0.001)+AT19/(AT19+0.001)+AU19/(AU19+0.001)+AV19/(AV19+0.001)+AW19/(AW19+0.001)+AX19/(AX19+0.001)+AY19/(AY19+0.001)+AZ19/(AZ19+0.001)+BA19/(BA19+0.001)+BB19/(BB19+0.001)+BC19/(BC19+0.001)+BD19/(BD19+0.001)+BE19/(BE19+0.001)+BF19/(BF19+0.001)+BG19/(BG19+0.001)+BH19/(BH19+0.001)+BI19/(BI19+0.001)+BJ19/(BJ19+0.001)+BK19/(BK19+0.001)+BL19/(BL19+0.001)+BM19/(BM19+0.001)+BN19/(BN19+0.001)+BO19/(BO19+0.001)+BP19/(BP19+0.001)+BQ19/(BQ19+0.001) -> 40.998199 | C20: Белоусов Александр Владимирович | D20: 9847 | E20: =CV20 -> 828.4 | F20: га | G20: =SUM('Свод по датам'!F9:H9)+SUM('Свод по датам'!F51:H51) -> 111.6 | H20: =SUM('Свод по датам'!I9:K9)+SUM('Свод по датам'!I51:K51) -> 0 | I20: =SUM('Свод по датам'!L9:N9)+SUM('Свод по датам'!L51:N51) -> 29.8 | J20: =SUM('Свод по датам'!O9:Q9)+SUM('Свод по датам'!O51:Q51) -> 8.9 | K20: =SUM('Свод по датам'!R9:T9)+SUM('Свод по датам'!R51:T51) -> 12.7 | L20: =SUM('Свод по датам'!U9:W9)+SUM('Свод по датам'!U51:W51) -> 15 | M20: =SUM('Свод по датам'!X9:Z9)+SUM('Свод по датам'!X51:Z51) -> 19.5 | N20: =SUM('Свод по датам'!AA9:AC9)+SUM('Свод по датам'!AA51:AC51) -> 16.3 | O20: =SUM('Свод по датам'!AD9:AF9)+SUM('Свод по датам'!AD51:AF51) -> 17.3 | P20: =SUM('Свод по датам'!AG9:AI9)+SUM('Свод по датам'!AG51:AI51) -> 29.7 | Q20: =SUM('Свод по датам'!AJ9:AL9)+SUM('Свод по датам'!AJ51:AL51) -> 40.6 | R20: =SUM('Свод по датам'!AM9:AO9)+SUM('Свод по датам'!AM51:AO51) -> 7.8 | S20: =SUM('Свод по датам'!AP9:AR9)+SUM('Свод по датам'!AP51:AR51) -> 23 | T20: =SUM('Свод по датам'!AS9:AU9)+SUM('Свод по датам'!AS51:AU51) -> 13 | U20: =SUM('Свод по датам'!AV9:AX9)+SUM('Свод по датам'!AV51:AX51) -> 26.5 | V20: =SUM('Свод по датам'!AY9:BA9)+SUM('Свод по датам'!AY51:BA51) -> 10.6 | W20: =SUM('Свод по датам'!BB9:BD9)+SUM('Свод по датам'!BB51:BD51) -> 38.5 | X20: =SUM('Свод по датам'!BE9:BG9)+SUM('Свод по датам'!BE51:BG51) -> 15 | Y20: =SUM('Свод по датам'!BH9:BJ9)+SUM('Свод по датам'!BH51:BJ51) -> 1.5 | Z20: =SUM('Свод по датам'!BK9:BM9)+SUM('Свод по датам'!BK51:BM51) -> 0 | AA20: =SUM('Свод по датам'!BN9:BP9)+SUM('Свод по датам'!BN51:BP51) -> 25 | AB20: =SUM('Свод по датам'!BQ9:BS9)+SUM('Свод по датам'!BQ51:BS51) -> 26 | AC20: =SUM('Свод по датам'!BT9:BV9)+SUM('Свод по датам'!BT51:BV51) -> 10 | AD20: =SUM('Свод по датам'!BW9:BY9)+SUM('Свод по датам'!BW51:BY51) -> 19.7 | AE20: =SUM('Свод по датам'!BZ9:CB9)+SUM('Свод по датам'!BZ51:CB51) -> 29 | AF20: =SUM('Свод по датам'!CC9:CE9)+SUM('Свод по датам'!CC51:CE51) -> 22 | AG20: =SUM('Свод по датам'!CF9:CH9)+SUM('Свод по датам'!CF51:CH51) -> 22 | AH20: =SUM('Свод по датам'!CI9:CK9)+SUM('Свод по датам'!CI51:CK51) -> 20.1 | AI20: =SUM('Свод по датам'!CL9:CN9)+SUM('Свод по датам'!CL51:CN51) -> 33 | AJ20: =SUM('Свод по датам'!CO9:CQ9)+SUM('Свод по датам'!CO51:CQ51) -> 0 | AK20: =SUM('Свод по датам'!CR9:CT9)+SUM('Свод по датам'!CR51:CT51) -> 0 | AL20: =SUM('Свод по датам'!CU9:CW9) -> 0.8 | AM20: =SUM('Свод по датам'!CX9:CZ9) -> 16.5 | AN20: =SUM('Свод по датам'!DA9:DC9) -> 16.5 | AO20: =SUM('Свод по датам'!DD9:DF9) -> 9 | AP20: =SUM('Свод по датам'!DG9:DI9) -> 14.5 | AQ20: =SUM('Свод по датам'!DJ9:DL9) -> 21 | AR20: =SUM('Свод по датам'!DM9:DO9) -> 9 | AS20: =SUM('Свод по датам'!DP9:DR9) -> 0 | AT20: =SUM('Свод по датам'!DS9:DU9) -> 16 | AU20: =SUM('Свод по датам'!DV9:DX9) -> 28 | AV20: =SUM('Свод по датам'!DY9:EA9) -> 12.1 | AW20: =SUM('Свод по датам'!EB9:ED9) -> 5 | AX20: =SUM('Свод по датам'!EE9:EG9) -> 12.4 | AY20: =SUM('Свод по датам'!EH9:EJ9) -> 7.5 | AZ20: =SUM('Свод по датам'!EK9:EM9) -> 0 | BA20: =SUM('Свод по датам'!EN9:EP9) -> 0 | BB20: =SUM('Свод по датам'!EQ9:ES9) -> 0 | BC20: =SUM('Свод по датам'!ET9:EV9) -> 0 | BD20: =SUM('Свод по датам'!EW9:EY9) -> 0 | BE20: =SUM('Свод по датам'!EZ9:FB9) -> 0 | BF20: =SUM('Свод по датам'!FC9:FE9) -> 13.5 | BG20: =SUM('Свод по датам'!FF9:FH9) -> 2.5 | BH20: =SUM('Свод по датам'!FI9:FK9) -> 0 | BI20: =SUM('Свод по датам'!FL9:FN9) -> 0 | BJ20: =SUM('Свод по датам'!FO9:FQ9) -> 0 | BK20: =SUM('Свод по датам'!FR9:FT9) -> 0 | BL20: =SUM('Свод по датам'!FU9:FW9) -> 0 | BM20: =SUM('Свод по датам'!FX9:FZ9) -> 0 | BN20: =SUM('Свод по датам'!GA9:GC9) -> 0 | BO20: =SUM('Свод по датам'!GD9:GF9) -> 0 | BP20: =SUM('Свод по датам'!GG9:GI9) -> 0 | BQ20: =SUM('Свод по датам'!GJ9:GL9) -> 0 | BR20: =SUM('Свод по датам'!GM9:GO9) -> 0 | BS20: =SUM('Свод по датам'!GP9:GR9) -> 0 | BT20: =SUM('Свод по датам'!GS9:GU9) -> 0 | BU20: =SUM('Свод по датам'!GV9:GX9) -> 0 | BV20: =SUM('Свод по датам'!GY9:HA9) -> 0 | BW20: =SUM('Свод по датам'!HB9:HD9) -> 0 | BX20: =SUM('Свод по датам'!HE9:HG9) -> 0 | BY20: =SUM('Свод по датам'!HH9:HJ9) -> 0 | BZ20: =SUM('Свод по датам'!HK9:HM9) -> 0 | CA20: =SUM('Свод по датам'!HN9:HP9) -> 0 | CB20: =SUM('Свод по датам'!HQ9:HS9) -> 0 | CC20: =SUM('Свод по датам'!HT9:HV9) -> 0 | CD20: =SUM('Свод по датам'!HW9:HY9) -> 0 | CE20: =SUM('Свод по датам'!HZ9:IB9) -> 0 | CF20: =SUM('Свод по датам'!IC9:IE9) -> 0 | CG20: =SUM('Свод по датам'!IF9:IH9) -> 0 | CH20: =SUM('Свод по датам'!II9:IK9) -> 0 | CI20: =SUM('Свод по датам'!IL9:IN9) -> 0 | CJ20: =SUM('Свод по датам'!IO9:IQ9) -> 0 | CK20: =SUM('Свод по датам'!IR9:IT9) -> 0 | CL20: =SUM('Свод по датам'!IU9:IW9) -> 0 | CM20: =SUM('Свод по датам'!IX9:IZ9) -> 0 | CN20: =SUM('Свод по датам'!JA9:JC9) -> 0 | CO20: =SUM('Свод по датам'!JD9:JF9) -> 0 | CP20: =SUM('Свод по датам'!JG9:JI9) -> 0 | CQ20: =SUM('Свод по датам'!JJ9:JL9) -> 0 | CR20: =SUM('Свод по датам'!JM9:JO9) -> 0 | CS20: =SUM('Свод по датам'!JP9:JR9) -> 0 | CT20: =SUM('Свод по датам'!JS9:JU9) -> 0 | CU20: =SUM('Свод по датам'!JV9:JX9) -> 0 | CV20: =SUM(G20:CU20) -> 828.4
C21: Чуянов П.А. | D21: КЗС-10К | E21: =CV21 -> 307.6 | F21: тонн | G21: =SUM('Свод по датам'!F10:H10)+SUM('Свод по датам'!F52:H52) -> 0 | H21: =SUM('Свод по датам'!I10:K10)+SUM('Свод по датам'!I52:K52) -> 0 | I21: =SUM('Свод по датам'!L10:N10)+SUM('Свод по датам'!L52:N52) -> 0 | J21: =SUM('Свод по датам'!O10:Q10)+SUM('Свод по датам'!O52:Q52) -> 0 | K21: =SUM('Свод по датам'!R10:T10)+SUM('Свод по датам'!R52:T52) -> 0 | L21: =SUM('Свод по датам'!U10:W10)+SUM('Свод по датам'!U52:W52) -> 0 | M21: =SUM('Свод по датам'!X10:Z10)+SUM('Свод по датам'!X52:Z52) -> 0 | N21: =SUM('Свод по датам'!AA10:AC10)+SUM('Свод по датам'!AA52:AC52) -> 0 | O21: =SUM('Свод по датам'!AD10:AF10)+SUM('Свод по датам'!AD52:AF52) -> 0 | P21: =SUM('Свод по датам'!AG10:AI10)+SUM('Свод по датам'!AG52:AI52) -> 0 | Q21: =SUM('Свод по датам'!AJ10:AL10)+SUM('Свод по датам'!AJ52:AL52) -> 0 | R21: =SUM('Свод по датам'!AM10:AO10)+SUM('Свод по датам'!AM52:AO52) -> 0 | S21: =SUM('Свод по датам'!AP10:AR10)+SUM('Свод по датам'!AP52:AR52) -> 0 | T21: =SUM('Свод по датам'!AS10:AU10)+SUM('Свод по датам'!AS52:AU52) -> 0 | U21: =SUM('Свод по датам'!AV10:AX10)+SUM('Свод по датам'!AV52:AX52) -> 0 | V21: =SUM('Свод по датам'!AY10:BA10)+SUM('Свод по датам'!AY52:BA52) -> 0 | W21: =SUM('Свод по датам'!BB10:BD10)+SUM('Свод по датам'!BB52:BD52) -> 0 | X21: =SUM('Свод по датам'!BE10:BG10)+SUM('Свод по датам'!BE52:BG52) -> 0 | Y21: =SUM('Свод по датам'!BH10:BJ10)+SUM('Свод по датам'!BH52:BJ52) -> 0 | Z21: =SUM('Свод по датам'!BK10:BM10)+SUM('Свод по датам'!BK52:BM52) -> 0 | AA21: =SUM('Свод по датам'!BN10:BP10)+SUM('Свод по датам'!BN52:BP52) -> 0 | AB21: =SUM('Свод по датам'!BQ10:BS10)+SUM('Свод по датам'!BQ52:BS52) -> 31.3 | AC21: =SUM('Свод по датам'!BT10:BV10)+SUM('Свод по датам'!BT52:BV52) -> 10.6 | AD21: =SUM('Свод по датам'!BW10:BY10)+SUM('Свод по датам'!BW52:BY52) -> 46 | AE21: =SUM('Свод по датам'!BZ10:CB10)+SUM('Свод по датам'!BZ52:CB52) -> 25.3 | AF21: =SUM('Свод по датам'!CC10:CE10)+SUM('Свод по датам'!CC52:CE52) -> 42.8 | AG21: =SUM('Свод по датам'!CF10:CH10)+SUM('Свод по датам'!CF52:CH52) -> 37.1 | AH21: =SUM('Свод по датам'!CI10:CK10)+SUM('Свод по датам'!CI52:CK52) -> 34.3 | AI21: =SUM('Свод по датам'!CL10:CN10)+SUM('Свод по датам'!CL52:CN52) -> 31.2 | AJ21: =SUM('Свод по датам'!CO10:CQ10)+SUM('Свод по датам'!CO52:CQ52) -> 0 | AK21: =SUM('Свод по датам'!CR10:CT10)+SUM('Свод по датам'!CR52:CT52) -> 0 | AL21: =SUM('Свод по датам'!CU10:CW10) -> 0 | AM21: =SUM('Свод по датам'!CX10:CZ10) -> 0 | AN21: =SUM('Свод по датам'!DA10:DC10) -> 0 | AO21: =SUM('Свод по датам'!DD10:DF10) -> 0 | AP21: =SUM('Свод по датам'!DG10:DI10) -> 0 | AQ21: =SUM('Свод по датам'!DJ10:DL10) -> 0 | AR21: =SUM('Свод по датам'!DM10:DO10) -> 0 | AS21: =SUM('Свод по датам'!DP10:DR10) -> 0 | AT21: =SUM('Свод по датам'!DS10:DU10) -> 22.1 | AU21: =SUM('Свод по датам'!DV10:DX10) -> 24 | AV21: =SUM('Свод по датам'!DY10:EA10) -> 0 | AW21: =SUM('Свод по датам'!EB10:ED10) -> 2.9 | AX21: =SUM('Свод по датам'!EE10:EG10) -> 0 | AY21: =SUM('Свод по датам'!EH10:EJ10) -> 0 | AZ21: =SUM('Свод по датам'!EK10:EM10) -> 0 | BA21: =SUM('Свод по датам'!EN10:EP10) -> 0 | BB21: =SUM('Свод по датам'!EQ10:ES10) -> 0 | BC21: =SUM('Свод по датам'!ET10:EV10) -> 0 | BD21: =SUM('Свод по датам'!EW10:EY10) -> 0 | BE21: =SUM('Свод по датам'!EZ10:FB10) -> 0 | BF21: =SUM('Свод по датам'!FC10:FE10) -> 0 | BG21: =SUM('Свод по датам'!FF10:FH10) -> 0 | BH21: =SUM('Свод по датам'!FI10:FK10) -> 0 | BI21: =SUM('Свод по датам'!FL10:FN10) -> 0 | BJ21: =SUM('Свод по датам'!FO10:FQ10) -> 0 | BK21: =SUM('Свод по датам'!FR10:FT10) -> 0 | BL21: =SUM('Свод по датам'!FU10:FW10) -> 0 | BM21: =SUM('Свод по датам'!FX10:FZ10) -> 0 | BN21: =SUM('Свод по датам'!GA10:GC10) -> 0 | BO21: =SUM('Свод по датам'!GD10:GF10) -> 0 | BP21: =SUM('Свод по датам'!GG10:GI10) -> 0 | BQ21: =SUM('Свод по датам'!GJ10:GL10) -> 0 | BR21: =SUM('Свод по датам'!GM10:GO10) -> 0 | BS21: =SUM('Свод по датам'!GP10:GR10) -> 0 | BT21: =SUM('Свод по датам'!GS10:GU10) -> 0 | BU21: =SUM('Свод по датам'!GV10:GX10) -> 0 | BV21: =SUM('Свод по датам'!GY10:HA10) -> 0 | BW21: =SUM('Свод по датам'!HB10:HD10) -> 0 | BX21: =SUM('Свод по датам'!HE10:HG10) -> 0 | BY21: =SUM('Свод по датам'!HH10:HJ10) -> 0 | BZ21: =SUM('Свод по датам'!HK10:HM10) -> 0 | CA21: =SUM('Свод по датам'!HN10:HP10) -> 0 | CB21: =SUM('Свод по датам'!HQ10:HS10) -> 0 | CC21: =SUM('Свод по датам'!HT10:HV10) -> 0 | CD21: =SUM('Свод по датам'!HW10:HY10) -> 0 | CE21: =SUM('Свод по датам'!HZ10:IB10) -> 0 | CF21: =SUM('Свод по датам'!IC10:IE10) -> 0 | CG21: =SUM('Свод по датам'!IF10:IH10) -> 0 | CH21: =SUM('Свод по датам'!II10:IK10) -> 0 | CI21: =SUM('Свод по датам'!IL10:IN10) -> 0 | CJ21: =SUM('Свод по датам'!IO10:IQ10) -> 0 | CK21: =SUM('Свод по датам'!IR10:IT10) -> 0 | CL21: =SUM('Свод по датам'!IU10:IW10) -> 0 | CM21: =SUM('Свод по датам'!IX10:IZ10) -> 0 | CN21: =SUM('Свод по датам'!JA10:JC10) -> 0 | CO21: =SUM('Свод по датам'!JD10:JF10) -> 0 | CP21: =SUM('Свод по датам'!JG10:JI10) -> 0 | CQ21: =SUM('Свод по датам'!JJ10:JL10) -> 0 | CR21: =SUM('Свод по датам'!JM10:JO10) -> 0 | CS21: =SUM('Свод по датам'!JP10:JR10) -> 0 | CT21: =SUM('Свод по датам'!JS10:JU10) -> 0 | CU21: =SUM('Свод по датам'!JV10:JX10) -> 0 | CV21: =SUM(G21:CU21) -> 307.6
A22: =G21/(G21+0.001)+H21/(H21+0.001)+K21/(K21+0.001)+L21/(L21+0.001)+M21/(M21+0.001)+N21/(N21+0.001)+O21/(O21+0.001)+P21/(P21+0.001)+Q21/(Q21+0.001)+R21/(R21+0.001)+T21/(T21+0.001)+I21/(I21+0.001)+U21/(U21+0.001)+V21/(V21+0.001)+X21/(X21+0.001)+J21/(J21+0.001)+W21/(W21+0.001)+Y21/(Y21+0.001)+Z21/(Z21+0.001)+AA21/(AA21+0.001)+AB21/(AB21+0.001)+AC21/(AC21+0.001)+AD21/(AD21+0.001)+AE21/(AE21+0.001)+AF21/(AF21+0.001)+AG21/(AG21+0.001)+AH21/(AH21+0.001)+AI21/(AI21+0.001)+AJ21/(AJ21+0.001)+AK21/(AK21+0.001)+AL21/(AL21+0.001)+AM21/(AM21+0.001)+AN21/(AN21+0.001)+AO21/(AO21+0.001)+AP21/(AP21+0.001)+AQ21/(AQ21+0.001)+AR21/(AR21+0.001)+AS21/(AS21+0.001)+AT21/(AT21+0.001)+AU21/(AU21+0.001)+AV21/(AV21+0.001)+AW21/(AW21+0.001)+AX21/(AX21+0.001)+AY21/(AY21+0.001)+AZ21/(AZ21+0.001)+BA21/(BA21+0.001)+BB21/(BB21+0.001)+BC21/(BC21+0.001)+BD21/(BD21+0.001)+BE21/(BE21+0.001)+BF21/(BF21+0.001)+BG21/(BG21+0.001)+BH21/(BH21+0.001)+BI21/(BI21+0.001)+BJ21/(BJ21+0.001)+BK21/(BK21+0.001)+BL21/(BL21+0.001)+BM21/(BM21+0.001)+BN21/(BN21+0.001)+BO21/(BO21+0.001)+BP21/(BP21+0.001)+BQ21/(BQ21+0.001) -> 10.999269 | D22: 1940 ЕК-3 | E22: =CV22 -> 118 | F22: га | G22: =SUM('Свод по датам'!F11:H11)+SUM('Свод по датам'!F53:H53) -> 0 | H22: =SUM('Свод по датам'!I11:K11)+SUM('Свод по датам'!I53:K53) -> 0 | I22: =SUM('Свод по датам'!L11:N11)+SUM('Свод по датам'!L53:N53) -> 0 | J22: =SUM('Свод по датам'!O11:Q11)+SUM('Свод по датам'!O53:Q53) -> 0 | K22: =SUM('Свод по датам'!R11:T11)+SUM('Свод по датам'!R53:T53) -> 0 | L22: =SUM('Свод по датам'!U11:W11)+SUM('Свод по датам'!U53:W53) -> 0 | M22: =SUM('Свод по датам'!X11:Z11)+SUM('Свод по датам'!X53:Z53) -> 0 | N22: =SUM('Свод по датам'!AA11:AC11)+SUM('Свод по датам'!AA53:AC53) -> 0 | O22: =SUM('Свод по датам'!AD11:AF11)+SUM('Свод по датам'!AD53:AF53) -> 0 | P22: =SUM('Свод по датам'!AG11:AI11)+SUM('Свод по датам'!AG53:AI53) -> 0 | Q22: =SUM('Свод по датам'!AJ11:AL11)+SUM('Свод по датам'!AJ53:AL53) -> 0 | R22: =SUM('Свод по датам'!AM11:AO11)+SUM('Свод по датам'!AM53:AO53) -> 0 | S22: =SUM('Свод по датам'!AP11:AR11)+SUM('Свод по датам'!AP53:AR53) -> 0 | T22: =SUM('Свод по датам'!AS11:AU11)+SUM('Свод по датам'!AS53:AU53) -> 0 | U22: =SUM('Свод по датам'!AV11:AX11)+SUM('Свод по датам'!AV53:AX53) -> 0 | V22: =SUM('Свод по датам'!AY11:BA11)+SUM('Свод по датам'!AY53:BA53) -> 0 | W22: =SUM('Свод по датам'!BB11:BD11)+SUM('Свод по датам'!BB53:BD53) -> 0 | X22: =SUM('Свод по датам'!BE11:BG11)+SUM('Свод по датам'!BE53:BG53) -> 0 | Y22: =SUM('Свод по датам'!BH11:BJ11)+SUM('Свод по датам'!BH53:BJ53) -> 0 | Z22: =SUM('Свод по датам'!BK11:BM11)+SUM('Свод по датам'!BK53:BM53) -> 0 | AA22: =SUM('Свод по датам'!BN11:BP11)+SUM('Свод по датам'!BN53:BP53) -> 0 | AB22: =SUM('Свод по датам'!BQ11:BS11)+SUM('Свод по датам'!BQ53:BS53) -> 11 | AC22: =SUM('Свод по датам'!BT11:BV11)+SUM('Свод по датам'!BT53:BV53) -> 5 | AD22: =SUM('Свод по датам'!BW11:BY11)+SUM('Свод по датам'!BW53:BY53) -> 19 | AE22: =SUM('Свод по датам'!BZ11:CB11)+SUM('Свод по датам'!BZ53:CB53) -> 9.5 | AF22: =SUM('Свод по датам'!CC11:CE11)+SUM('Свод по датам'!CC53:CE53) -> 14.5 | AG22: =SUM('Свод по датам'!CF11:CH11)+SUM('Свод по датам'!CF53:CH53) -> 10 | AH22: =SUM('Свод по датам'!CI11:CK11)+SUM('Свод по датам'!CI53:CK53) -> 13 | AI22: =SUM('Свод по датам'!CL11:CN11)+SUM('Свод по датам'!CL53:CN53) -> 11 | AJ22: =SUM('Свод по датам'!CO11:CQ11)+SUM('Свод по датам'!CO53:CQ53) -> 0 | AK22: =SUM('Свод по датам'!CR11:CT11)+SUM('Свод по датам'!CR53:CT53) -> 0 | AL22: =SUM('Свод по датам'!CU11:CW11) -> 0 | AM22: =SUM('Свод по датам'!CX11:CZ11) -> 0 | AN22: =SUM('Свод по датам'!DA11:DC11) -> 0 | AO22: =SUM('Свод по датам'!DD11:DF11) -> 0 | AP22: =SUM('Свод по датам'!DG11:DI11) -> 0 | AQ22: =SUM('Свод по датам'!DJ11:DL11) -> 0 | AR22: =SUM('Свод по датам'!DM11:DO11) -> 0 | AS22: =SUM('Свод по датам'!DP11:DR11) -> 0 | AT22: =SUM('Свод по датам'!DS11:DU11) -> 11 | AU22: =SUM('Свод по датам'!DV11:DX11) -> 12.5 | AV22: =SUM('Свод по датам'!DY11:EA11) -> 0 | AW22: =SUM('Свод по датам'!EB11:ED11) -> 1.5 | AX22: =SUM('Свод по датам'!EE11:EG11) -> 0 | AY22: =SUM('Свод по датам'!EH11:EJ11) -> 0 | AZ22: =SUM('Свод по датам'!EK11:EM11) -> 0 | BA22: =SUM('Свод по датам'!EN11:EP11) -> 0 | BB22: =SUM('Свод по датам'!EQ11:ES11) -> 0 | BC22: =SUM('Свод по датам'!ET11:EV11) -> 0 | BD22: =SUM('Свод по датам'!EW11:EY11) -> 0 | BE22: =SUM('Свод по датам'!EZ11:FB11) -> 0 | BF22: =SUM('Свод по датам'!FC11:FE11) -> 0 | BG22: =SUM('Свод по датам'!FF11:FH11) -> 0 | BH22: =SUM('Свод по датам'!FI11:FK11) -> 0 | BI22: =SUM('Свод по датам'!FL11:FN11) -> 0 | BJ22: =SUM('Свод по датам'!FO11:FQ11) -> 0 | BK22: =SUM('Свод по датам'!FR11:FT11) -> 0 | BL22: =SUM('Свод по датам'!FU11:FW11) -> 0 | BM22: =SUM('Свод по датам'!FX11:FZ11) -> 0 | BN22: =SUM('Свод по датам'!GA11:GC11) -> 0 | BO22: =SUM('Свод по датам'!GD11:GF11) -> 0 | BP22: =SUM('Свод по датам'!GG11:GI11) -> 0 | BQ22: =SUM('Свод по датам'!GJ11:GL11) -> 0 | BR22: =SUM('Свод по датам'!GM11:GO11) -> 0 | BS22: =SUM('Свод по датам'!GP11:GR11) -> 0 | BT22: =SUM('Свод по датам'!GS11:GU11) -> 0 | BU22: =SUM('Свод по датам'!GV11:GX11) -> 0 | BV22: =SUM('Свод по датам'!GY11:HA11) -> 0 | BW22: =SUM('Свод по датам'!HB11:HD11) -> 0 | BX22: =SUM('Свод по датам'!HE11:HG11) -> 0 | BY22: =SUM('Свод по датам'!HH11:HJ11) -> 0 | BZ22: =SUM('Свод по датам'!HK11:HM11) -> 0 | CA22: =SUM('Свод по датам'!HN11:HP11) -> 0 | CB22: =SUM('Свод по датам'!HQ11:HS11) -> 0 | CC22: =SUM('Свод по датам'!HT11:HV11) -> 0 | CD22: =SUM('Свод по датам'!HW11:HY11) -> 0 | CE22: =SUM('Свод по датам'!HZ11:IB11) -> 0 | CF22: =SUM('Свод по датам'!IC11:IE11) -> 0 | CG22: =SUM('Свод по датам'!IF11:IH11) -> 0 | CH22: =SUM('Свод по датам'!II11:IK11) -> 0 | CI22: =SUM('Свод по датам'!IL11:IN11) -> 0 | CJ22: =SUM('Свод по датам'!IO11:IQ11) -> 0 | CK22: =SUM('Свод по датам'!IR11:IT11) -> 0 | CL22: =SUM('Свод по датам'!IU11:IW11) -> 0 | CM22: =SUM('Свод по датам'!IX11:IZ11) -> 0 | CN22: =SUM('Свод по датам'!JA11:JC11) -> 0 | CO22: =SUM('Свод по датам'!JD11:JF11) -> 0 | CP22: =SUM('Свод по датам'!JG11:JI11) -> 0 | CQ22: =SUM('Свод по датам'!JJ11:JL11) -> 0 | CR22: =SUM('Свод по датам'!JM11:JO11) -> 0 | CS22: =SUM('Свод по датам'!JP11:JR11) -> 0 | CT22: =SUM('Свод по датам'!JS11:JU11) -> 0 | CU22: =SUM('Свод по датам'!JV11:JX11) -> 0 | CV22: =SUM(G22:CU22) -> 118
C23: Чиканов Андрей Алексеевич | D23: КЗС-12 | E23: =CV23 -> 659.3 | F23: тонн | G23: =SUM('Свод по датам'!F12:H12)+SUM('Свод по датам'!F54:H54) -> 0 | H23: =SUM('Свод по датам'!I12:K12)+SUM('Свод по датам'!I54:K54) -> 0 | I23: =SUM('Свод по датам'!L12:N12)+SUM('Свод по датам'!L54:N54) -> 0 | J23: =SUM('Свод по датам'!O12:Q12)+SUM('Свод по датам'!O54:Q54) -> 0 | K23: =SUM('Свод по датам'!R12:T12)+SUM('Свод по датам'!R54:T54) -> 0 | L23: =SUM('Свод по датам'!U12:W12)+SUM('Свод по датам'!U54:W54) -> 0 | M23: =SUM('Свод по датам'!X12:Z12)+SUM('Свод по датам'!X54:Z54) -> 0 | N23: =SUM('Свод по датам'!AA12:AC12)+SUM('Свод по датам'!AA54:AC54) -> 0 | O23: =SUM('Свод по датам'!AD12:AF12)+SUM('Свод по датам'!AD54:AF54) -> 0 | P23: =SUM('Свод по датам'!AG12:AI12)+SUM('Свод по датам'!AG54:AI54) -> 0 | Q23: =SUM('Свод по датам'!AJ12:AL12)+SUM('Свод по датам'!AJ54:AL54) -> 0 | R23: =SUM('Свод по датам'!AM12:AO12)+SUM('Свод по датам'!AM54:AO54) -> 0 | S23: =SUM('Свод по датам'!AP12:AR12)+SUM('Свод по датам'!AP54:AR54) -> 0 | T23: =SUM('Свод по датам'!AS12:AU12)+SUM('Свод по датам'!AS54:AU54) -> 0 | U23: =SUM('Свод по датам'!AV12:AX12)+SUM('Свод по датам'!AV54:AX54) -> 0 | V23: =SUM('Свод по датам'!AY12:BA12)+SUM('Свод по датам'!AY54:BA54) -> 0 | W23: =SUM('Свод по датам'!BB12:BD12)+SUM('Свод по датам'!BB54:BD54) -> 5.8 | X23: =SUM('Свод по датам'!BE12:BG12)+SUM('Свод по датам'!BE54:BG54) -> 11.5 | Y23: =SUM('Свод по датам'!BH12:BJ12)+SUM('Свод по датам'!BH54:BJ54) -> 4.5 | Z23: =SUM('Свод по датам'!BK12:BM12)+SUM('Свод по датам'!BK54:BM54) -> 21.8 | AA23: =SUM('Свод по датам'!BN12:BP12)+SUM('Свод по датам'!BN54:BP54) -> 23.8 | AB23: =SUM('Свод по датам'!BQ12:BS12)+SUM('Свод по датам'!BQ54:BS54) -> 40.1 | AC23: =SUM('Свод по датам'!BT12:BV12)+SUM('Свод по датам'!BT54:BV54) -> 20.5 | AD23: =SUM('Свод по датам'!BW12:BY12)+SUM('Свод по датам'!BW54:BY54) -> 33.4 | AE23: =SUM('Свод по датам'!BZ12:CB12)+SUM('Свод по датам'!BZ54:CB54) -> 37.7 | AF23: =SUM('Свод по датам'!CC12:CE12)+SUM('Свод по датам'!CC54:CE54) -> 43.5 | AG23: =SUM('Свод по датам'!CF12:CH12)+SUM('Свод по датам'!CF54:CH54) -> 40.9 | AH23: =SUM('Свод по датам'!CI12:CK12)+SUM('Свод по датам'!CI54:CK54) -> 35.3 | AI23: =SUM('Свод по датам'!CL12:CN12)+SUM('Свод по датам'!CL54:CN54) -> 54 | AJ23: =SUM('Свод по датам'!CO12:CQ12)+SUM('Свод по датам'!CO54:CQ54) -> 0 | AK23: =SUM('Свод по датам'!CR12:CT12)+SUM('Свод по датам'!CR54:CT54) -> 0 | AL23: =SUM('Свод по датам'!CU12:CW12) -> 0 | AM23: =SUM('Свод по датам'!CX12:CZ12) -> 34.1 | AN23: =SUM('Свод по датам'!DA12:DC12) -> 28.8 | AO23: =SUM('Свод по датам'!DD12:DF12) -> 3.1 | AP23: =SUM('Свод по датам'!DG12:DI12) -> 26.9 | AQ23: =SUM('Свод по датам'!DJ12:DL12) -> 33.8 | AR23: =SUM('Свод по датам'!DM12:DO12) -> 22.1 | AS23: =SUM('Свод по датам'!DP12:DR12) -> 0 | AT23: =SUM('Свод по датам'!DS12:DU12) -> 29.6 | AU23: =SUM('Свод по датам'!DV12:DX12) -> 34.1 | AV23: =SUM('Свод по датам'!DY12:EA12) -> 12.6 | AW23: =SUM('Свод по датам'!EB12:ED12) -> 25.1 | AX23: =SUM('Свод по датам'!EE12:EG12) -> 20.7 | AY23: =SUM('Свод по датам'!EH12:EJ12) -> 15.6 | AZ23: =SUM('Свод по датам'!EK12:EM12) -> 0 | BA23: =SUM('Свод по датам'!EN12:EP12) -> 0 | BB23: =SUM('Свод по датам'!EQ12:ES12) -> 0 | BC23: =SUM('Свод по датам'!ET12:EV12) -> 0 | BD23: =SUM('Свод по датам'!EW12:EY12) -> 0 | BE23: =SUM('Свод по датам'!EZ12:FB12) -> 0 | BF23: =SUM('Свод по датам'!FC12:FE12) -> 0 | BG23: =SUM('Свод по датам'!FF12:FH12) -> 0 | BH23: =SUM('Свод по датам'!FI12:FK12) -> 0 | BI23: =SUM('Свод по датам'!FL12:FN12) -> 0 | BJ23: =SUM('Свод по датам'!FO12:FQ12) -> 0 | BK23: =SUM('Свод по датам'!FR12:FT12) -> 0 | BL23: =SUM('Свод по датам'!FU12:FW12) -> 0 | BM23: =SUM('Свод по датам'!FX12:FZ12) -> 0 | BN23: =SUM('Свод по датам'!GA12:GC12) -> 0 | BO23: =SUM('Свод по датам'!GD12:GF12) -> 0 | BP23: =SUM('Свод по датам'!GG12:GI12) -> 0 | BQ23: =SUM('Свод по датам'!GJ12:GL12) -> 0 | BR23: =SUM('Свод по датам'!GM12:GO12) -> 0 | BS23: =SUM('Свод по датам'!GP12:GR12) -> 0 | BT23: =SUM('Свод по датам'!GS12:GU12) -> 0 | BU23: =SUM('Свод по датам'!GV12:GX12) -> 0 | BV23: =SUM('Свод по датам'!GY12:HA12) -> 0 | BW23: =SUM('Свод по датам'!HB12:HD12) -> 0 | BX23: =SUM('Свод по датам'!HE12:HG12) -> 0 | BY23: =SUM('Свод по датам'!HH12:HJ12) -> 0 | BZ23: =SUM('Свод по датам'!HK12:HM12) -> 0 | CA23: =SUM('Свод по датам'!HN12:HP12) -> 0 | CB23: =SUM('Свод по датам'!HQ12:HS12) -> 0 | CC23: =SUM('Свод по датам'!HT12:HV12) -> 0 | CD23: =SUM('Свод по датам'!HW12:HY12) -> 0 | CE23: =SUM('Свод по датам'!HZ12:IB12) -> 0 | CF23: =SUM('Свод по датам'!IC12:IE12) -> 0 | CG23: =SUM('Свод по датам'!IF12:IH12) -> 0 | CH23: =SUM('Свод по датам'!II12:IK12) -> 0 | CI23: =SUM('Свод по датам'!IL12:IN12) -> 0 | CJ23: =SUM('Свод по датам'!IO12:IQ12) -> 0 | CK23: =SUM('Свод по датам'!IR12:IT12) -> 0 | CL23: =SUM('Свод по датам'!IU12:IW12) -> 0 | CM23: =SUM('Свод по датам'!IX12:IZ12) -> 0 | CN23: =SUM('Свод по датам'!JA12:JC12) -> 0 | CO23: =SUM('Свод по датам'!JD12:JF12) -> 0 | CP23: =SUM('Свод по датам'!JG12:JI12) -> 0 | CQ23: =SUM('Свод по датам'!JJ12:JL12) -> 0 | CR23: =SUM('Свод по датам'!JM12:JO12) -> 0 | CS23: =SUM('Свод по датам'!JP12:JR12) -> 0 | CT23: =SUM('Свод по датам'!JS12:JU12) -> 0 | CU23: =SUM('Свод по датам'!JV12:JX12) -> 0 | CV23: =SUM(G23:CU23) -> 659.3
A24: =G23/(G23+0.001)+H23/(H23+0.001)+K23/(K23+0.001)+L23/(L23+0.001)+M23/(M23+0.001)+N23/(N23+0.001)+O23/(O23+0.001)+P23/(P23+0.001)+Q23/(Q23+0.001)+R23/(R23+0.001)+T23/(T23+0.001)+I23/(I23+0.001)+U23/(U23+0.001)+V23/(V23+0.001)+X23/(X23+0.001)+J23/(J23+0.001)+W23/(W23+0.001)+Y23/(Y23+0.001)+Z23/(Z23+0.001)+AA23/(AA23+0.001)+AB23/(AB23+0.001)+AC23/(AC23+0.001)+AD23/(AD23+0.001)+AE23/(AE23+0.001)+AF23/(AF23+0.001)+AG23/(AG23+0.001)+AH23/(AH23+0.001)+AI23/(AI23+0.001)+AJ23/(AJ23+0.001)+AK23/(AK23+0.001)+AL23/(AL23+0.001)+AM23/(AM23+0.001)+AN23/(AN23+0.001)+AO23/(AO23+0.001)+AP23/(AP23+0.001)+AQ23/(AQ23+0.001)+AR23/(AR23+0.001)+AS23/(AS23+0.001)+AT23/(AT23+0.001)+AU23/(AU23+0.001)+AV23/(AV23+0.001)+AW23/(AW23+0.001)+AX23/(AX23+0.001)+AY23/(AY23+0.001)+AZ23/(AZ23+0.001)+BA23/(BA23+0.001)+BB23/(BB23+0.001)+BC23/(BC23+0.001)+BD23/(BD23+0.001)+BE23/(BE23+0.001)+BF23/(BF23+0.001)+BG23/(BG23+0.001)+BH23/(BH23+0.001)+BI23/(BI23+0.001)+BJ23/(BJ23+0.001)+BK23/(BK23+0.001)+BL23/(BL23+0.001)+BM23/(BM23+0.001)+BN23/(BN23+0.001)+BO23/(BO23+0.001)+BP23/(BP23+0.001)+BQ23/(BQ23+0.001) -> 24.998413 | D24: 1939 ЕК-3 | E24: =CV24 -> 245.95 | F24: га | G24: =SUM('Свод по датам'!F13:H13)+SUM('Свод по датам'!F55:H55) -> 0 | H24: =SUM('Свод по датам'!I13:K13)+SUM('Свод по датам'!I55:K55) -> 0 | I24: =SUM('Свод по датам'!L13:N13)+SUM('Свод по датам'!L55:N55) -> 0 | J24: =SUM('Свод по датам'!O13:Q13)+SUM('Свод по датам'!O55:Q55) -> 0 | K24: =SUM('Свод по датам'!R13:T13)+SUM('Свод по датам'!R55:T55) -> 0 | L24: =SUM('Свод по датам'!U13:W13)+SUM('Свод по датам'!U55:W55) -> 0 | M24: =SUM('Свод по датам'!X13:Z13)+SUM('Свод по датам'!X55:Z55) -> 0 | N24: =SUM('Свод по датам'!AA13:AC13)+SUM('Свод по датам'!AA55:AC55) -> 0 | O24: =SUM('Свод по датам'!AD13:AF13)+SUM('Свод по датам'!AD55:AF55) -> 0 | P24: =SUM('Свод по датам'!AG13:AI13)+SUM('Свод по датам'!AG55:AI55) -> 0 | Q24: =SUM('Свод по датам'!AJ13:AL13)+SUM('Свод по датам'!AJ55:AL55) -> 0 | R24: =SUM('Свод по датам'!AM13:AO13)+SUM('Свод по датам'!AM55:AO55) -> 0 | S24: =SUM('Свод по датам'!AP13:AR13)+SUM('Свод по датам'!AP55:AR55) -> 0 | T24: =SUM('Свод по датам'!AS13:AU13)+SUM('Свод по датам'!AS55:AU55) -> 0 | U24: =SUM('Свод по датам'!AV13:AX13)+SUM('Свод по датам'!AV55:AX55) -> 0 | V24: =SUM('Свод по датам'!AY13:BA13)+SUM('Свод по датам'!AY55:BA55) -> 0 | W24: =SUM('Свод по датам'!BB13:BD13)+SUM('Свод по датам'!BB55:BD55) -> 2 | X24: =SUM('Свод по датам'!BE13:BG13)+SUM('Свод по датам'!BE55:BG55) -> 5 | Y24: =SUM('Свод по датам'!BH13:BJ13)+SUM('Свод по датам'!BH55:BJ55) -> 0.6 | Z24: =SUM('Свод по датам'!BK13:BM13)+SUM('Свод по датам'!BK55:BM55) -> 4.2 | AA24: =SUM('Свод по датам'!BN13:BP13)+SUM('Свод по датам'!BN55:BP55) -> 8.3 | AB24: =SUM('Свод по датам'!BQ13:BS13)+SUM('Свод по датам'!BQ55:BS55) -> 14 | AC24: =SUM('Свод по датам'!BT13:BV13)+SUM('Свод по датам'!BT55:BV55) -> 8.5 | AD24: =SUM('Свод по датам'!BW13:BY13)+SUM('Свод по датам'!BW55:BY55) -> 14.2 | AE24: =SUM('Свод по датам'!BZ13:CB13)+SUM('Свод по датам'!BZ55:CB55) -> 16 | AF24: =SUM('Свод по датам'!CC13:CE13)+SUM('Свод по датам'!CC55:CE55) -> 15.5 | AG24: =SUM('Свод по датам'!CF13:CH13)+SUM('Свод по датам'!CF55:CH55) -> 11 | AH24: =SUM('Свод по датам'!CI13:CK13)+SUM('Свод по датам'!CI55:CK55) -> 15.2 | AI24: =SUM('Свод по датам'!CL13:CN13)+SUM('Свод по датам'!CL55:CN55) -> 19.5 | AJ24: =SUM('Свод по датам'!CO13:CQ13)+SUM('Свод по датам'!CO55:CQ55) -> 0 | AK24: =SUM('Свод по датам'!CR13:CT13)+SUM('Свод по датам'!CR55:CT55) -> 0 | AL24: =SUM('Свод по датам'!CU13:CW13) -> 0 | AM24: =SUM('Свод по датам'!CX13:CZ13) -> 12 | AN24: =SUM('Свод по датам'!DA13:DC13) -> 10.5 | AO24: =SUM('Свод по датам'!DD13:DF13) -> 1.5 | AP24: =SUM('Свод по датам'!DG13:DI13) -> 10 | AQ24: =SUM('Свод по датам'!DJ13:DL13) -> 12 | AR24: =SUM('Свод по датам'!DM13:DO13) -> 8 | AS24: =SUM('Свод по датам'!DP13:DR13) -> 0 | AT24: =SUM('Свод по датам'!DS13:DU13) -> 14.5 | AU24: =SUM('Свод по датам'!DV13:DX13) -> 17.5 | AV24: =SUM('Свод по датам'!DY13:EA13) -> 6 | AW24: =SUM('Свод по датам'!EB13:ED13) -> 5.2 | AX24: =SUM('Свод по датам'!EE13:EG13) -> 10 | AY24: =SUM('Свод по датам'!EH13:EJ13) -> 4.75 | AZ24: =SUM('Свод по датам'!EK13:EM13) -> 0 | BA24: =SUM('Свод по датам'!EN13:EP13) -> 0 | BB24: =SUM('Свод по датам'!EQ13:ES13) -> 0 | BC24: =SUM('Свод по датам'!ET13:EV13) -> 0 | BD24: =SUM('Свод по датам'!EW13:EY13) -> 0 | BE24: =SUM('Свод по датам'!EZ13:FB13) -> 0 | BF24: =SUM('Свод по датам'!FC13:FE13) -> 0 | BG24: =SUM('Свод по датам'!FF13:FH13) -> 0 | BH24: =SUM('Свод по датам'!FI13:FK13) -> 0 | BI24: =SUM('Свод по датам'!FL13:FN13) -> 0 | BJ24: =SUM('Свод по датам'!FO13:FQ13) -> 0 | BK24: =SUM('Свод по датам'!FR13:FT13) -> 0 | BL24: =SUM('Свод по датам'!FU13:FW13) -> 0 | BM24: =SUM('Свод по датам'!FX13:FZ13) -> 0 | BN24: =SUM('Свод по датам'!GA13:GC13) -> 0 | BO24: =SUM('Свод по датам'!GD13:GF13) -> 0 | BP24: =SUM('Свод по датам'!GG13:GI13) -> 0 | BQ24: =SUM('Свод по датам'!GJ13:GL13) -> 0 | BR24: =SUM('Свод по датам'!GM13:GO13) -> 0 | BS24: =SUM('Свод по датам'!GP13:GR13) -> 0 | BT24: =SUM('Свод по датам'!GS13:GU13) -> 0 | BU24: =SUM('Свод по датам'!GV13:GX13) -> 0 | BV24: =SUM('Свод по датам'!GY13:HA13) -> 0 | BW24: =SUM('Свод по датам'!HB13:HD13) -> 0 | BX24: =SUM('Свод по датам'!HE13:HG13) -> 0 | BY24: =SUM('Свод по датам'!HH13:HJ13) -> 0 | BZ24: =SUM('Свод по датам'!HK13:HM13) -> 0 | CA24: =SUM('Свод по датам'!HN13:HP13) -> 0 | CB24: =SUM('Свод по датам'!HQ13:HS13) -> 0 | CC24: =SUM('Свод по датам'!HT13:HV13) -> 0 | CD24: =SUM('Свод по датам'!HW13:HY13) -> 0 | CE24: =SUM('Свод по датам'!HZ13:IB13) -> 0 | CF24: =SUM('Свод по датам'!IC13:IE13) -> 0 | CG24: =SUM('Свод по датам'!IF13:IH13) -> 0 | CH24: =SUM('Свод по датам'!II13:IK13) -> 0 | CI24: =SUM('Свод по датам'!IL13:IN13) -> 0 | CJ24: =SUM('Свод по датам'!IO13:IQ13) -> 0 | CK24: =SUM('Свод по датам'!IR13:IT13) -> 0 | CL24: =SUM('Свод по датам'!IU13:IW13) -> 0 | CM24: =SUM('Свод по датам'!IX13:IZ13) -> 0 | CN24: =SUM('Свод по датам'!JA13:JC13) -> 0 | CO24: =SUM('Свод по датам'!JD13:JF13) -> 0 | CP24: =SUM('Свод по датам'!JG13:JI13) -> 0 | CQ24: =SUM('Свод по датам'!JJ13:JL13) -> 0 | CR24: =SUM('Свод по датам'!JM13:JO13) -> 0 | CS24: =SUM('Свод по датам'!JP13:JR13) -> 0 | CT24: =SUM('Свод по датам'!JS13:JU13) -> 0 | CU24: =SUM('Свод по датам'!JV13:JX13) -> 0 | CV24: =SUM(G24:CU24) -> 245.95
C25: Кайдунов А.В. | D25: КЗС-12 | E25: =CV25 -> 1068.9 | F25: тонн | G25: =SUM('Свод по датам'!F14:H14)+SUM('Свод по датам'!F56:H56) -> 0 | H25: =SUM('Свод по датам'!I14:K14)+SUM('Свод по датам'!I56:K56) -> 0 | I25: =SUM('Свод по датам'!L14:N14)+SUM('Свод по датам'!L56:N56) -> 0 | J25: =SUM('Свод по датам'!O14:Q14)+SUM('Свод по датам'!O56:Q56) -> 0 | K25: =SUM('Свод по датам'!R14:T14)+SUM('Свод по датам'!R56:T56) -> 0 | L25: =SUM('Свод по датам'!U14:W14)+SUM('Свод по датам'!U56:W56) -> 0 | M25: =SUM('Свод по датам'!X14:Z14)+SUM('Свод по датам'!X56:Z56) -> 16.2 | N25: =SUM('Свод по датам'!AA14:AC14)+SUM('Свод по датам'!AA56:AC56) -> 25.1 | O25: =SUM('Свод по датам'!AD14:AF14)+SUM('Свод по датам'!AD56:AF56) -> 35.3 | P25: =SUM('Свод по датам'!AG14:AI14)+SUM('Свод по датам'!AG56:AI56) -> 83.6 | Q25: =SUM('Свод по датам'!AJ14:AL14)+SUM('Свод по датам'!AJ56:AL56) -> 32.5 | R25: =SUM('Свод по датам'!AM14:AO14)+SUM('Свод по датам'!AM56:AO56) -> 35 | S25: =SUM('Свод по датам'!AP14:AR14)+SUM('Свод по датам'!AP56:AR56) -> 55.7 | T25: =SUM('Свод по датам'!AS14:AU14)+SUM('Свод по датам'!AS56:AU56) -> 29 | U25: =SUM('Свод по датам'!AV14:AX14)+SUM('Свод по датам'!AV56:AX56) -> 68.3 | V25: =SUM('Свод по датам'!AY14:BA14)+SUM('Свод по датам'!AY56:BA56) -> 0 | W25: =SUM('Свод по датам'!BB14:BD14)+SUM('Свод по датам'!BB56:BD56) -> 76.5 | X25: =SUM('Свод по датам'!BE14:BG14)+SUM('Свод по датам'!BE56:BG56) -> 42.6 | Y25: =SUM('Свод по датам'!BH14:BJ14)+SUM('Свод по датам'!BH56:BJ56) -> 8.4 | Z25: =SUM('Свод по датам'!BK14:BM14)+SUM('Свод по датам'!BK56:BM56) -> 26.7 | AA25: =SUM('Свод по датам'!BN14:BP14)+SUM('Свод по датам'!BN56:BP56) -> 57.2 | AB25: =SUM('Свод по датам'!BQ14:BS14)+SUM('Свод по датам'!BQ56:BS56) -> 46.4 | AC25: =SUM('Свод по датам'!BT14:BV14)+SUM('Свод по датам'!BT56:BV56) -> 15.9 | AD25: =SUM('Свод по датам'!BW14:BY14)+SUM('Свод по датам'!BW56:BY56) -> 36.8 | AE25: =SUM('Свод по датам'!BZ14:CB14)+SUM('Свод по датам'!BZ56:CB56) -> 4.9 | AF25: =SUM('Свод по датам'!CC14:CE14)+SUM('Свод по датам'!CC56:CE56) -> 58.9 | AG25: =SUM('Свод по датам'!CF14:CH14)+SUM('Свод по датам'!CF56:CH56) -> 52.9 | AH25: =SUM('Свод по датам'!CI14:CK14)+SUM('Свод по датам'!CI56:CK56) -> 25.4 | AI25: =SUM('Свод по датам'!CL14:CN14)+SUM('Свод по датам'!CL56:CN56) -> 39.1 | AJ25: =SUM('Свод по датам'!CO14:CQ14)+SUM('Свод по датам'!CO56:CQ56) -> 0 | AK25: =SUM('Свод по датам'!CR14:CT14)+SUM('Свод по датам'!CR56:CT56) -> 0 | AL25: =SUM('Свод по датам'!CU14:CW14) -> 0 | AM25: =SUM('Свод по датам'!CX14:CZ14) -> 37.7 | AN25: =SUM('Свод по датам'!DA14:DC14) -> 21 | AO25: =SUM('Свод по датам'!DD14:DF14) -> 12.4 | AP25: =SUM('Свод по датам'!DG14:DI14) -> 0 | AQ25: =SUM('Свод по датам'!DJ14:DL14) -> 0 | AR25: =SUM('Свод по датам'!DM14:DO14) -> 18.3 | AS25: =SUM('Свод по датам'!DP14:DR14) -> 0 | AT25: =SUM('Свод по датам'!DS14:DU14) -> 26.3 | AU25: =SUM('Свод по датам'!DV14:DX14) -> 28.7 | AV25: =SUM('Свод по датам'!DY14:EA14) -> 17.8 | AW25: =SUM('Свод по датам'!EB14:ED14) -> 0 | AX25: =SUM('Свод по датам'!EE14:EG14) -> 20.1 | AY25: =SUM('Свод по датам'!EH14:EJ14) -> 14.2 | AZ25: =SUM('Свод по датам'!EK14:EM14) -> 0 | BA25: =SUM('Свод по датам'!EN14:EP14) -> 0 | BB25: =SUM('Свод по датам'!EQ14:ES14) -> 0 | BC25: =SUM('Свод по датам'!ET14:EV14) -> 0 | BD25: =SUM('Свод по датам'!EW14:EY14) -> 0 | BE25: =SUM('Свод по датам'!EZ14:FB14) -> 0 | BF25: =SUM('Свод по датам'!FC14:FE14) -> 0 | BG25: =SUM('Свод по датам'!FF14:FH14) -> 0 | BH25: =SUM('Свод по датам'!FI14:FK14) -> 0 | BI25: =SUM('Свод по датам'!FL14:FN14) -> 0 | BJ25: =SUM('Свод по датам'!FO14:FQ14) -> 0 | BK25: =SUM('Свод по датам'!FR14:FT14) -> 0 | BL25: =SUM('Свод по датам'!FU14:FW14) -> 0 | BM25: =SUM('Свод по датам'!FX14:FZ14) -> 0 | BN25: =SUM('Свод по датам'!GA14:GC14) -> 0 | BO25: =SUM('Свод по датам'!GD14:GF14) -> 0 | BP25: =SUM('Свод по датам'!GG14:GI14) -> 0 | BQ25: =SUM('Свод по датам'!GJ14:GL14) -> 0 | BR25: =SUM('Свод по датам'!GM14:GO14) -> 0 | BS25: =SUM('Свод по датам'!GP14:GR14) -> 0 | BT25: =SUM('Свод по датам'!GS14:GU14) -> 0 | BU25: =SUM('Свод по датам'!GV14:GX14) -> 0 | BV25: =SUM('Свод по датам'!GY14:HA14) -> 0 | BW25: =SUM('Свод по датам'!HB14:HD14) -> 0 | BX25: =SUM('Свод по датам'!HE14:HG14) -> 0 | BY25: =SUM('Свод по датам'!HH14:HJ14) -> 0 | BZ25: =SUM('Свод по датам'!HK14:HM14) -> 0 | CA25: =SUM('Свод по датам'!HN14:HP14) -> 0 | CB25: =SUM('Свод по датам'!HQ14:HS14) -> 0 | CC25: =SUM('Свод по датам'!HT14:HV14) -> 0 | CD25: =SUM('Свод по датам'!HW14:HY14) -> 0 | CE25: =SUM('Свод по датам'!HZ14:IB14) -> 0 | CF25: =SUM('Свод по датам'!IC14:IE14) -> 0 | CG25: =SUM('Свод по датам'!IF14:IH14) -> 0 | CH25: =SUM('Свод по датам'!II14:IK14) -> 0 | CI25: =SUM('Свод по датам'!IL14:IN14) -> 0 | CJ25: =SUM('Свод по датам'!IO14:IQ14) -> 0 | CK25: =SUM('Свод по датам'!IR14:IT14) -> 0 | CL25: =SUM('Свод по датам'!IU14:IW14) -> 0 | CM25: =SUM('Свод по датам'!IX14:IZ14) -> 0 | CN25: =SUM('Свод по датам'!JA14:JC14) -> 0 | CO25: =SUM('Свод по датам'!JD14:JF14) -> 0 | CP25: =SUM('Свод по датам'!JG14:JI14) -> 0 | CQ25: =SUM('Свод по датам'!JJ14:JL14) -> 0 | CR25: =SUM('Свод по датам'!JM14:JO14) -> 0 | CS25: =SUM('Свод по датам'!JP14:JR14) -> 0 | CT25: =SUM('Свод по датам'!JS14:JU14) -> 0 | CU25: =SUM('Свод по датам'!JV14:JX14) -> 0 | CV25: =SUM(G25:CU25) -> 1068.9
A26: =G25/(G25+0.001)+H25/(H25+0.001)+K25/(K25+0.001)+L25/(L25+0.001)+M25/(M25+0.001)+N25/(N25+0.001)+O25/(O25+0.001)+P25/(P25+0.001)+Q25/(Q25+0.001)+R25/(R25+0.001)+T25/(T25+0.001)+I25/(I25+0.001)+U25/(U25+0.001)+V25/(V25+0.001)+X25/(X25+0.001)+J25/(J25+0.001)+W25/(W25+0.001)+Y25/(Y25+0.001)+Z25/(Z25+0.001)+AA25/(AA25+0.001)+AB25/(AB25+0.001)+AC25/(AC25+0.001)+AD25/(AD25+0.001)+AE25/(AE25+0.001)+AF25/(AF25+0.001)+AG25/(AG25+0.001)+AH25/(AH25+0.001)+AI25/(AI25+0.001)+AJ25/(AJ25+0.001)+AK25/(AK25+0.001)+AL25/(AL25+0.001)+AM25/(AM25+0.001)+AN25/(AN25+0.001)+AO25/(AO25+0.001)+AP25/(AP25+0.001)+AQ25/(AQ25+0.001)+AR25/(AR25+0.001)+AS25/(AS25+0.001)+AT25/(AT25+0.001)+AU25/(AU25+0.001)+AV25/(AV25+0.001)+AW25/(AW25+0.001)+AX25/(AX25+0.001)+AY25/(AY25+0.001)+AZ25/(AZ25+0.001)+BA25/(BA25+0.001)+BB25/(BB25+0.001)+BC25/(BC25+0.001)+BD25/(BD25+0.001)+BE25/(BE25+0.001)+BF25/(BF25+0.001)+BG25/(BG25+0.001)+BH25/(BH25+0.001)+BI25/(BI25+0.001)+BJ25/(BJ25+0.001)+BK25/(BK25+0.001)+BL25/(BL25+0.001)+BM25/(BM25+0.001)+BN25/(BN25+0.001)+BO25/(BO25+0.001)+BP25/(BP25+0.001)+BQ25/(BQ25+0.001) -> 29.998664 | D26: 4377 ЕК-3 | E26: =CV26 -> 396.05 | F26: га | G26: =SUM('Свод по датам'!F15:H15)+SUM('Свод по датам'!F57:H57) -> 0 | H26: =SUM('Свод по датам'!I15:K15)+SUM('Свод по датам'!I57:K57) -> 0 | I26: =SUM('Свод по датам'!L15:N15)+SUM('Свод по датам'!L57:N57) -> 0 | J26: =SUM('Свод по датам'!O15:Q15)+SUM('Свод по датам'!O57:Q57) -> 0 | K26: =SUM('Свод по датам'!R15:T15)+SUM('Свод по датам'!R57:T57) -> 0 | L26: =SUM('Свод по датам'!U15:W15)+SUM('Свод по датам'!U57:W57) -> 0 | M26: =SUM('Свод по датам'!X15:Z15)+SUM('Свод по датам'!X57:Z57) -> 7.9 | N26: =SUM('Свод по датам'!AA15:AC15)+SUM('Свод по датам'!AA57:AC57) -> 8.2 | O26: =SUM('Свод по датам'!AD15:AF15)+SUM('Свод по датам'!AD57:AF57) -> 10.6 | P26: =SUM('Свод по датам'!AG15:AI15)+SUM('Свод по датам'!AG57:AI57) -> 23.9 | Q26: =SUM('Свод по датам'!AJ15:AL15)+SUM('Свод по датам'!AJ57:AL57) -> 27.6 | R26: =SUM('Свод по датам'!AM15:AO15)+SUM('Свод по датам'!AM57:AO57) -> 7.9 | S26: =SUM('Свод по датам'!AP15:AR15)+SUM('Свод по датам'!AP57:AR57) -> 20 | T26: =SUM('Свод по датам'!AS15:AU15)+SUM('Свод по датам'!AS57:AU57) -> 9.5 | U26: =SUM('Свод по датам'!AV15:AX15)+SUM('Свод по датам'!AV57:AX57) -> 24.5 | V26: =SUM('Свод по датам'!AY15:BA15)+SUM('Свод по датам'!AY57:BA57) -> 0 | W26: =SUM('Свод по датам'!BB15:BD15)+SUM('Свод по датам'!BB57:BD57) -> 26.8 | X26: =SUM('Свод по датам'!BE15:BG15)+SUM('Свод по датам'!BE57:BG57) -> 15 | Y26: =SUM('Свод по датам'!BH15:BJ15)+SUM('Свод по датам'!BH57:BJ57) -> 2.2 | Z26: =SUM('Свод по датам'!BK15:BM15)+SUM('Свод по датам'!BK57:BM57) -> 5 | AA26: =SUM('Свод по датам'!BN15:BP15)+SUM('Свод по датам'!BN57:BP57) -> 20 | AB26: =SUM('Свод по датам'!BQ15:BS15)+SUM('Свод по датам'!BQ57:BS57) -> 16.5 | AC26: =SUM('Свод по датам'!BT15:BV15)+SUM('Свод по датам'!BT57:BV57) -> 6.5 | AD26: =SUM('Свод по датам'!BW15:BY15)+SUM('Свод по датам'!BW57:BY57) -> 15 | AE26: =SUM('Свод по датам'!BZ15:CB15)+SUM('Свод по датам'!BZ57:CB57) -> 2 | AF26: =SUM('Свод по датам'!CC15:CE15)+SUM('Свод по датам'!CC57:CE57) -> 21.5 | AG26: =SUM('Свод по датам'!CF15:CH15)+SUM('Свод по датам'!CF57:CH57) -> 15.5 | AH26: =SUM('Свод по датам'!CI15:CK15)+SUM('Свод по датам'!CI57:CK57) -> 11.7 | AI26: =SUM('Свод по датам'!CL15:CN15)+SUM('Свод по датам'!CL57:CN57) -> 13.3 | AJ26: =SUM('Свод по датам'!CO15:CQ15)+SUM('Свод по датам'!CO57:CQ57) -> 0 | AK26: =SUM('Свод по датам'!CR15:CT15)+SUM('Свод по датам'!CR57:CT57) -> 0 | AL26: =SUM('Свод по датам'!CU15:CW15) -> 0 | AM26: =SUM('Свод по датам'!CX15:CZ15) -> 13.5 | AN26: =SUM('Свод по датам'!DA15:DC15) -> 8 | AO26: =SUM('Свод по датам'!DD15:DF15) -> 5 | AP26: =SUM('Свод по датам'!DG15:DI15) -> 0 | AQ26: =SUM('Свод по датам'!DJ15:DL15) -> 0 | AR26: =SUM('Свод по датам'!DM15:DO15) -> 7.5 | AS26: =SUM('Свод по датам'!DP15:DR15) -> 0 | AT26: =SUM('Свод по датам'!DS15:DU15) -> 13 | AU26: =SUM('Свод по датам'!DV15:DX15) -> 14.7 | AV26: =SUM('Свод по датам'!DY15:EA15) -> 8.5 | AW26: =SUM('Свод по датам'!EB15:ED15) -> 0 | AX26: =SUM('Свод по датам'!EE15:EG15) -> 10 | AY26: =SUM('Свод по датам'!EH15:EJ15) -> 4.75 | AZ26: =SUM('Свод по датам'!EK15:EM15) -> 0 | BA26: =SUM('Свод по датам'!EN15:EP15) -> 0 | BB26: =SUM('Свод по датам'!EQ15:ES15) -> 0 | BC26: =SUM('Свод по датам'!ET15:EV15) -> 0 | BD26: =SUM('Свод по датам'!EW15:EY15) -> 0 | BE26: =SUM('Свод по датам'!EZ15:FB15) -> 0 | BF26: =SUM('Свод по датам'!FC15:FE15) -> 0 | BG26: =SUM('Свод по датам'!FF15:FH15) -> 0 | BH26: =SUM('Свод по датам'!FI15:FK15) -> 0 | BI26: =SUM('Свод по датам'!FL15:FN15) -> 0 | BJ26: =SUM('Свод по датам'!FO15:FQ15) -> 0 | BK26: =SUM('Свод по датам'!FR15:FT15) -> 0 | BL26: =SUM('Свод по датам'!FU15:FW15) -> 0 | BM26: =SUM('Свод по датам'!FX15:FZ15) -> 0 | BN26: =SUM('Свод по датам'!GA15:GC15) -> 0 | BO26: =SUM('Свод по датам'!GD15:GF15) -> 0 | BP26: =SUM('Свод по датам'!GG15:GI15) -> 0 | BQ26: =SUM('Свод по датам'!GJ15:GL15) -> 0 | BR26: =SUM('Свод по датам'!GM15:GO15) -> 0 | BS26: =SUM('Свод по датам'!GP15:GR15) -> 0 | BT26: =SUM('Свод по датам'!GS15:GU15) -> 0 | BU26: =SUM('Свод по датам'!GV15:GX15) -> 0 | BV26: =SUM('Свод по датам'!GY15:HA15) -> 0 | BW26: =SUM('Свод по датам'!HB15:HD15) -> 0 | BX26: =SUM('Свод по датам'!HE15:HG15) -> 0 | BY26: =SUM('Свод по датам'!HH15:HJ15) -> 0 | BZ26: =SUM('Свод по датам'!HK15:HM15) -> 0 | CA26: =SUM('Свод по датам'!HN15:HP15) -> 0 | CB26: =SUM('Свод по датам'!HQ15:HS15) -> 0 | CC26: =SUM('Свод по датам'!HT15:HV15) -> 0 | CD26: =SUM('Свод по датам'!HW15:HY15) -> 0 | CE26: =SUM('Свод по датам'!HZ15:IB15) -> 0 | CF26: =SUM('Свод по датам'!IC15:IE15) -> 0 | CG26: =SUM('Свод по датам'!IF15:IH15) -> 0 | CH26: =SUM('Свод по датам'!II15:IK15) -> 0 | CI26: =SUM('Свод по датам'!IL15:IN15) -> 0 | CJ26: =SUM('Свод по датам'!IO15:IQ15) -> 0 | CK26: =SUM('Свод по датам'!IR15:IT15) -> 0 | CL26: =SUM('Свод по датам'!IU15:IW15) -> 0 | CM26: =SUM('Свод по датам'!IX15:IZ15) -> 0 | CN26: =SUM('Свод по датам'!JA15:JC15) -> 0 | CO26: =SUM('Свод по датам'!JD15:JF15) -> 0 | CP26: =SUM('Свод по датам'!JG15:JI15) -> 0 | CQ26: =SUM('Свод по датам'!JJ15:JL15) -> 0 | CR26: =SUM('Свод по датам'!JM15:JO15) -> 0 | CS26: =SUM('Свод по датам'!JP15:JR15) -> 0 | CT26: =SUM('Свод по датам'!JS15:JU15) -> 0 | CU26: =SUM('Свод по датам'!JV15:JX15) -> 0 | CV26: =SUM(G26:CU26) -> 396.05
C27: Сидельников Сергей Александрович | D27: КЗС-12 | E27: =CV27 -> 1472.06 | F27: тонн | G27: =SUM('Свод по датам'!F16:H16)+SUM('Свод по датам'!F58:H58) -> 195.6 | H27: =SUM('Свод по датам'!I16:K16)+SUM('Свод по датам'!I58:K58) -> 0 | I27: =SUM('Свод по датам'!L16:N16)+SUM('Свод по датам'!L58:N58) -> 16.1 | J27: =SUM('Свод по датам'!O16:Q16)+SUM('Свод по датам'!O58:Q58) -> 6.7 | K27: =SUM('Свод по датам'!R16:T16)+SUM('Свод по датам'!R58:T58) -> 31.9 | L27: =SUM('Свод по датам'!U16:W16)+SUM('Свод по датам'!U58:W58) -> 18.9 | M27: =SUM('Свод по датам'!X16:Z16)+SUM('Свод по датам'!X58:Z58) -> 31.2 | N27: =SUM('Свод по датам'!AA16:AC16)+SUM('Свод по датам'!AA58:AC58) -> 31.2 | O27: =SUM('Свод по датам'!AD16:AF16)+SUM('Свод по датам'!AD58:AF58) -> 28.5 | P27: =SUM('Свод по датам'!AG16:AI16)+SUM('Свод по датам'!AG58:AI58) -> 58.5 | Q27: =SUM('Свод по датам'!AJ16:AL16)+SUM('Свод по датам'!AJ58:AL58) -> 44.9 | R27: =SUM('Свод по датам'!AM16:AO16)+SUM('Свод по датам'!AM58:AO58) -> 3.7 | S27: =SUM('Свод по датам'!AP16:AR16)+SUM('Свод по датам'!AP58:AR58) -> 44.2 | T27: =SUM('Свод по датам'!AS16:AU16)+SUM('Свод по датам'!AS58:AU58) -> 31.1 | U27: =SUM('Свод по датам'!AV16:AX16)+SUM('Свод по датам'!AV58:AX58) -> 67.2 | V27: =SUM('Свод по датам'!AY16:BA16)+SUM('Свод по датам'!AY58:BA58) -> 19.7 | W27: =SUM('Свод по датам'!BB16:BD16)+SUM('Свод по датам'!BB58:BD58) -> 80.2 | X27: =SUM('Свод по датам'!BE16:BG16)+SUM('Свод по датам'!BE58:BG58) -> 36.6 | Y27: =SUM('Свод по датам'!BH16:BJ16)+SUM('Свод по датам'!BH58:BJ58) -> 10.6 | Z27: =SUM('Свод по датам'!BK16:BM16)+SUM('Свод по датам'!BK58:BM58) -> 28.6 | AA27: =SUM('Свод по датам'!BN16:BP16)+SUM('Свод по датам'!BN58:BP58) -> 48.7 | AB27: =SUM('Свод по датам'!BQ16:BS16)+SUM('Свод по датам'!BQ58:BS58) -> 57.4 | AC27: =SUM('Свод по датам'!BT16:BV16)+SUM('Свод по датам'!BT58:BV58) -> 21.56 | AD27: =SUM('Свод по датам'!BW16:BY16)+SUM('Свод по датам'!BW58:BY58) -> 27.8 | AE27: =SUM('Свод по датам'!BZ16:CB16)+SUM('Свод по датам'!BZ58:CB58) -> 50.2 | AF27: =SUM('Свод по датам'!CC16:CE16)+SUM('Свод по датам'!CC58:CE58) -> 22.7 | AG27: =SUM('Свод по датам'!CF16:CH16)+SUM('Свод по датам'!CF58:CH58) -> 29.7 | AH27: =SUM('Свод по датам'!CI16:CK16)+SUM('Свод по датам'!CI58:CK58) -> 36.8 | AI27: =SUM('Свод по датам'!CL16:CN16)+SUM('Свод по датам'!CL58:CN58) -> 54.7 | AJ27: =SUM('Свод по датам'!CO16:CQ16)+SUM('Свод по датам'!CO58:CQ58) -> 0 | AK27: =SUM('Свод по датам'!CR16:CT16)+SUM('Свод по датам'!CR58:CT58) -> 0 | AL27: =SUM('Свод по датам'!CU16:CW16) -> 0 | AM27: =SUM('Свод по датам'!CX16:CZ16) -> 38.5 | AN27: =SUM('Свод по датам'!DA16:DC16) -> 30.7 | AO27: =SUM('Свод по датам'!DD16:DF16) -> 8.3 | AP27: =SUM('Свод по датам'!DG16:DI16) -> 12.4 | AQ27: =SUM('Свод по датам'!DJ16:DL16) -> 33.3 | AR27: =SUM('Свод по датам'!DM16:DO16) -> 38 | AS27: =SUM('Свод по датам'!DP16:DR16) -> 0 | AT27: =SUM('Свод по датам'!DS16:DU16) -> 24.8 | AU27: =SUM('Свод по датам'!DV16:DX16) -> 36.3 | AV27: =SUM('Свод по датам'!DY16:EA16) -> 18.4 | AW27: =SUM('Свод по датам'!EB16:ED16) -> 27.7 | AX27: =SUM('Свод по датам'!EE16:EG16) -> 21.1 | AY27: =SUM('Свод по датам'!EH16:EJ16) -> 21.5 | AZ27: =SUM('Свод по датам'!EK16:EM16) -> 0 | BA27: =SUM('Свод по датам'!EN16:EP16) -> 0 | BB27: =SUM('Свод по датам'!EQ16:ES16) -> 0 | BC27: =SUM('Свод по датам'!ET16:EV16) -> 0 | BD27: =SUM('Свод по датам'!EW16:EY16) -> 0 | BE27: =SUM('Свод по датам'!EZ16:FB16) -> 0 | BF27: =SUM('Свод по датам'!FC16:FE16) -> 6.5 | BG27: =SUM('Свод по датам'!FF16:FH16) -> 16.8 | BH27: =SUM('Свод по датам'!FI16:FK16) -> 2.8 | BI27: =SUM('Свод по датам'!FL16:FN16) -> 0 | BJ27: =SUM('Свод по датам'!FO16:FQ16) -> 0 | BK27: =SUM('Свод по датам'!FR16:FT16) -> 0 | BL27: =SUM('Свод по датам'!FU16:FW16) -> 0 | BM27: =SUM('Свод по датам'!FX16:FZ16) -> 0 | BN27: =SUM('Свод по датам'!GA16:GC16) -> 0 | BO27: =SUM('Свод по датам'!GD16:GF16) -> 0 | BP27: =SUM('Свод по датам'!GG16:GI16) -> 0 | BQ27: =SUM('Свод по датам'!GJ16:GL16) -> 0 | BR27: =SUM('Свод по датам'!GM16:GO16) -> 0 | BS27: =SUM('Свод по датам'!GP16:GR16) -> 0 | BT27: =SUM('Свод по датам'!GS16:GU16) -> 0 | BU27: =SUM('Свод по датам'!GV16:GX16) -> 0 | BV27: =SUM('Свод по датам'!GY16:HA16) -> 0 | BW27: =SUM('Свод по датам'!HB16:HD16) -> 0 | BX27: =SUM('Свод по датам'!HE16:HG16) -> 0 | BY27: =SUM('Свод по датам'!HH16:HJ16) -> 0 | BZ27: =SUM('Свод по датам'!HK16:HM16) -> 0 | CA27: =SUM('Свод по датам'!HN16:HP16) -> 0 | CB27: =SUM('Свод по датам'!HQ16:HS16) -> 0 | CC27: =SUM('Свод по датам'!HT16:HV16) -> 0 | CD27: =SUM('Свод по датам'!HW16:HY16) -> 0 | CE27: =SUM('Свод по датам'!HZ16:IB16) -> 0 | CF27: =SUM('Свод по датам'!IC16:IE16) -> 0 | CG27: =SUM('Свод по датам'!IF16:IH16) -> 0 | CH27: =SUM('Свод по датам'!II16:IK16) -> 0 | CI27: =SUM('Свод по датам'!IL16:IN16) -> 0 | CJ27: =SUM('Свод по датам'!IO16:IQ16) -> 0 | CK27: =SUM('Свод по датам'!IR16:IT16) -> 0 | CL27: =SUM('Свод по датам'!IU16:IW16) -> 0 | CM27: =SUM('Свод по датам'!IX16:IZ16) -> 0 | CN27: =SUM('Свод по датам'!JA16:JC16) -> 0 | CO27: =SUM('Свод по датам'!JD16:JF16) -> 0 | CP27: =SUM('Свод по датам'!JG16:JI16) -> 0 | CQ27: =SUM('Свод по датам'!JJ16:JL16) -> 0 | CR27: =SUM('Свод по датам'!JM16:JO16) -> 0 | CS27: =SUM('Свод по датам'!JP16:JR16) -> 0 | CT27: =SUM('Свод по датам'!JS16:JU16) -> 0 | CU27: =SUM('Свод по датам'!JV16:JX16) -> 0 | CV27: =SUM(G27:CU27) -> 1472.06
A28: =G27/(G27+0.001)+H27/(H27+0.001)+K27/(K27+0.001)+L27/(L27+0.001)+M27/(M27+0.001)+N27/(N27+0.001)+O27/(O27+0.001)+P27/(P27+0.001)+Q27/(Q27+0.001)+R27/(R27+0.001)+T27/(T27+0.001)+I27/(I27+0.001)+U27/(U27+0.001)+V27/(V27+0.001)+X27/(X27+0.001)+J27/(J27+0.001)+W27/(W27+0.001)+Y27/(Y27+0.001)+Z27/(Z27+0.001)+AA27/(AA27+0.001)+AB27/(AB27+0.001)+AC27/(AC27+0.001)+AD27/(AD27+0.001)+AE27/(AE27+0.001)+AF27/(AF27+0.001)+AG27/(AG27+0.001)+AH27/(AH27+0.001)+AI27/(AI27+0.001)+AJ27/(AJ27+0.001)+AK27/(AK27+0.001)+AL27/(AL27+0.001)+AM27/(AM27+0.001)+AN27/(AN27+0.001)+AO27/(AO27+0.001)+AP27/(AP27+0.001)+AQ27/(AQ27+0.001)+AR27/(AR27+0.001)+AS27/(AS27+0.001)+AT27/(AT27+0.001)+AU27/(AU27+0.001)+AV27/(AV27+0.001)+AW27/(AW27+0.001)+AX27/(AX27+0.001)+AY27/(AY27+0.001)+AZ27/(AZ27+0.001)+BA27/(BA27+0.001)+BB27/(BB27+0.001)+BC27/(BC27+0.001)+BD27/(BD27+0.001)+BE27/(BE27+0.001)+BF27/(BF27+0.001)+BG27/(BG27+0.001)+BH27/(BH27+0.001)+BI27/(BI27+0.001)+BJ27/(BJ27+0.001)+BK27/(BK27+0.001)+BL27/(BL27+0.001)+BM27/(BM27+0.001)+BN27/(BN27+0.001)+BO27/(BO27+0.001)+BP27/(BP27+0.001)+BQ27/(BQ27+0.001) -> 41.997622 | C28: Сидельников Николай Сергеевич | D28: 1942 ЕК-3 | E28: =CV28 -> 590 | F28: га | G28: =SUM('Свод по датам'!F17:H17)+SUM('Свод по датам'!F59:H59) -> 88.6 | H28: =SUM('Свод по датам'!I17:K17)+SUM('Свод по датам'!I59:K59) -> 0 | I28: =SUM('Свод по датам'!L17:N17)+SUM('Свод по датам'!L59:N59) -> 20.98 | J28: =SUM('Свод по датам'!O17:Q17)+SUM('Свод по датам'!O59:Q59) -> 2.2 | K28: =SUM('Свод по датам'!R17:T17)+SUM('Свод по датам'!R59:T59) -> 10.8 | L28: =SUM('Свод по датам'!U17:W17)+SUM('Свод по датам'!U59:W59) -> 8.6 | M28: =SUM('Свод по датам'!X17:Z17)+SUM('Свод по датам'!X59:Z59) -> 14 | N28: =SUM('Свод по датам'!AA17:AC17)+SUM('Свод по датам'!AA59:AC59) -> 10.9 | O28: =SUM('Свод по датам'!AD17:AF17)+SUM('Свод по датам'!AD59:AF59) -> 10.2 | P28: =SUM('Свод по датам'!AG17:AI17)+SUM('Свод по датам'!AG59:AI59) -> 16.8 | Q28: =SUM('Свод по датам'!AJ17:AL17)+SUM('Свод по датам'!AJ59:AL59) -> 23.32 | R28: =SUM('Свод по датам'!AM17:AO17)+SUM('Свод по датам'!AM59:AO59) -> 0.7 | S28: =SUM('Свод по датам'!AP17:AR17)+SUM('Свод по датам'!AP59:AR59) -> 15 | T28: =SUM('Свод по датам'!AS17:AU17)+SUM('Свод по датам'!AS59:AU59) -> 11 | U28: =SUM('Свод по датам'!AV17:AX17)+SUM('Свод по датам'!AV59:AX59) -> 24 | V28: =SUM('Свод по датам'!AY17:BA17)+SUM('Свод по датам'!AY59:BA59) -> 7 | W28: =SUM('Свод по датам'!BB17:BD17)+SUM('Свод по датам'!BB59:BD59) -> 28.6 | X28: =SUM('Свод по датам'!BE17:BG17)+SUM('Свод по датам'!BE59:BG59) -> 12.5 | Y28: =SUM('Свод по датам'!BH17:BJ17)+SUM('Свод по датам'!BH59:BJ59) -> 2 | Z28: =SUM('Свод по датам'!BK17:BM17)+SUM('Свод по датам'!BK59:BM59) -> 5.3 | AA28: =SUM('Свод по датам'!BN17:BP17)+SUM('Свод по датам'!BN59:BP59) -> 17.2 | AB28: =SUM('Свод по датам'!BQ17:BS17)+SUM('Свод по датам'!BQ59:BS59) -> 20.5 | AC28: =SUM('Свод по датам'!BT17:BV17)+SUM('Свод по датам'!BT59:BV59) -> 9 | AD28: =SUM('Свод по датам'!BW17:BY17)+SUM('Свод по датам'!BW59:BY59) -> 12.4 | AE28: =SUM('Свод по датам'!BZ17:CB17)+SUM('Свод по датам'!BZ59:CB59) -> 21 | AF28: =SUM('Свод по датам'!CC17:CE17)+SUM('Свод по датам'!CC59:CE59) -> 8 | AG28: =SUM('Свод по датам'!CF17:CH17)+SUM('Свод по датам'!CF59:CH59) -> 8.5 | AH28: =SUM('Свод по датам'!CI17:CK17)+SUM('Свод по датам'!CI59:CK59) -> 16 | AI28: =SUM('Свод по датам'!CL17:CN17)+SUM('Свод по датам'!CL59:CN59) -> 19.5 | AJ28: =SUM('Свод по датам'!CO17:CQ17)+SUM('Свод по датам'!CO59:CQ59) -> 0 | AK28: =SUM('Свод по датам'!CR17:CT17)+SUM('Свод по датам'!CR59:CT59) -> 0 | AL28: =SUM('Свод по датам'!CU17:CW17) -> 0 | AM28: =SUM('Свод по датам'!CX17:CZ17) -> 14 | AN28: =SUM('Свод по датам'!DA17:DC17) -> 11.5 | AO28: =SUM('Свод по датам'!DD17:DF17) -> 3.5 | AP28: =SUM('Свод по датам'!DG17:DI17) -> 4.5 | AQ28: =SUM('Свод по датам'!DJ17:DL17) -> 12 | AR28: =SUM('Свод по датам'!DM17:DO17) -> 16.5 | AS28: =SUM('Свод по датам'!DP17:DR17) -> 0 | AT28: =SUM('Свод по датам'!DS17:DU17) -> 12.5 | AU28: =SUM('Свод по датам'!DV17:DX17) -> 18.5 | AV28: =SUM('Свод по датам'!DY17:EA17) -> 8.6 | AW28: =SUM('Свод по датам'!EB17:ED17) -> 6.5 | AX28: =SUM('Свод по датам'!EE17:EG17) -> 10 | AY28: =SUM('Свод по датам'!EH17:EJ17) -> 6.5 | AZ28: =SUM('Свод по датам'!EK17:EM17) -> 0 | BA28: =SUM('Свод по датам'!EN17:EP17) -> 0 | BB28: =SUM('Свод по датам'!EQ17:ES17) -> 0 | BC28: =SUM('Свод по датам'!ET17:EV17) -> 0 | BD28: =SUM('Свод по датам'!EW17:EY17) -> 0 | BE28: =SUM('Свод по датам'!EZ17:FB17) -> 0 | BF28: =SUM('Свод по датам'!FC17:FE17) -> 9.5 | BG28: =SUM('Свод по датам'!FF17:FH17) -> 9.3 | BH28: =SUM('Свод по датам'!FI17:FK17) -> 2 | BI28: =SUM('Свод по датам'!FL17:FN17) -> 0 | BJ28: =SUM('Свод по датам'!FO17:FQ17) -> 0 | BK28: =SUM('Свод по датам'!FR17:FT17) -> 0 | BL28: =SUM('Свод по датам'!FU17:FW17) -> 0 | BM28: =SUM('Свод по датам'!FX17:FZ17) -> 0 | BN28: =SUM('Свод по датам'!GA17:GC17) -> 0 | BO28: =SUM('Свод по датам'!GD17:GF17) -> 0 | BP28: =SUM('Свод по датам'!GG17:GI17) -> 0 | BQ28: =SUM('Свод по датам'!GJ17:GL17) -> 0 | BR28: =SUM('Свод по датам'!GM17:GO17) -> 0 | BS28: =SUM('Свод по датам'!GP17:GR17) -> 0 | BT28: =SUM('Свод по датам'!GS17:GU17) -> 0 | BU28: =SUM('Свод по датам'!GV17:GX17) -> 0 | BV28: =SUM('Свод по датам'!GY17:HA17) -> 0 | BW28: =SUM('Свод по датам'!HB17:HD17) -> 0 | BX28: =SUM('Свод по датам'!HE17:HG17) -> 0 | BY28: =SUM('Свод по датам'!HH17:HJ17) -> 0 | BZ28: =SUM('Свод по датам'!HK17:HM17) -> 0 | CA28: =SUM('Свод по датам'!HN17:HP17) -> 0 | CB28: =SUM('Свод по датам'!HQ17:HS17) -> 0 | CC28: =SUM('Свод по датам'!HT17:HV17) -> 0 | CD28: =SUM('Свод по датам'!HW17:HY17) -> 0 | CE28: =SUM('Свод по датам'!HZ17:IB17) -> 0 | CF28: =SUM('Свод по датам'!IC17:IE17) -> 0 | CG28: =SUM('Свод по датам'!IF17:IH17) -> 0 | CH28: =SUM('Свод по датам'!II17:IK17) -> 0 | CI28: =SUM('Свод по датам'!IL17:IN17) -> 0 | CJ28: =SUM('Свод по датам'!IO17:IQ17) -> 0 | CK28: =SUM('Свод по датам'!IR17:IT17) -> 0 | CL28: =SUM('Свод по датам'!IU17:IW17) -> 0 | CM28: =SUM('Свод по датам'!IX17:IZ17) -> 0 | CN28: =SUM('Свод по датам'!JA17:JC17) -> 0 | CO28: =SUM('Свод по датам'!JD17:JF17) -> 0 | CP28: =SUM('Свод по датам'!JG17:JI17) -> 0 | CQ28: =SUM('Свод по датам'!JJ17:JL17) -> 0 | CR28: =SUM('Свод по датам'!JM17:JO17) -> 0 | CS28: =SUM('Свод по датам'!JP17:JR17) -> 0 | CT28: =SUM('Свод по датам'!JS17:JU17) -> 0 | CU28: =SUM('Свод по датам'!JV17:JX17) -> 0 | CV28: =SUM(G28:CU28) -> 590
E29: =CV29 -> 0 | F29: тонн | G29: =SUM('Свод по датам'!F18:H18)+SUM('Свод по датам'!F60:H60) -> 0 | H29: =SUM('Свод по датам'!I18:K18)+SUM('Свод по датам'!I60:K60) -> 0 | I29: =SUM('Свод по датам'!L18:N18)+SUM('Свод по датам'!L60:N60) -> 0 | J29: =SUM('Свод по датам'!O18:Q18)+SUM('Свод по датам'!O60:Q60) -> 0 | K29: =SUM('Свод по датам'!R18:T18)+SUM('Свод по датам'!R60:T60) -> 0 | L29: =SUM('Свод по датам'!U18:W18)+SUM('Свод по датам'!U60:W60) -> 0 | M29: =SUM('Свод по датам'!X18:Z18)+SUM('Свод по датам'!X60:Z60) -> 0 | N29: =SUM('Свод по датам'!AA18:AC18)+SUM('Свод по датам'!AA60:AC60) -> 0 | O29: =SUM('Свод по датам'!AD18:AF18)+SUM('Свод по датам'!AD60:AF60) -> 0 | P29: =SUM('Свод по датам'!AG18:AI18)+SUM('Свод по датам'!AG60:AI60) -> 0 | Q29: =SUM('Свод по датам'!AJ18:AL18)+SUM('Свод по датам'!AJ60:AL60) -> 0 | R29: =SUM('Свод по датам'!AM18:AO18)+SUM('Свод по датам'!AM60:AO60) -> 0 | S29: =SUM('Свод по датам'!AP18:AR18)+SUM('Свод по датам'!AP60:AR60) -> 0 | T29: =SUM('Свод по датам'!AS18:AU18)+SUM('Свод по датам'!AS60:AU60) -> 0 | U29: =SUM('Свод по датам'!AV18:AX18)+SUM('Свод по датам'!AV60:AX60) -> 0 | V29: =SUM('Свод по датам'!AY18:BA18)+SUM('Свод по датам'!AY60:BA60) -> 0 | W29: =SUM('Свод по датам'!BB18:BD18)+SUM('Свод по датам'!BB60:BD60) -> 0 | X29: =SUM('Свод по датам'!BE18:BG18)+SUM('Свод по датам'!BE60:BG60) -> 0 | Y29: =SUM('Свод по датам'!BH18:BJ18)+SUM('Свод по датам'!BH60:BJ60) -> 0 | Z29: =SUM('Свод по датам'!BK18:BM18)+SUM('Свод по датам'!BK60:BM60) -> 0 | AA29: =SUM('Свод по датам'!BN18:BP18)+SUM('Свод по датам'!BN60:BP60) -> 0 | AB29: =SUM('Свод по датам'!BQ18:BS18)+SUM('Свод по датам'!BQ60:BS60) -> 0 | AC29: =SUM('Свод по датам'!BT18:BV18)+SUM('Свод по датам'!BT60:BV60) -> 0 | AD29: =SUM('Свод по датам'!BW18:BY18)+SUM('Свод по датам'!BW60:BY60) -> 0 | AE29: =SUM('Свод по датам'!BZ18:CB18)+SUM('Свод по датам'!BZ60:CB60) -> 0 | AF29: =SUM('Свод по датам'!CC18:CE18)+SUM('Свод по датам'!CC60:CE60) -> 0 | AG29: =SUM('Свод по датам'!CF18:CH18)+SUM('Свод по датам'!CF60:CH60) -> 0 | AH29: =SUM('Свод по датам'!CI18:CK18)+SUM('Свод по датам'!CI60:CK60) -> 0 | AI29: =SUM('Свод по датам'!CL18:CN18)+SUM('Свод по датам'!CL60:CN60) -> 0 | AJ29: =SUM('Свод по датам'!CO18:CQ18)+SUM('Свод по датам'!CO60:CQ60) -> 0 | AK29: =SUM('Свод по датам'!CR18:CT18)+SUM('Свод по датам'!CR60:CT60) -> 0 | AL29: =SUM('Свод по датам'!CU18:CW18) -> 0 | AM29: =SUM('Свод по датам'!CX18:CZ18) -> 0 | AN29: =SUM('Свод по датам'!DA18:DC18) -> 0 | AO29: =SUM('Свод по датам'!DD18:DF18) -> 0 | AP29: =SUM('Свод по датам'!DG18:DI18) -> 0 | AQ29: =SUM('Свод по датам'!DJ18:DL18) -> 0 | AR29: =SUM('Свод по датам'!DM18:DO18) -> 0 | AS29: =SUM('Свод по датам'!DP18:DR18) -> 0 | AT29: =SUM('Свод по датам'!DS18:DU18) -> 0 | AU29: =SUM('Свод по датам'!DV18:DX18) -> 0 | AV29: =SUM('Свод по датам'!DY18:EA18) -> 0 | AW29: =SUM('Свод по датам'!EB18:ED18) -> 0 | AX29: =SUM('Свод по датам'!EE18:EG18) -> 0 | AY29: =SUM('Свод по датам'!EH18:EJ18) -> 0 | AZ29: =SUM('Свод по датам'!EK18:EM18) -> 0 | BA29: =SUM('Свод по датам'!EN18:EP18) -> 0 | BB29: =SUM('Свод по датам'!EQ18:ES18) -> 0 | BC29: =SUM('Свод по датам'!ET18:EV18) -> 0 | BD29: =SUM('Свод по датам'!EW18:EY18) -> 0 | BE29: =SUM('Свод по датам'!EZ18:FB18) -> 0 | BF29: =SUM('Свод по датам'!FC18:FE18) -> 0 | BG29: =SUM('Свод по датам'!FF18:FH18) -> 0 | BH29: =SUM('Свод по датам'!FI18:FK18) -> 0 | BI29: =SUM('Свод по датам'!FL18:FN18) -> 0 | BJ29: =SUM('Свод по датам'!FO18:FQ18) -> 0 | BK29: =SUM('Свод по датам'!FR18:FT18) -> 0 | BL29: =SUM('Свод по датам'!FU18:FW18) -> 0 | BM29: =SUM('Свод по датам'!FX18:FZ18) -> 0 | BN29: =SUM('Свод по датам'!GA18:GC18) -> 0 | BO29: =SUM('Свод по датам'!GD18:GF18) -> 0 | BP29: =SUM('Свод по датам'!GG18:GI18) -> 0 | BQ29: =SUM('Свод по датам'!GJ18:GL18) -> 0 | BR29: =SUM('Свод по датам'!GM18:GO18) -> 0 | BS29: =SUM('Свод по датам'!GP18:GR18) -> 0 | BT29: =SUM('Свод по датам'!GS18:GU18) -> 0 | BU29: =SUM('Свод по датам'!GV18:GX18) -> 0 | BV29: =SUM('Свод по датам'!GY18:HA18) -> 0 | BW29: =SUM('Свод по датам'!HB18:HD18) -> 0 | BX29: =SUM('Свод по датам'!HE18:HG18) -> 0 | BY29: =SUM('Свод по датам'!HH18:HJ18) -> 0 | BZ29: =SUM('Свод по датам'!HK18:HM18) -> 0 | CA29: =SUM('Свод по датам'!HN18:HP18) -> 0 | CB29: =SUM('Свод по датам'!HQ18:HS18) -> 0 | CC29: =SUM('Свод по датам'!HT18:HV18) -> 0 | CD29: =SUM('Свод по датам'!HW18:HY18) -> 0 | CE29: =SUM('Свод по датам'!HZ18:IB18) -> 0 | CF29: =SUM('Свод по датам'!IC18:IE18) -> 0 | CG29: =SUM('Свод по датам'!IF18:IH18) -> 0 | CH29: =SUM('Свод по датам'!II18:IK18) -> 0 | CI29: =SUM('Свод по датам'!IL18:IN18) -> 0 | CJ29: =SUM('Свод по датам'!IO18:IQ18) -> 0 | CK29: =SUM('Свод по датам'!IR18:IT18) -> 0 | CL29: =SUM('Свод по датам'!IU18:IW18) -> 0 | CM29: =SUM('Свод по датам'!IX18:IZ18) -> 0 | CN29: =SUM('Свод по датам'!JA18:JC18) -> 0 | CO29: =SUM('Свод по датам'!JD18:JF18) -> 0 | CP29: =SUM('Свод по датам'!JG18:JI18) -> 0 | CQ29: =SUM('Свод по датам'!JJ18:JL18) -> 0 | CR29: =SUM('Свод по датам'!JM18:JO18) -> 0 | CS29: =SUM('Свод по датам'!JP18:JR18) -> 0 | CT29: =SUM('Свод по датам'!JS18:JU18) -> 0 | CU29: =SUM('Свод по датам'!JV18:JX18) -> 0 | CV29: =SUM(G29:CU29) -> 0
A30: =G29/(G29+0.001)+H29/(H29+0.001)+K29/(K29+0.001)+L29/(L29+0.001)+M29/(M29+0.001)+N29/(N29+0.001)+O29/(O29+0.001)+P29/(P29+0.001)+Q29/(Q29+0.001)+R29/(R29+0.001)+T29/(T29+0.001)+I29/(I29+0.001)+U29/(U29+0.001)+V29/(V29+0.001)+X29/(X29+0.001)+J29/(J29+0.001)+W29/(W29+0.001)+Y29/(Y29+0.001)+Z29/(Z29+0.001)+AA29/(AA29+0.001)+AB29/(AB29+0.001)+AC29/(AC29+0.001)+AD29/(AD29+0.001)+AE29/(AE29+0.001)+AF29/(AF29+0.001)+AG29/(AG29+0.001)+AH29/(AH29+0.001)+AI29/(AI29+0.001)+AJ29/(AJ29+0.001)+AK29/(AK29+0.001)+AL29/(AL29+0.001)+AM29/(AM29+0.001)+AN29/(AN29+0.001)+AO29/(AO29+0.001)+AP29/(AP29+0.001)+AQ29/(AQ29+0.001)+AR29/(AR29+0.001)+AS29/(AS29+0.001)+AT29/(AT29+0.001)+AU29/(AU29+0.001)+AV29/(AV29+0.001)+AW29/(AW29+0.001)+AX29/(AX29+0.001)+AY29/(AY29+0.001)+AZ29/(AZ29+0.001)+BA29/(BA29+0.001)+BB29/(BB29+0.001)+BC29/(BC29+0.001)+BD29/(BD29+0.001)+BE29/(BE29+0.001)+BF29/(BF29+0.001)+BG29/(BG29+0.001)+BH29/(BH29+0.001)+BI29/(BI29+0.001)+BJ29/(BJ29+0.001)+BK29/(BK29+0.001)+BL29/(BL29+0.001)+BM29/(BM29+0.001)+BN29/(BN29+0.001)+BO29/(BO29+0.001)+BP29/(BP29+0.001)+BQ29/(BQ29+0.001) -> 0 | E30: =CV30 -> 0 | F30: га | G30: =SUM('Свод по датам'!F19:H19)+SUM('Свод по датам'!F61:H61) -> 0 | H30: =SUM('Свод по датам'!I19:K19)+SUM('Свод по датам'!I61:K61) -> 0 | I30: =SUM('Свод по датам'!L19:N19)+SUM('Свод по датам'!L61:N61) -> 0 | J30: =SUM('Свод по датам'!O19:Q19)+SUM('Свод по датам'!O61:Q61) -> 0 | K30: =SUM('Свод по датам'!R19:T19)+SUM('Свод по датам'!R61:T61) -> 0 | L30: =SUM('Свод по датам'!U19:W19)+SUM('Свод по датам'!U61:W61) -> 0 | M30: =SUM('Свод по датам'!X19:Z19)+SUM('Свод по датам'!X61:Z61) -> 0 | N30: =SUM('Свод по датам'!AA19:AC19)+SUM('Свод по датам'!AA61:AC61) -> 0 | O30: =SUM('Свод по датам'!AD19:AF19)+SUM('Свод по датам'!AD61:AF61) -> 0 | P30: =SUM('Свод по датам'!AG19:AI19)+SUM('Свод по датам'!AG61:AI61) -> 0 | Q30: =SUM('Свод по датам'!AJ19:AL19)+SUM('Свод по датам'!AJ61:AL61) -> 0 | R30: =SUM('Свод по датам'!AM19:AO19)+SUM('Свод по датам'!AM61:AO61) -> 0 | S30: =SUM('Свод по датам'!AP19:AR19)+SUM('Свод по датам'!AP61:AR61) -> 0 | T30: =SUM('Свод по датам'!AS19:AU19)+SUM('Свод по датам'!AS61:AU61) -> 0 | U30: =SUM('Свод по датам'!AV19:AX19)+SUM('Свод по датам'!AV61:AX61) -> 0 | V30: =SUM('Свод по датам'!AY19:BA19)+SUM('Свод по датам'!AY61:BA61) -> 0 | W30: =SUM('Свод по датам'!BB19:BD19)+SUM('Свод по датам'!BB61:BD61) -> 0 | X30: =SUM('Свод по датам'!BE19:BG19)+SUM('Свод по датам'!BE61:BG61) -> 0 | Y30: =SUM('Свод по датам'!BH19:BJ19)+SUM('Свод по датам'!BH61:BJ61) -> 0 | Z30: =SUM('Свод по датам'!BK19:BM19)+SUM('Свод по датам'!BK61:BM61) -> 0 | AA30: =SUM('Свод по датам'!BN19:BP19)+SUM('Свод по датам'!BN61:BP61) -> 0 | AB30: =SUM('Свод по датам'!BQ19:BS19)+SUM('Свод по датам'!BQ61:BS61) -> 0 | AC30: =SUM('Свод по датам'!BT19:BV19)+SUM('Свод по датам'!BT61:BV61) -> 0 | AD30: =SUM('Свод по датам'!BW19:BY19)+SUM('Свод по датам'!BW61:BY61) -> 0 | AE30: =SUM('Свод по датам'!BZ19:CB19)+SUM('Свод по датам'!BZ61:CB61) -> 0 | AF30: =SUM('Свод по датам'!CC19:CE19)+SUM('Свод по датам'!CC61:CE61) -> 0 | AG30: =SUM('Свод по датам'!CF19:CH19)+SUM('Свод по датам'!CF61:CH61) -> 0 | AH30: =SUM('Свод по датам'!CI19:CK19)+SUM('Свод по датам'!CI61:CK61) -> 0 | AI30: =SUM('Свод по датам'!CL19:CN19)+SUM('Свод по датам'!CL61:CN61) -> 0 | AJ30: =SUM('Свод по датам'!CO19:CQ19)+SUM('Свод по датам'!CO61:CQ61) -> 0 | AK30: =SUM('Свод по датам'!CR19:CT19)+SUM('Свод по датам'!CR61:CT61) -> 0 | AL30: =SUM('Свод по датам'!CU19:CW19) -> 0 | AM30: =SUM('Свод по датам'!CX19:CZ19) -> 0 | AN30: =SUM('Свод по датам'!DA19:DC19) -> 0 | AO30: =SUM('Свод по датам'!DD19:DF19) -> 0 | AP30: =SUM('Свод по датам'!DG19:DI19) -> 0 | AQ30: =SUM('Свод по датам'!DJ19:DL19) -> 0 | AR30: =SUM('Свод по датам'!DM19:DO19) -> 0 | AS30: =SUM('Свод по датам'!DP19:DR19) -> 0 | AT30: =SUM('Свод по датам'!DS19:DU19) -> 0 | AU30: =SUM('Свод по датам'!DV19:DX19) -> 0 | AV30: =SUM('Свод по датам'!DY19:EA19) -> 0 | AW30: =SUM('Свод по датам'!EB19:ED19) -> 0 | AX30: =SUM('Свод по датам'!EE19:EG19) -> 0 | AY30: =SUM('Свод по датам'!EH19:EJ19) -> 0 | AZ30: =SUM('Свод по датам'!EK19:EM19) -> 0 | BA30: =SUM('Свод по датам'!EN19:EP19) -> 0 | BB30: =SUM('Свод по датам'!EQ19:ES19) -> 0 | BC30: =SUM('Свод по датам'!ET19:EV19) -> 0 | BD30: =SUM('Свод по датам'!EW19:EY19) -> 0 | BE30: =SUM('Свод по датам'!EZ19:FB19) -> 0 | BF30: =SUM('Свод по датам'!FC19:FE19) -> 0 | BG30: =SUM('Свод по датам'!FF19:FH19) -> 0 | BH30: =SUM('Свод по датам'!FI19:FK19) -> 0 | BI30: =SUM('Свод по датам'!FL19:FN19) -> 0 | BJ30: =SUM('Свод по датам'!FO19:FQ19) -> 0 | BK30: =SUM('Свод по датам'!FR19:FT19) -> 0 | BL30: =SUM('Свод по датам'!FU19:FW19) -> 0 | BM30: =SUM('Свод по датам'!FX19:FZ19) -> 0 | BN30: =SUM('Свод по датам'!GA19:GC19) -> 0 | BO30: =SUM('Свод по датам'!GD19:GF19) -> 0 | BP30: =SUM('Свод по датам'!GG19:GI19) -> 0 | BQ30: =SUM('Свод по датам'!GJ19:GL19) -> 0 | BR30: =SUM('Свод по датам'!GM19:GO19) -> 0 | BS30: =SUM('Свод по датам'!GP19:GR19) -> 0 | BT30: =SUM('Свод по датам'!GS19:GU19) -> 0 | BU30: =SUM('Свод по датам'!GV19:GX19) -> 0 | BV30: =SUM('Свод по датам'!GY19:HA19) -> 0 | BW30: =SUM('Свод по датам'!HB19:HD19) -> 0 | BX30: =SUM('Свод по датам'!HE19:HG19) -> 0 | BY30: =SUM('Свод по датам'!HH19:HJ19) -> 0 | BZ30: =SUM('Свод по датам'!HK19:HM19) -> 0 | CA30: =SUM('Свод по датам'!HN19:HP19) -> 0 | CB30: =SUM('Свод по датам'!HQ19:HS19) -> 0 | CC30: =SUM('Свод по датам'!HT19:HV19) -> 0 | CD30: =SUM('Свод по датам'!HW19:HY19) -> 0 | CE30: =SUM('Свод по датам'!HZ19:IB19) -> 0 | CF30: =SUM('Свод по датам'!IC19:IE19) -> 0 | CG30: =SUM('Свод по датам'!IF19:IH19) -> 0 | CH30: =SUM('Свод по датам'!II19:IK19) -> 0 | CI30: =SUM('Свод по датам'!IL19:IN19) -> 0 | CJ30: =SUM('Свод по датам'!IO19:IQ19) -> 0 | CK30: =SUM('Свод по датам'!IR19:IT19) -> 0 | CL30: =SUM('Свод по датам'!IU19:IW19) -> 0 | CM30: =SUM('Свод по датам'!IX19:IZ19) -> 0 | CN30: =SUM('Свод по датам'!JA19:JC19) -> 0 | CO30: =SUM('Свод по датам'!JD19:JF19) -> 0 | CP30: =SUM('Свод по датам'!JG19:JI19) -> 0 | CQ30: =SUM('Свод по датам'!JJ19:JL19) -> 0 | CR30: =SUM('Свод по датам'!JM19:JO19) -> 0 | CS30: =SUM('Свод по датам'!JP19:JR19) -> 0 | CT30: =SUM('Свод по датам'!JS19:JU19) -> 0 | CU30: =SUM('Свод по датам'!JV19:JX19) -> 0 | CV30: =SUM(G30:CU30) -> 0
E31: =CV31 -> 0 | F31: тонн | G31: =SUM('Свод по датам'!F20:H20)+SUM('Свод по датам'!F62:H62) -> 0 | H31: =SUM('Свод по датам'!I20:K20)+SUM('Свод по датам'!I62:K62) -> 0 | I31: =SUM('Свод по датам'!L20:N20)+SUM('Свод по датам'!L62:N62) -> 0 | J31: =SUM('Свод по датам'!O20:Q20)+SUM('Свод по датам'!O62:Q62) -> 0 | K31: =SUM('Свод по датам'!R20:T20)+SUM('Свод по датам'!R62:T62) -> 0 | L31: =SUM('Свод по датам'!U20:W20)+SUM('Свод по датам'!U62:W62) -> 0 | M31: =SUM('Свод по датам'!X20:Z20)+SUM('Свод по датам'!X62:Z62) -> 0 | N31: =SUM('Свод по датам'!AA20:AC20)+SUM('Свод по датам'!AA62:AC62) -> 0 | O31: =SUM('Свод по датам'!AD20:AF20)+SUM('Свод по датам'!AD62:AF62) -> 0 | P31: =SUM('Свод по датам'!AG20:AI20)+SUM('Свод по датам'!AG62:AI62) -> 0 | Q31: =SUM('Свод по датам'!AJ20:AL20)+SUM('Свод по датам'!AJ62:AL62) -> 0 | R31: =SUM('Свод по датам'!AM20:AO20)+SUM('Свод по датам'!AM62:AO62) -> 0 | S31: =SUM('Свод по датам'!AP20:AR20)+SUM('Свод по датам'!AP62:AR62) -> 0 | T31: =SUM('Свод по датам'!AS20:AU20)+SUM('Свод по датам'!AS62:AU62) -> 0 | U31: =SUM('Свод по датам'!AV20:AX20)+SUM('Свод по датам'!AV62:AX62) -> 0 | V31: =SUM('Свод по датам'!AY20:BA20)+SUM('Свод по датам'!AY62:BA62) -> 0 | W31: =SUM('Свод по датам'!BB20:BD20)+SUM('Свод по датам'!BB62:BD62) -> 0 | X31: =SUM('Свод по датам'!BE20:BG20)+SUM('Свод по датам'!BE62:BG62) -> 0 | Y31: =SUM('Свод по датам'!BH20:BJ20)+SUM('Свод по датам'!BH62:BJ62) -> 0 | Z31: =SUM('Свод по датам'!BK20:BM20)+SUM('Свод по датам'!BK62:BM62) -> 0 | AA31: =SUM('Свод по датам'!BN20:BP20)+SUM('Свод по датам'!BN62:BP62) -> 0 | AB31: =SUM('Свод по датам'!BQ20:BS20)+SUM('Свод по датам'!BQ62:BS62) -> 0 | AC31: =SUM('Свод по датам'!BT20:BV20)+SUM('Свод по датам'!BT62:BV62) -> 0 | AD31: =SUM('Свод по датам'!BW20:BY20)+SUM('Свод по датам'!BW62:BY62) -> 0 | AE31: =SUM('Свод по датам'!BZ20:CB20)+SUM('Свод по датам'!BZ62:CB62) -> 0 | AF31: =SUM('Свод по датам'!CC20:CE20)+SUM('Свод по датам'!CC62:CE62) -> 0 | AG31: =SUM('Свод по датам'!CF20:CH20)+SUM('Свод по датам'!CF62:CH62) -> 0 | AH31: =SUM('Свод по датам'!CI20:CK20)+SUM('Свод по датам'!CI62:CK62) -> 0 | AI31: =SUM('Свод по датам'!CL20:CN20)+SUM('Свод по датам'!CL62:CN62) -> 0 | AJ31: =SUM('Свод по датам'!CO20:CQ20)+SUM('Свод по датам'!CO62:CQ62) -> 0 | AK31: =SUM('Свод по датам'!CR20:CT20)+SUM('Свод по датам'!CR62:CT62) -> 0 | AL31: =SUM('Свод по датам'!CU20:CW20) -> 0 | AM31: =SUM('Свод по датам'!CX20:CZ20) -> 0 | AN31: =SUM('Свод по датам'!DA20:DC20) -> 0 | AO31: =SUM('Свод по датам'!DD20:DF20) -> 0 | AP31: =SUM('Свод по датам'!DG20:DI20) -> 0 | AQ31: =SUM('Свод по датам'!DJ20:DL20) -> 0 | AR31: =SUM('Свод по датам'!DM20:DO20) -> 0 | AS31: =SUM('Свод по датам'!DP20:DR20) -> 0 | AT31: =SUM('Свод по датам'!DS20:DU20) -> 0 | AU31: =SUM('Свод по датам'!DV20:DX20) -> 0 | AV31: =SUM('Свод по датам'!DY20:EA20) -> 0 | AW31: =SUM('Свод по датам'!EB20:ED20) -> 0 | AX31: =SUM('Свод по датам'!EE20:EG20) -> 0 | AY31: =SUM('Свод по датам'!EH20:EJ20) -> 0 | AZ31: =SUM('Свод по датам'!EK20:EM20) -> 0 | BA31: =SUM('Свод по датам'!EN20:EP20) -> 0 | BB31: =SUM('Свод по датам'!EQ20:ES20) -> 0 | BC31: =SUM('Свод по датам'!ET20:EV20) -> 0 | BD31: =SUM('Свод по датам'!EW20:EY20) -> 0 | BE31: =SUM('Свод по датам'!EZ20:FB20) -> 0 | BF31: =SUM('Свод по датам'!FC20:FE20) -> 0 | BG31: =SUM('Свод по датам'!FF20:FH20) -> 0 | BH31: =SUM('Свод по датам'!FI20:FK20) -> 0 | BI31: =SUM('Свод по датам'!FL20:FN20) -> 0 | BJ31: =SUM('Свод по датам'!FO20:FQ20) -> 0 | BK31: =SUM('Свод по датам'!FR20:FT20) -> 0 | BL31: =SUM('Свод по датам'!FU20:FW20) -> 0 | BM31: =SUM('Свод по датам'!FX20:FZ20) -> 0 | BN31: =SUM('Свод по датам'!GA20:GC20) -> 0 | BO31: =SUM('Свод по датам'!GD20:GF20) -> 0 | BP31: =SUM('Свод по датам'!GG20:GI20) -> 0 | BQ31: =SUM('Свод по датам'!GJ20:GL20) -> 0 | BR31: =SUM('Свод по датам'!GM20:GO20) -> 0 | BS31: =SUM('Свод по датам'!GP20:GR20) -> 0 | BT31: =SUM('Свод по датам'!GS20:GU20) -> 0 | BU31: =SUM('Свод по датам'!GV20:GX20) -> 0 | BV31: =SUM('Свод по датам'!GY20:HA20) -> 0 | BW31: =SUM('Свод по датам'!HB20:HD20) -> 0 | BX31: =SUM('Свод по датам'!HE20:HG20) -> 0 | BY31: =SUM('Свод по датам'!HH20:HJ20) -> 0 | BZ31: =SUM('Свод по датам'!HK20:HM20) -> 0 | CA31: =SUM('Свод по датам'!HN20:HP20) -> 0 | CB31: =SUM('Свод по датам'!HQ20:HS20) -> 0 | CC31: =SUM('Свод по датам'!HT20:HV20) -> 0 | CD31: =SUM('Свод по датам'!HW20:HY20) -> 0 | CE31: =SUM('Свод по датам'!HZ20:IB20) -> 0 | CF31: =SUM('Свод по датам'!IC20:IE20) -> 0 | CG31: =SUM('Свод по датам'!IF20:IH20) -> 0 | CH31: =SUM('Свод по датам'!II20:IK20) -> 0 | CI31: =SUM('Свод по датам'!IL20:IN20) -> 0 | CJ31: =SUM('Свод по датам'!IO20:IQ20) -> 0 | CK31: =SUM('Свод по датам'!IR20:IT20) -> 0 | CL31: =SUM('Свод по датам'!IU20:IW20) -> 0 | CM31: =SUM('Свод по датам'!IX20:IZ20) -> 0 | CN31: =SUM('Свод по датам'!JA20:JC20) -> 0 | CO31: =SUM('Свод по датам'!JD20:JF20) -> 0 | CP31: =SUM('Свод по датам'!JG20:JI20) -> 0 | CQ31: =SUM('Свод по датам'!JJ20:JL20) -> 0 | CR31: =SUM('Свод по датам'!JM20:JO20) -> 0 | CS31: =SUM('Свод по датам'!JP20:JR20) -> 0 | CT31: =SUM('Свод по датам'!JS20:JU20) -> 0 | CU31: =SUM('Свод по датам'!JV20:JX20) -> 0 | CV31: =SUM(G31:CU31) -> 0
A32: =G31/(G31+0.001)+H31/(H31+0.001)+K31/(K31+0.001)+L31/(L31+0.001)+M31/(M31+0.001)+N31/(N31+0.001)+O31/(O31+0.001)+P31/(P31+0.001)+Q31/(Q31+0.001)+R31/(R31+0.001)+T31/(T31+0.001)+I31/(I31+0.001)+U31/(U31+0.001)+V31/(V31+0.001)+X31/(X31+0.001)+J31/(J31+0.001)+W31/(W31+0.001)+Y31/(Y31+0.001)+Z31/(Z31+0.001)+AA31/(AA31+0.001)+AB31/(AB31+0.001)+AC31/(AC31+0.001)+AD31/(AD31+0.001)+AE31/(AE31+0.001)+AF31/(AF31+0.001)+AG31/(AG31+0.001)+AH31/(AH31+0.001)+AI31/(AI31+0.001)+AJ31/(AJ31+0.001)+AK31/(AK31+0.001)+AL31/(AL31+0.001)+AM31/(AM31+0.001)+AN31/(AN31+0.001)+AO31/(AO31+0.001)+AP31/(AP31+0.001)+AQ31/(AQ31+0.001)+AR31/(AR31+0.001)+AS31/(AS31+0.001)+AT31/(AT31+0.001)+AU31/(AU31+0.001)+AV31/(AV31+0.001)+AW31/(AW31+0.001)+AX31/(AX31+0.001)+AY31/(AY31+0.001)+AZ31/(AZ31+0.001)+BA31/(BA31+0.001)+BB31/(BB31+0.001)+BC31/(BC31+0.001)+BD31/(BD31+0.001)+BE31/(BE31+0.001)+BF31/(BF31+0.001)+BG31/(BG31+0.001)+BH31/(BH31+0.001)+BI31/(BI31+0.001)+BJ31/(BJ31+0.001)+BK31/(BK31+0.001)+BL31/(BL31+0.001)+BM31/(BM31+0.001)+BN31/(BN31+0.001)+BO31/(BO31+0.001)+BP31/(BP31+0.001)+BQ31/(BQ31+0.001) -> 0 | E32: =CV32 -> 0 | F32: га | G32: =SUM('Свод по датам'!F21:H21)+SUM('Свод по датам'!F63:H63) -> 0 | H32: =SUM('Свод по датам'!I21:K21)+SUM('Свод по датам'!I63:K63) -> 0 | I32: =SUM('Свод по датам'!L21:N21)+SUM('Свод по датам'!L63:N63) -> 0 | J32: =SUM('Свод по датам'!O21:Q21)+SUM('Свод по датам'!O63:Q63) -> 0 | K32: =SUM('Свод по датам'!R21:T21)+SUM('Свод по датам'!R63:T63) -> 0 | L32: =SUM('Свод по датам'!U21:W21)+SUM('Свод по датам'!U63:W63) -> 0 | M32: =SUM('Свод по датам'!X21:Z21)+SUM('Свод по датам'!X63:Z63) -> 0 | N32: =SUM('Свод по датам'!AA21:AC21)+SUM('Свод по датам'!AA63:AC63) -> 0 | O32: =SUM('Свод по датам'!AD21:AF21)+SUM('Свод по датам'!AD63:AF63) -> 0 | P32: =SUM('Свод по датам'!AG21:AI21)+SUM('Свод по датам'!AG63:AI63) -> 0 | Q32: =SUM('Свод по датам'!AJ21:AL21)+SUM('Свод по датам'!AJ63:AL63) -> 0 | R32: =SUM('Свод по датам'!AM21:AO21)+SUM('Свод по датам'!AM63:AO63) -> 0 | S32: =SUM('Свод по датам'!AP21:AR21)+SUM('Свод по датам'!AP63:AR63) -> 0 | T32: =SUM('Свод по датам'!AS21:AU21)+SUM('Свод по датам'!AS63:AU63) -> 0 | U32: =SUM('Свод по датам'!AV21:AX21)+SUM('Свод по датам'!AV63:AX63) -> 0 | V32: =SUM('Свод по датам'!AY21:BA21)+SUM('Свод по датам'!AY63:BA63) -> 0 | W32: =SUM('Свод по датам'!BB21:BD21)+SUM('Свод по датам'!BB63:BD63) -> 0 | X32: =SUM('Свод по датам'!BE21:BG21)+SUM('Свод по датам'!BE63:BG63) -> 0 | Y32: =SUM('Свод по датам'!BH21:BJ21)+SUM('Свод по датам'!BH63:BJ63) -> 0 | Z32: =SUM('Свод по датам'!BK21:BM21)+SUM('Свод по датам'!BK63:BM63) -> 0 | AA32: =SUM('Свод по датам'!BN21:BP21)+SUM('Свод по датам'!BN63:BP63) -> 0 | AB32: =SUM('Свод по датам'!BQ21:BS21)+SUM('Свод по датам'!BQ63:BS63) -> 0 | AC32: =SUM('Свод по датам'!BT21:BV21)+SUM('Свод по датам'!BT63:BV63) -> 0 | AD32: =SUM('Свод по датам'!BW21:BY21)+SUM('Свод по датам'!BW63:BY63) -> 0 | AE32: =SUM('Свод по датам'!BZ21:CB21)+SUM('Свод по датам'!BZ63:CB63) -> 0 | AF32: =SUM('Свод по датам'!CC21:CE21)+SUM('Свод по датам'!CC63:CE63) -> 0 | AG32: =SUM('Свод по датам'!CF21:CH21)+SUM('Свод по датам'!CF63:CH63) -> 0 | AH32: =SUM('Свод по датам'!CI21:CK21)+SUM('Свод по датам'!CI63:CK63) -> 0 | AI32: =SUM('Свод по датам'!CL21:CN21)+SUM('Свод по датам'!CL63:CN63) -> 0 | AJ32: =SUM('Свод по датам'!CO21:CQ21)+SUM('Свод по датам'!CO63:CQ63) -> 0 | AK32: =SUM('Свод по датам'!CR21:CT21)+SUM('Свод по датам'!CR63:CT63) -> 0 | AL32: =SUM('Свод по датам'!CU21:CW21) -> 0 | AM32: =SUM('Свод по датам'!CX21:CZ21) -> 0 | AN32: =SUM('Свод по датам'!DA21:DC21) -> 0 | AO32: =SUM('Свод по датам'!DD21:DF21) -> 0 | AP32: =SUM('Свод по датам'!DG21:DI21) -> 0 | AQ32: =SUM('Свод по датам'!DJ21:DL21) -> 0 | AR32: =SUM('Свод по датам'!DM21:DO21) -> 0 | AS32: =SUM('Свод по датам'!DP21:DR21) -> 0 | AT32: =SUM('Свод по датам'!DS21:DU21) -> 0 | AU32: =SUM('Свод по датам'!DV21:DX21) -> 0 | AV32: =SUM('Свод по датам'!DY21:EA21) -> 0 | AW32: =SUM('Свод по датам'!EB21:ED21) -> 0 | AX32: =SUM('Свод по датам'!EE21:EG21) -> 0 | AY32: =SUM('Свод по датам'!EH21:EJ21) -> 0 | AZ32: =SUM('Свод по датам'!EK21:EM21) -> 0 | BA32: =SUM('Свод по датам'!EN21:EP21) -> 0 | BB32: =SUM('Свод по датам'!EQ21:ES21) -> 0 | BC32: =SUM('Свод по датам'!ET21:EV21) -> 0 | BD32: =SUM('Свод по датам'!EW21:EY21) -> 0 | BE32: =SUM('Свод по датам'!EZ21:FB21) -> 0 | BF32: =SUM('Свод по датам'!FC21:FE21) -> 0 | BG32: =SUM('Свод по датам'!FF21:FH21) -> 0 | BH32: =SUM('Свод по датам'!FI21:FK21) -> 0 | BI32: =SUM('Свод по датам'!FL21:FN21) -> 0 | BJ32: =SUM('Свод по датам'!FO21:FQ21) -> 0 | BK32: =SUM('Свод по датам'!FR21:FT21) -> 0 | BL32: =SUM('Свод по датам'!FU21:FW21) -> 0 | BM32: =SUM('Свод по датам'!FX21:FZ21) -> 0 | BN32: =SUM('Свод по датам'!GA21:GC21) -> 0 | BO32: =SUM('Свод по датам'!GD21:GF21) -> 0 | BP32: =SUM('Свод по датам'!GG21:GI21) -> 0 | BQ32: =SUM('Свод по датам'!GJ21:GL21) -> 0 | BR32: =SUM('Свод по датам'!GM21:GO21) -> 0 | BS32: =SUM('Свод по датам'!GP21:GR21) -> 0 | BT32: =SUM('Свод по датам'!GS21:GU21) -> 0 | BU32: =SUM('Свод по датам'!GV21:GX21) -> 0 | BV32: =SUM('Свод по датам'!GY21:HA21) -> 0 | BW32: =SUM('Свод по датам'!HB21:HD21) -> 0 | BX32: =SUM('Свод по датам'!HE21:HG21) -> 0 | BY32: =SUM('Свод по датам'!HH21:HJ21) -> 0 | BZ32: =SUM('Свод по датам'!HK21:HM21) -> 0 | CA32: =SUM('Свод по датам'!HN21:HP21) -> 0 | CB32: =SUM('Свод по датам'!HQ21:HS21) -> 0 | CC32: =SUM('Свод по датам'!HT21:HV21) -> 0 | CD32: =SUM('Свод по датам'!HW21:HY21) -> 0 | CE32: =SUM('Свод по датам'!HZ21:IB21) -> 0 | CF32: =SUM('Свод по датам'!IC21:IE21) -> 0 | CG32: =SUM('Свод по датам'!IF21:IH21) -> 0 | CH32: =SUM('Свод по датам'!II21:IK21) -> 0 | CI32: =SUM('Свод по датам'!IL21:IN21) -> 0 | CJ32: =SUM('Свод по датам'!IO21:IQ21) -> 0 | CK32: =SUM('Свод по датам'!IR21:IT21) -> 0 | CL32: =SUM('Свод по датам'!IU21:IW21) -> 0 | CM32: =SUM('Свод по датам'!IX21:IZ21) -> 0 | CN32: =SUM('Свод по датам'!JA21:JC21) -> 0 | CO32: =SUM('Свод по датам'!JD21:JF21) -> 0 | CP32: =SUM('Свод по датам'!JG21:JI21) -> 0 | CQ32: =SUM('Свод по датам'!JJ21:JL21) -> 0 | CR32: =SUM('Свод по датам'!JM21:JO21) -> 0 | CS32: =SUM('Свод по датам'!JP21:JR21) -> 0 | CT32: =SUM('Свод по датам'!JS21:JU21) -> 0 | CU32: =SUM('Свод по датам'!JV21:JX21) -> 0 | CV32: =SUM(G32:CU32) -> 0
C33: Итого | E33: =CV33 -> 7456.96 | F33: тонн | G33: =G15+G17+G19+G21+G23+G25+G27+G29+G31 -> 722 | H33: =H15+H17+H19+H21+H23+H25+H27+H29+H31 -> 0 | I33: =I15+I17+I19+I21+I23+I25+I27+I29+I31 -> 64.6 | J33: =J15+J17+J19+J21+J23+J25+J27+J29+J31 -> 60.2 | K33: =K15+K17+K19+K21+K23+K25+K27+K29+K31 -> 119.6 | L33: =L15+L17+L19+L21+L23+L25+L27+L29+L31 -> 77.8 | M33: =M15+M17+M19+M21+M23+M25+M27+M29+M31 -> 135.9 | N33: =N15+N17+N19+N21+N23+N25+N27+N29+N31 -> 146.8 | ... CU33: =CU15+CU17+CU19+CU21+CU23+CU25+CU27+CU29+CU31 -> 0 | CV33: =SUM(G33:CU33) -> 7456.96
E34: =CV34 -> 2893 | F34: га | G34: =G16+G18+G20+G22+G24+G26+G28+G30+G32 -> 315 | H34: =H16+H18+H20+H22+H24+H26+H28+H30+H32 -> 0 | I34: =I16+I18+I20+I22+I24+I26+I28+I30+I32 -> 81.48 | J34: =J16+J18+J20+J22+J24+J26+J28+J30+J32 -> 20 | K34: =K16+K18+K20+K22+K24+K26+K28+K30+K32 -> 40 | L34: =L16+L18+L20+L22+L24+L26+L28+L30+L32 -> 35.3 | M34: =M16+M18+M20+M22+M24+M26+M28+M30+M32 -> 62 | N34: =N16+N18+N20+N22+N24+N26+N28+N30+N32 -> 51 | ... CU34: =CU16+CU18+CU20+CU22+CU24+CU26+CU28+CU30+CU32 -> 0 | CV34: =SUM(G34:CU34) -> 2893
C37: Водители | G37: 44012 | H37: 44013 | I37: 44014 | J37: 44015 | K37: 44016 | L37: 44017 | M37: 44018 | N37: 44019 | O37: 44020 | P37: 44021 | Q37: 44022 | R37: 44023 | S37: 44024 | T37: 44025 | U37: 44026 | V37: 44027 | W37: 44028 | X37: 44029 | Y37: 44030 | Z37: 44031 | AA37: 44032 | AB37: 44033 | AC37: 44034 | AD37: 44035 | AE37: 44036 | AF37: 44037 | AG37: 44038 | AH37: 44039 | AI37: 44040 | AJ37: 44041 | AK37: 44042 | AL37: 44043 | AM37: 44044 | AN37: 44045 | AO37: 44046 | AP37: 44047 | AQ37: 44048 | AR37: 44049 | AS37: 44050 | AT37: 44051 | AU37: 44052 | AV37: 44053 | AW37: 44054 | AX37: 44055 | AY37: 44056 | AZ37: 44057 | BA37: 44058 | BB37: 44059 | BC37: 44060 | BD37: 44061 | BE37: 44062 | BF37: 44063 | BG37: 44064 | BH37: 44065 | BI37: 44066 | BJ37: 44067 | BK37: 44068 | BL37: 44069 | BM37: 44070 | BN37: 44071 | BO37: 44072 | BP37: 44073 | BQ37: 44074 | BR37: 44075 | BS37: 44076 | BT37: 44077 | BU37: 44078 | BV37: 44079 | BW37: 44080 | BX37: 44081 | BY37: 44082 | BZ37: 44083 | CA37: 44084 | CB37: 44085 | CC37: 44086 | CD37: 44087 | CE37: 44088 | CF37: 44089 | CG37: 44090 | CH37: 44091 | CI37: 44092 | CJ37: 44093 | CK37: 44094 | CL37: 44095 | CM37: 44096 | CN37: 44097 | CO37: 44098 | CP37: 44099 | CQ37: 44100 | CR37: 44101 | CS37: 44102 | CT37: 44103 | CU37: 44104 | CV37: итого
A38: =G38/(G38+0.001)+H38/(H38+0.001)+K38/(K38+0.001)+L38/(L38+0.001)+M38/(M38+0.001)+N38/(N38+0.001)+O38/(O38+0.001)+P38/(P38+0.001)+Q38/(Q38+0.001)+R38/(R38+0.001)+T38/(T38+0.001)+I38/(I38+0.001)+U38/(U38+0.001)+V38/(V38+0.001)+X38/(X38+0.001)+J38/(J38+0.001)+W38/(W38+0.001)+Y38/(Y38+0.001)+Z38/(Z38+0.001)+AA38/(AA38+0.001)+AB38/(AB38+0.001)+AC38/(AC38+0.001)+AD38/(AD38+0.001)+AE38/(AE38+0.001)+AF38/(AF38+0.001)+AG38/(AG38+0.001)+AH38/(AH38+0.001)+AI38/(AI38+0.001)+AJ38/(AJ38+0.001)+AK38/(AK38+0.001)+AL38/(AL38+0.001)+AM38/(AM38+0.001)+AN38/(AN38+0.001)+AO38/(AO38+0.001)+AP38/(AP38+0.001)+AQ38/(AQ38+0.001)+AR38/(AR38+0.001)+AS38/(AS38+0.001)+AT38/(AT38+0.001)+AU38/(AU38+0.001)+AV38/(AV38+0.001)+AW38/(AW38+0.001)+AX38/(AX38+0.001)+AY38/(AY38+0.001)+AZ38/(AZ38+0.001)+BA38/(BA38+0.001)+BB38/(BB38+0.001)+BC38/(BC38+0.001)+BD38/(BD38+0.001)+BE38/(BE38+0.001)+BF38/(BF38+0.001)+BG38/(BG38+0.001)+BH38/(BH38+0.001)+BI38/(BI38+0.001)+BJ38/(BJ38+0.001)+BK38/(BK38+0.001)+BL38/(BL38+0.001)+BM38/(BM38+0.001)+BN38/(BN38+0.001)+BO38/(BO38+0.001)+BP38/(BP38+0.001)+BQ38/(BQ38+0.001) -> 38.998489 | B38: 1 | C38: Старотиторов Александр Николаевич | D38: ГАЗ-САЗ-35071 | E38: =CV38 -> 1911.4 | F38: т | G38: =SUM('Свод по датам'!F27:H27)+SUM('Свод по датам'!F69:H69) -> 7.3 | H38: =SUM('Свод по датам'!I27:K27)+SUM('Свод по датам'!I69:K69) -> 0 | I38: =SUM('Свод по датам'!L27:N27)+SUM('Свод по датам'!L69:N69) -> 17.6 | J38: =SUM('Свод по датам'!O27:Q27)+SUM('Свод по датам'!O69:Q69) -> 19.8 | K38: =SUM('Свод по датам'!R27:T27)+SUM('Свод по датам'!R69:T69) -> 48.7 | L38: =SUM('Свод по датам'!U27:W27)+SUM('Свод по датам'!U69:W69) -> 26.6 | M38: =SUM('Свод по датам'!X27:Z27)+SUM('Свод по датам'!X69:Z69) -> 43.6 | N38: =SUM('Свод по датам'!AA27:AC27)+SUM('Свод по датам'!AA69:AC69) -> 67.5 | O38: =SUM('Свод по датам'!AD27:AF27)+SUM('Свод по датам'!AD69:AF69) -> 87.1 | P38: =SUM('Свод по датам'!AG27:AI27)+SUM('Свод по датам'!AG69:AI69) -> 108.5 | Q38: =SUM('Свод по датам'!AJ27:AL27)+SUM('Свод по датам'!AJ69:AL69) -> 71.9 | R38: =SUM('Свод по датам'!AM27:AO27)+SUM('Свод по датам'!AM69:AO69) -> 33.9 | S38: =SUM('Свод по датам'!AP27:AR27)+SUM('Свод по датам'!AP69:AR69) -> 0 | T38: =SUM('Свод по датам'!AS27:AU27)+SUM('Свод по датам'!AS69:AU69) -> 27.9 | U38: =SUM('Свод по датам'!AV27:AX27)+SUM('Свод по датам'!AV69:AX69) -> 72 | V38: =SUM('Свод по датам'!AY27:BA27)+SUM('Свод по датам'!AY69:BA69) -> 31.7 | W38: =SUM('Свод по датам'!BB27:BD27)+SUM('Свод по датам'!BB69:BD69) -> 105.7 | X38: =SUM('Свод по датам'!BE27:BG27)+SUM('Свод по датам'!BE69:BG69) -> 41.9 | Y38: =SUM('Свод по датам'!BH27:BJ27)+SUM('Свод по датам'!BH69:BJ69) -> 13.9 | Z38: =SUM('Свод по датам'!BK27:BM27)+SUM('Свод по датам'!BK69:BM69) -> 29.9 | AA38: =SUM('Свод по датам'!BN27:BP27)+SUM('Свод по датам'!BN69:BP69) -> 80 | AB38: =SUM('Свод по датам'!BQ27:BS27)+SUM('Свод по датам'!BQ69:BS69) -> 76.3 | AC38: =SUM('Свод по датам'!BT27:BV27)+SUM('Свод по датам'!BT69:BV69) -> 41.3 | AD38: =SUM('Свод по датам'!BW27:BY27)+SUM('Свод по датам'!BW69:BY69) -> 71.4 | AE38: =SUM('Свод по датам'!BZ27:CB27)+SUM('Свод по датам'!BZ69:CB69) -> 87.4 | AF38: =SUM('Свод по датам'!CC27:CE27)+SUM('Свод по датам'!CC69:CE69) -> 62.3 | AG38: =SUM('Свод по датам'!CF27:CH27)+SUM('Свод по датам'!CF69:CH69) -> 77.9 | AH38: =SUM('Свод по датам'!CI27:CK27)+SUM('Свод по датам'!CI69:CK69) -> 60 | AI38: =SUM('Свод по датам'!CL27:CN27)+SUM('Свод по датам'!CL69:CN69) -> 53.1 | AJ38: =SUM('Свод по датам'!CO27:CQ27)+SUM('Свод по датам'!CO69:CQ69) -> 0 | AK38: =SUM('Свод по датам'!CR27:CT27)+SUM('Свод по датам'!CR69:CT69) -> 0 | AL38: =SUM('Свод по датам'!CU27:CW27)+SUM('Свод по датам'!CU69:CW69) -> 2.2 | AM38: =SUM('Свод по датам'!CX27:CZ27) -> 35.7 | AN38: =SUM('Свод по датам'!DA27:DC27) -> 40 | AO38: =SUM('Свод по датам'!DD27:DF27) -> 29.6 | AP38: =SUM('Свод по датам'!DG27:DI27) -> 32.1 | AQ38: =SUM('Свод по датам'!DJ27:DL27) -> 44.1 | AR38: =SUM('Свод по датам'!DM27:DO27) -> 43.9 | AS38: =SUM('Свод по датам'!DP27:DR27) -> 0 | AT38: =SUM('Свод по датам'!DS27:DU27) -> 61.6 | AU38: =SUM('Свод по датам'!DV27:DX27) -> 55.9 | AV38: =SUM('Свод по датам'!DY27:EA27) -> 46.3 | AW38: =SUM('Свод по датам'!EB27:ED27) -> 30.8 | AX38: =SUM('Свод по датам'!EE27:EG27) -> 24 | AY38: =SUM('Свод по датам'!EH27:EJ27) -> 0 | AZ38: =SUM('Свод по датам'!EK27:EM27) -> 0 | BA38: =SUM('Свод по датам'!EN27:EP27) -> 0 | BB38: =SUM('Свод по датам'!EQ27:ES27) -> 0 | BC38: =SUM('Свод по датам'!ET27:EV27) -> 0 | BD38: =SUM('Свод по датам'!EW27:EY27) -> 0 | BE38: =SUM('Свод по датам'!EZ27:FB27) -> 0 | BF38: =SUM('Свод по датам'!FC27:FE27) -> 0 | BG38: =SUM('Свод по датам'!FF27:FH27) -> 0 | BH38: =SUM('Свод по датам'!FI27:FK27) -> 0 | BI38: =SUM('Свод по датам'!FL27:FN27) -> 0 | BJ38: =SUM('Свод по датам'!FO27:FQ27) -> 0 | BK38: =SUM('Свод по датам'!FR27:FT27) -> 0 | BL38: =SUM('Свод по датам'!FU27:FW27) -> 0 | BM38: =SUM('Свод по датам'!FX27:FZ27) -> 0 | BN38: =SUM('Свод по датам'!GA27:GC27) -> 0 | BO38: =SUM('Свод по датам'!GD27:GF27) -> 0 | BP38: =SUM('Свод по датам'!GG27:GI27) -> 0 | BQ38: =SUM('Свод по датам'!GJ27:GL27) -> 0 | BR38: =SUM('Свод по датам'!GM27:GO27) -> 0 | BS38: =SUM('Свод по датам'!GP27:GR27) -> 0 | BT38: =SUM('Свод по датам'!GS27:GU27) -> 0 | BU38: =SUM('Свод по датам'!GV27:GX27) -> 0 | BV38: =SUM('Свод по датам'!GY27:HA27) -> 0 | BW38: =SUM('Свод по датам'!HB27:HD27) -> 0 | BX38: =SUM('Свод по датам'!HE27:HG27) -> 0 | BY38: =SUM('Свод по датам'!HH27:HJ27) -> 0 | BZ38: =SUM('Свод по датам'!HK27:HM27) -> 0 | CA38: =SUM('Свод по датам'!HN27:HP27) -> 0 | CB38: =SUM('Свод по датам'!HQ27:HS27) -> 0 | CC38: =SUM('Свод по датам'!HT27:HV27) -> 0 | CD38: =SUM('Свод по датам'!HW27:HY27) -> 0 | CE38: =SUM('Свод по датам'!HZ27:IB27) -> 0 | CF38: =SUM('Свод по датам'!IC27:IE27) -> 0 | CG38: =SUM('Свод по датам'!IF27:IH27) -> 0 | CH38: =SUM('Свод по датам'!II27:IK27) -> 0 | CI38: =SUM('Свод по датам'!IL27:IN27) -> 0 | CJ38: =SUM('Свод по датам'!IO27:IQ27) -> 0 | CK38: =SUM('Свод по датам'!IR27:IT27) -> 0 | CL38: =SUM('Свод по датам'!IU27:IW27) -> 0 | CM38: =SUM('Свод по датам'!IX27:IZ27) -> 0 | CN38: =SUM('Свод по датам'!JA27:JC27) -> 0 | CO38: =SUM('Свод по датам'!JD27:JF27) -> 0 | CP38: =SUM('Свод по датам'!JG27:JI27) -> 0 | CQ38: =SUM('Свод по датам'!JJ27:JL27) -> 0 | CR38: =SUM('Свод по датам'!JM27:JO27) -> 0 | CS38: =SUM('Свод по датам'!JP27:JR27) -> 0 | CT38: =SUM('Свод по датам'!JS27:JU27) -> 0 | CU38: =SUM('Свод по датам'!JV27:JX27) -> 0 | CV38: =SUM(G38:CU38) -> 1911.4
A39: =G39/(G39+0.001)+H39/(H39+0.001)+K39/(K39+0.001)+L39/(L39+0.001)+M39/(M39+0.001)+N39/(N39+0.001)+O39/(O39+0.001)+P39/(P39+0.001)+Q39/(Q39+0.001)+R39/(R39+0.001)+T39/(T39+0.001)+I39/(I39+0.001)+U39/(U39+0.001)+V39/(V39+0.001)+X39/(X39+0.001)+J39/(J39+0.001)+W39/(W39+0.001)+Y39/(Y39+0.001)+Z39/(Z39+0.001)+AA39/(AA39+0.001)+AB39/(AB39+0.001)+AC39/(AC39+0.001)+AD39/(AD39+0.001)+AE39/(AE39+0.001)+AF39/(AF39+0.001)+AG39/(AG39+0.001)+AH39/(AH39+0.001)+AI39/(AI39+0.001)+AJ39/(AJ39+0.001)+AK39/(AK39+0.001)+AL39/(AL39+0.001)+AM39/(AM39+0.001)+AN39/(AN39+0.001)+AO39/(AO39+0.001)+AP39/(AP39+0.001)+AQ39/(AQ39+0.001)+AR39/(AR39+0.001)+AS39/(AS39+0.001)+AT39/(AT39+0.001)+AU39/(AU39+0.001)+AV39/(AV39+0.001)+AW39/(AW39+0.001)+AX39/(AX39+0.001)+AY39/(AY39+0.001)+AZ39/(AZ39+0.001)+BA39/(BA39+0.001)+BB39/(BB39+0.001)+BC39/(BC39+0.001)+BD39/(BD39+0.001)+BE39/(BE39+0.001)+BF39/(BF39+0.001)+BG39/(BG39+0.001)+BH39/(BH39+0.001)+BI39/(BI39+0.001)+BJ39/(BJ39+0.001)+BK39/(BK39+0.001)+BL39/(BL39+0.001)+BM39/(BM39+0.001)+BN39/(BN39+0.001)+BO39/(BO39+0.001)+BP39/(BP39+0.001)+BQ39/(BQ39+0.001) -> 21.999338 | B39: 2 | C39: Бужан В.В. | D39: МАЗ-5551 | E39: =CV39 -> 989.66 | F39: т | G39: =SUM('Свод по датам'!F28:H28)+SUM('Свод по датам'!F70:H70) -> 0 | H39: =SUM('Свод по датам'!I28:K28)+SUM('Свод по датам'!I70:K70) -> 0 | I39: =SUM('Свод по датам'!L28:N28)+SUM('Свод по датам'!L70:N70) -> 0 | J39: =SUM('Свод по датам'!O28:Q28)+SUM('Свод по датам'!O70:Q70) -> 0 | K39: =SUM('Свод по датам'!R28:T28)+SUM('Свод по датам'!R70:T70) -> 0 | L39: =SUM('Свод по датам'!U28:W28)+SUM('Свод по датам'!U70:W70) -> 0 | M39: =SUM('Свод по датам'!X28:Z28)+SUM('Свод по датам'!X70:Z70) -> 0 | N39: =SUM('Свод по датам'!AA28:AC28)+SUM('Свод по датам'!AA70:AC70) -> 0 | O39: =SUM('Свод по датам'!AD28:AF28)+SUM('Свод по датам'!AD70:AF70) -> 0 | P39: =SUM('Свод по датам'!AG28:AI28)+SUM('Свод по датам'!AG70:AI70) -> 0 | Q39: =SUM('Свод по датам'!AJ28:AL28)+SUM('Свод по датам'!AJ70:AL70) -> 0 | R39: =SUM('Свод по датам'!AM28:AO28)+SUM('Свод по датам'!AM70:AO70) -> 0 | S39: =SUM('Свод по датам'!AP28:AR28)+SUM('Свод по датам'!AP70:AR70) -> 63.3 | T39: =SUM('Свод по датам'!AS28:AU28)+SUM('Свод по датам'!AS70:AU70) -> 24.4 | U39: =SUM('Свод по датам'!AV28:AX28)+SUM('Свод по датам'!AV70:AX70) -> 51.3 | V39: =SUM('Свод по датам'!AY28:BA28)+SUM('Свод по датам'!AY70:BA70) -> 28.3 | W39: =SUM('Свод по датам'!BB28:BD28)+SUM('Свод по датам'!BB70:BD70) -> 83.2 | X39: =SUM('Свод по датам'!BE28:BG28)+SUM('Свод по датам'!BE70:BG70) -> 37.1 | Y39: =SUM('Свод по датам'!BH28:BJ28)+SUM('Свод по датам'!BH70:BJ70) -> 10 | Z39: =SUM('Свод по датам'!BK28:BM28)+SUM('Свод по датам'!BK70:BM70) -> 0 | AA39: =SUM('Свод по датам'!BN28:BP28)+SUM('Свод по датам'!BN70:BP70) -> 57.7 | AB39: =SUM('Свод по датам'!BQ28:BS28)+SUM('Свод по датам'!BQ70:BS70) -> 71 | AC39: =SUM('Свод по датам'!BT28:BV28)+SUM('Свод по датам'!BT70:BV70) -> 31.66 | AD39: =SUM('Свод по датам'!BW28:BY28)+SUM('Свод по датам'!BW70:BY70) -> 32 | AE39: =SUM('Свод по датам'!BZ28:CB28)+SUM('Свод по датам'!BZ70:CB70) -> 58.4 | AF39: =SUM('Свод по датам'!CC28:CE28)+SUM('Свод по датам'!CC70:CE70) -> 47.5 | AG39: =SUM('Свод по датам'!CF28:CH28)+SUM('Свод по датам'!CF70:CH70) -> 51 | AH39: =SUM('Свод по датам'!CI28:CK28)+SUM('Свод по датам'!CI70:CK70) -> 37.6 | AI39: =SUM('Свод по датам'!CL28:CN28)+SUM('Свод по датам'!CL70:CN70) -> 65 | AJ39: =SUM('Свод по датам'!CO28:CQ28)+SUM('Свод по датам'!CO70:CQ70) -> 0 | AK39: =SUM('Свод по датам'!CR28:CT28)+SUM('Свод по датам'!CR70:CT70) -> 0 | AL39: =SUM('Свод по датам'!CU28:CW28)+SUM('Свод по датам'!CU70:CW70) -> 0 | AM39: =SUM('Свод по датам'!CX28:CZ28) -> 55.2 | AN39: =SUM('Свод по датам'!DA28:DC28) -> 24.7 | AO39: =SUM('Свод по датам'!DD28:DF28) -> 0 | AP39: =SUM('Свод по датам'!DG28:DI28) -> 23.8 | AQ39: =SUM('Свод по датам'!DJ28:DL28) -> 41.8 | AR39: =SUM('Свод по датам'!DM28:DO28) -> 31.4 | AS39: =SUM('Свод по датам'!DP28:DR28) -> 0 | AT39: =SUM('Свод по датам'!DS28:DU28) -> 44.9 | AU39: =SUM('Свод по датам'!DV28:DX28) -> 18.4 | AV39: =SUM('Свод по датам'!DY28:EA28) -> 0 | AW39: =SUM('Свод по датам'!EB28:ED28) -> 0 | AX39: =SUM('Свод по датам'!EE28:EG28) -> 0 | AY39: =SUM('Свод по датам'!EH28:EJ28) -> 0 | AZ39: =SUM('Свод по датам'!EK28:EM28) -> 0 | BA39: =SUM('Свод по датам'!EN28:EP28) -> 0 | BB39: =SUM('Свод по датам'!EQ28:ES28) -> 0 | BC39: =SUM('Свод по датам'!ET28:EV28) -> 0 | BD39: =SUM('Свод по датам'!EW28:EY28) -> 0 | BE39: =SUM('Свод по датам'!EZ28:FB28) -> 0 | BF39: =SUM('Свод по датам'!FC28:FE28) -> 0 | BG39: =SUM('Свод по датам'!FF28:FH28) -> 0 | BH39: =SUM('Свод по датам'!FI28:FK28) -> 0 | BI39: =SUM('Свод по датам'!FL28:FN28) -> 0 | BJ39: =SUM('Свод по датам'!FO28:FQ28) -> 0 | BK39: =SUM('Свод по датам'!FR28:FT28) -> 0 | BL39: =SUM('Свод по датам'!FU28:FW28) -> 0 | BM39: =SUM('Свод по датам'!FX28:FZ28) -> 0 | BN39: =SUM('Свод по датам'!GA28:GC28) -> 0 | BO39: =SUM('Свод по датам'!GD28:GF28) -> 0 | BP39: =SUM('Свод по датам'!GG28:GI28) -> 0 | BQ39: =SUM('Свод по датам'!GJ28:GL28) -> 0 | BR39: =SUM('Свод по датам'!GM28:GO28) -> 0 | BS39: =SUM('Свод по датам'!GP28:GR28) -> 0 | BT39: =SUM('Свод по датам'!GS28:GU28) -> 0 | BU39: =SUM('Свод по датам'!GV28:GX28) -> 0 | BV39: =SUM('Свод по датам'!GY28:HA28) -> 0 | BW39: =SUM('Свод по датам'!HB28:HD28) -> 0 | BX39: =SUM('Свод по датам'!HE28:HG28) -> 0 | BY39: =SUM('Свод по датам'!HH28:HJ28) -> 0 | BZ39: =SUM('Свод по датам'!HK28:HM28) -> 0 | CA39: =SUM('Свод по датам'!HN28:HP28) -> 0 | CB39: =SUM('Свод по датам'!HQ28:HS28) -> 0 | CC39: =SUM('Свод по датам'!HT28:HV28) -> 0 | CD39: =SUM('Свод по датам'!HW28:HY28) -> 0 | CE39: =SUM('Свод по датам'!HZ28:IB28) -> 0 | CF39: =SUM('Свод по датам'!IC28:IE28) -> 0 | CG39: =SUM('Свод по датам'!IF28:IH28) -> 0 | CH39: =SUM('Свод по датам'!II28:IK28) -> 0 | CI39: =SUM('Свод по датам'!IL28:IN28) -> 0 | CJ39: =SUM('Свод по датам'!IO28:IQ28) -> 0 | CK39: =SUM('Свод по датам'!IR28:IT28) -> 0 | CL39: =SUM('Свод по датам'!IU28:IW28) -> 0 | CM39: =SUM('Свод по датам'!IX28:IZ28) -> 0 | CN39: =SUM('Свод по датам'!JA28:JC28) -> 0 | CO39: =SUM('Свод по датам'!JD28:JF28) -> 0 | CP39: =SUM('Свод по датам'!JG28:JI28) -> 0 | CQ39: =SUM('Свод по датам'!JJ28:JL28) -> 0 | CR39: =SUM('Свод по датам'!JM28:JO28) -> 0 | CS39: =SUM('Свод по датам'!JP28:JR28) -> 0 | CT39: =SUM('Свод по датам'!JS28:JU28) -> 0 | CU39: =SUM('Свод по датам'!JV28:JX28) -> 0 | CV39: =SUM(G39:CU39) -> 989.66
A40: =G40/(G40+0.001)+H40/(H40+0.001)+K40/(K40+0.001)+L40/(L40+0.001)+M40/(M40+0.001)+N40/(N40+0.001)+O40/(O40+0.001)+P40/(P40+0.001)+Q40/(Q40+0.001)+R40/(R40+0.001)+T40/(T40+0.001)+I40/(I40+0.001)+U40/(U40+0.001)+V40/(V40+0.001)+X40/(X40+0.001)+J40/(J40+0.001)+W40/(W40+0.001)+Y40/(Y40+0.001)+Z40/(Z40+0.001)+AA40/(AA40+0.001)+AB40/(AB40+0.001)+AC40/(AC40+0.001)+AD40/(AD40+0.001)+AE40/(AE40+0.001)+AF40/(AF40+0.001)+AG40/(AG40+0.001)+AH40/(AH40+0.001)+AI40/(AI40+0.001)+AJ40/(AJ40+0.001)+AK40/(AK40+0.001)+AL40/(AL40+0.001)+AM40/(AM40+0.001)+AN40/(AN40+0.001)+AO40/(AO40+0.001)+AP40/(AP40+0.001)+AQ40/(AQ40+0.001)+AR40/(AR40+0.001)+AS40/(AS40+0.001)+AT40/(AT40+0.001)+AU40/(AU40+0.001)+AV40/(AV40+0.001)+AW40/(AW40+0.001)+AX40/(AX40+0.001)+AY40/(AY40+0.001)+AZ40/(AZ40+0.001)+BA40/(BA40+0.001)+BB40/(BB40+0.001)+BC40/(BC40+0.001)+BD40/(BD40+0.001)+BE40/(BE40+0.001)+BF40/(BF40+0.001)+BG40/(BG40+0.001)+BH40/(BH40+0.001)+BI40/(BI40+0.001)+BJ40/(BJ40+0.001)+BK40/(BK40+0.001)+BL40/(BL40+0.001)+BM40/(BM40+0.001)+BN40/(BN40+0.001)+BO40/(BO40+0.001)+BP40/(BP40+0.001)+BQ40/(BQ40+0.001) -> 7.9997515 | B40: 3 | C40: Скоробогатый Кирилл Владимирович | D40: МАЗ-457043 | E40: =CV40 -> 581.8 | F40: т | G40: =SUM('Свод по датам'!F29:H29)+SUM('Свод по датам'!F71:H71) -> 275.7 | H40: =SUM('Свод по датам'!I29:K29)+SUM('Свод по датам'!I71:K71) -> 0 | I40: =SUM('Свод по датам'!L29:N29)+SUM('Свод по датам'!L71:N71) -> 23.8 | J40: =SUM('Свод по датам'!O29:Q29)+SUM('Свод по датам'!O71:Q71) -> 13.5 | K40: =SUM('Свод по датам'!R29:T29)+SUM('Свод по датам'!R71:T71) -> 32.9 | L40: =SUM('Свод по датам'!U29:W29)+SUM('Свод по датам'!U71:W71) -> 20.2 | M40: =SUM('Свод по датам'!X29:Z29)+SUM('Свод по датам'!X71:Z71) -> 41.5 | N40: =SUM('Свод по датам'!AA29:AC29)+SUM('Свод по датам'!AA71:AC71) -> 63.5 | O40: =SUM('Свод по датам'!AD29:AF29)+SUM('Свод по датам'!AD71:AF71) -> 0 | P40: =SUM('Свод по датам'!AG29:AI29)+SUM('Свод по датам'!AG71:AI71) -> 110.7 | Q40: =SUM('Свод по датам'!AJ29:AL29)+SUM('Свод по датам'!AJ71:AL71) -> 0 | R40: =SUM('Свод по датам'!AM29:AO29)+SUM('Свод по датам'!AM71:AO71) -> 0 | S40: =SUM('Свод по датам'!AP29:AR29)+SUM('Свод по датам'!AP71:AR71) -> 0 | T40: =SUM('Свод по датам'!AS29:AU29)+SUM('Свод по датам'!AS71:AU71) -> 0 | U40: =SUM('Свод по датам'!AV29:AX29)+SUM('Свод по датам'!AV71:AX71) -> 0 | V40: =SUM('Свод по датам'!AY29:BA29)+SUM('Свод по датам'!AY71:BA71) -> 0 | W40: =SUM('Свод по датам'!BB29:BD29)+SUM('Свод по датам'!BB71:BD71) -> 0 | X40: =SUM('Свод по датам'!BE29:BG29)+SUM('Свод по датам'!BE71:BG71) -> 0 | Y40: =SUM('Свод по датам'!BH29:BJ29)+SUM('Свод по датам'!BH71:BJ71) -> 0 | Z40: =SUM('Свод по датам'!BK29:BM29)+SUM('Свод по датам'!BK71:BM71) -> 0 | AA40: =SUM('Свод по датам'!BN29:BP29)+SUM('Свод по датам'!BN71:BP71) -> 0 | AB40: =SUM('Свод по датам'!BQ29:BS29)+SUM('Свод по датам'!BQ71:BS71) -> 0 | AC40: =SUM('Свод по датам'!BT29:BV29)+SUM('Свод по датам'!BT71:BV71) -> 0 | AD40: =SUM('Свод по датам'!BW29:BY29)+SUM('Свод по датам'!BW71:BY71) -> 0 | AE40: =SUM('Свод по датам'!BZ29:CB29)+SUM('Свод по датам'!BZ71:CB71) -> 0 | AF40: =SUM('Свод по датам'!CC29:CE29)+SUM('Свод по датам'!CC71:CE71) -> 0 | AG40: =SUM('Свод по датам'!CF29:CH29)+SUM('Свод по датам'!CF71:CH71) -> 0 | AH40: =SUM('Свод по датам'!CI29:CK29)+SUM('Свод по датам'!CI71:CK71) -> 0 | AI40: =SUM('Свод по датам'!CL29:CN29)+SUM('Свод по датам'!CL71:CN71) -> 0 | AJ40: =SUM('Свод по датам'!CO29:CQ29)+SUM('Свод по датам'!CO71:CQ71) -> 0 | AK40: =SUM('Свод по датам'!CR29:CT29)+SUM('Свод по датам'!CR71:CT71) -> 0 | AL40: =SUM('Свод по датам'!CU29:CW29)+SUM('Свод по датам'!CU71:CW71) -> 0 | AM40: =SUM('Свод по датам'!CX29:CZ29) -> 0 | AN40: =SUM('Свод по датам'!DA29:DC29) -> 0 | AO40: =SUM('Свод по датам'!DD29:DF29) -> 0 | AP40: =SUM('Свод по датам'!DG29:DI29) -> 0 | AQ40: =SUM('Свод по датам'!DJ29:DL29) -> 0 | AR40: =SUM('Свод по датам'!DM29:DO29) -> 0 | AS40: =SUM('Свод по датам'!DP29:DR29) -> 0 | AT40: =SUM('Свод по датам'!DS29:DU29) -> 0 | AU40: =SUM('Свод по датам'!DV29:DX29) -> 0 | AV40: =SUM('Свод по датам'!DY29:EA29) -> 0 | AW40: =SUM('Свод по датам'!EB29:ED29) -> 0 | AX40: =SUM('Свод по датам'!EE29:EG29) -> 0 | AY40: =SUM('Свод по датам'!EH29:EJ29) -> 0 | AZ40: =SUM('Свод по датам'!EK29:EM29) -> 0 | BA40: =SUM('Свод по датам'!EN29:EP29) -> 0 | BB40: =SUM('Свод по датам'!EQ29:ES29) -> 0 | BC40: =SUM('Свод по датам'!ET29:EV29) -> 0 | BD40: =SUM('Свод по датам'!EW29:EY29) -> 0 | BE40: =SUM('Свод по датам'!EZ29:FB29) -> 0 | BF40: =SUM('Свод по датам'!FC29:FE29) -> 0 | BG40: =SUM('Свод по датам'!FF29:FH29) -> 0 | BH40: =SUM('Свод по датам'!FI29:FK29) -> 0 | BI40: =SUM('Свод по датам'!FL29:FN29) -> 0 | BJ40: =SUM('Свод по датам'!FO29:FQ29) -> 0 | BK40: =SUM('Свод по датам'!FR29:FT29) -> 0 | BL40: =SUM('Свод по датам'!FU29:FW29) -> 0 | BM40: =SUM('Свод по датам'!FX29:FZ29) -> 0 | BN40: =SUM('Свод по датам'!GA29:GC29) -> 0 | BO40: =SUM('Свод по датам'!GD29:GF29) -> 0 | BP40: =SUM('Свод по датам'!GG29:GI29) -> 0 | BQ40: =SUM('Свод по датам'!GJ29:GL29) -> 0 | BR40: =SUM('Свод по датам'!GM29:GO29) -> 0 | BS40: =SUM('Свод по датам'!GP29:GR29) -> 0 | BT40: =SUM('Свод по датам'!GS29:GU29) -> 0 | BU40: =SUM('Свод по датам'!GV29:GX29) -> 0 | BV40: =SUM('Свод по датам'!GY29:HA29) -> 0 | BW40: =SUM('Свод по датам'!HB29:HD29) -> 0 | BX40: =SUM('Свод по датам'!HE29:HG29) -> 0 | BY40: =SUM('Свод по датам'!HH29:HJ29) -> 0 | BZ40: =SUM('Свод по датам'!HK29:HM29) -> 0 | CA40: =SUM('Свод по датам'!HN29:HP29) -> 0 | CB40: =SUM('Свод по датам'!HQ29:HS29) -> 0 | CC40: =SUM('Свод по датам'!HT29:HV29) -> 0 | CD40: =SUM('Свод по датам'!HW29:HY29) -> 0 | CE40: =SUM('Свод по датам'!HZ29:IB29) -> 0 | CF40: =SUM('Свод по датам'!IC29:IE29) -> 0 | CG40: =SUM('Свод по датам'!IF29:IH29) -> 0 | CH40: =SUM('Свод по датам'!II29:IK29) -> 0 | CI40: =SUM('Свод по датам'!IL29:IN29) -> 0 | CJ40: =SUM('Свод по датам'!IO29:IQ29) -> 0 | CK40: =SUM('Свод по датам'!IR29:IT29) -> 0 | CL40: =SUM('Свод по датам'!IU29:IW29) -> 0 | CM40: =SUM('Свод по датам'!IX29:IZ29) -> 0 | CN40: =SUM('Свод по датам'!JA29:JC29) -> 0 | CO40: =SUM('Свод по датам'!JD29:JF29) -> 0 | CP40: =SUM('Свод по датам'!JG29:JI29) -> 0 | CQ40: =SUM('Свод по датам'!JJ29:JL29) -> 0 | CR40: =SUM('Свод по датам'!JM29:JO29) -> 0 | CS40: =SUM('Свод по датам'!JP29:JR29) -> 0 | CT40: =SUM('Свод по датам'!JS29:JU29) -> 0 | CU40: =SUM('Свод по датам'!JV29:JX29) -> 0 | CV40: =SUM(G40:CU40) -> 581.8
A41: =G41/(G41+0.001)+H41/(H41+0.001)+K41/(K41+0.001)+L41/(L41+0.001)+M41/(M41+0.001)+N41/(N41+0.001)+O41/(O41+0.001)+P41/(P41+0.001)+Q41/(Q41+0.001)+R41/(R41+0.001)+T41/(T41+0.001)+I41/(I41+0.001)+U41/(U41+0.001)+V41/(V41+0.001)+X41/(X41+0.001)+J41/(J41+0.001)+W41/(W41+0.001)+Y41/(Y41+0.001)+Z41/(Z41+0.001)+AA41/(AA41+0.001)+AB41/(AB41+0.001)+AC41/(AC41+0.001)+AD41/(AD41+0.001)+AE41/(AE41+0.001)+AF41/(AF41+0.001)+AG41/(AG41+0.001)+AH41/(AH41+0.001)+AI41/(AI41+0.001)+AJ41/(AJ41+0.001)+AK41/(AK41+0.001)+AL41/(AL41+0.001)+AM41/(AM41+0.001)+AN41/(AN41+0.001)+AO41/(AO41+0.001)+AP41/(AP41+0.001)+AQ41/(AQ41+0.001)+AR41/(AR41+0.001)+AS41/(AS41+0.001)+AT41/(AT41+0.001)+AU41/(AU41+0.001)+AV41/(AV41+0.001)+AW41/(AW41+0.001)+AX41/(AX41+0.001)+AY41/(AY41+0.001)+AZ41/(AZ41+0.001)+BA41/(BA41+0.001)+BB41/(BB41+0.001)+BC41/(BC41+0.001)+BD41/(BD41+0.001)+BE41/(BE41+0.001)+BF41/(BF41+0.001)+BG41/(BG41+0.001)+BH41/(BH41+0.001)+BI41/(BI41+0.001)+BJ41/(BJ41+0.001)+BK41/(BK41+0.001)+BL41/(BL41+0.001)+BM41/(BM41+0.001)+BN41/(BN41+0.001)+BO41/(BO41+0.001)+BP41/(BP41+0.001)+BQ41/(BQ41+0.001) -> 2.999828 | B41: 4 | C41: Зайцев Владимир Александрович | D41: МАЗ-5551 | E41: =CV41 -> 66.9 | F41: т | G41: =SUM('Свод по датам'!F30:H30)+SUM('Свод по датам'!F72:H72) -> 0 | H41: =SUM('Свод по датам'!I30:K30)+SUM('Свод по датам'!I72:K72) -> 0 | I41: =SUM('Свод по датам'!L30:N30)+SUM('Свод по датам'!L72:N72) -> 0 | J41: =SUM('Свод по датам'!O30:Q30)+SUM('Свод по датам'!O72:Q72) -> 0 | K41: =SUM('Свод по датам'!R30:T30)+SUM('Свод по датам'!R72:T72) -> 0 | L41: =SUM('Свод по датам'!U30:W30)+SUM('Свод по датам'!U72:W72) -> 0 | M41: =SUM('Свод по датам'!X30:Z30)+SUM('Свод по датам'!X72:Z72) -> 0 | N41: =SUM('Свод по датам'!AA30:AC30)+SUM('Свод по датам'!AA72:AC72) -> 0 | O41: =SUM('Свод по датам'!AD30:AF30)+SUM('Свод по датам'!AD72:AF72) -> 0 | P41: =SUM('Свод по датам'!AG30:AI30)+SUM('Свод по датам'!AG72:AI72) -> 0 | Q41: =SUM('Свод по датам'!AJ30:AL30)+SUM('Свод по датам'!AJ72:AL72) -> 0 | R41: =SUM('Свод по датам'!AM30:AO30)+SUM('Свод по датам'!AM72:AO72) -> 0 | S41: =SUM('Свод по датам'!AP30:AR30)+SUM('Свод по датам'!AP72:AR72) -> 0 | T41: =SUM('Свод по датам'!AS30:AU30)+SUM('Свод по датам'!AS72:AU72) -> 0 | U41: =SUM('Свод по датам'!AV30:AX30)+SUM('Свод по датам'!AV72:AX72) -> 0 | V41: =SUM('Свод по датам'!AY30:BA30)+SUM('Свод по датам'!AY72:BA72) -> 0 | W41: =SUM('Свод по датам'!BB30:BD30)+SUM('Свод по датам'!BB72:BD72) -> 0 | X41: =SUM('Свод по датам'!BE30:BG30)+SUM('Свод по датам'!BE72:BG72) -> 0 | Y41: =SUM('Свод по датам'!BH30:BJ30)+SUM('Свод по датам'!BH72:BJ72) -> 0 | Z41: =SUM('Свод по датам'!BK30:BM30)+SUM('Свод по датам'!BK72:BM72) -> 0 | AA41: =SUM('Свод по датам'!BN30:BP30)+SUM('Свод по датам'!BN72:BP72) -> 0 | AB41: =SUM('Свод по датам'!BQ30:BS30)+SUM('Свод по датам'!BQ72:BS72) -> 0 | AC41: =SUM('Свод по датам'!BT30:BV30)+SUM('Свод по датам'!BT72:BV72) -> 0 | AD41: =SUM('Свод по датам'!BW30:BY30)+SUM('Свод по датам'!BW72:BY72) -> 0 | AE41: =SUM('Свод по датам'!BZ30:CB30)+SUM('Свод по датам'!BZ72:CB72) -> 0 | AF41: =SUM('Свод по датам'!CC30:CE30)+SUM('Свод по датам'!CC72:CE72) -> 0 | AG41: =SUM('Свод по датам'!CF30:CH30)+SUM('Свод по датам'!CF72:CH72) -> 0 | AH41: =SUM('Свод по датам'!CI30:CK30)+SUM('Свод по датам'!CI72:CK72) -> 0 | AI41: =SUM('Свод по датам'!CL30:CN30)+SUM('Свод по датам'!CL72:CN72) -> 0 | AJ41: =SUM('Свод по датам'!CO30:CQ30)+SUM('Свод по датам'!CO72:CQ72) -> 0 | AK41: =SUM('Свод по датам'!CR30:CT30)+SUM('Свод по датам'!CR72:CT72) -> 0 | AL41: =SUM('Свод по датам'!CU30:CW30)+SUM('Свод по датам'!CU72:CW72) -> 0 | AM41: =SUM('Свод по датам'!CX30:CZ30) -> 0 | AN41: =SUM('Свод по датам'!DA30:DC30) -> 0 | AO41: =SUM('Свод по датам'!DD30:DF30) -> 0 | AP41: =SUM('Свод по датам'!DG30:DI30) -> 0 | AQ41: =SUM('Свод по датам'!DJ30:DL30) -> 0 | AR41: =SUM('Свод по датам'!DM30:DO30) -> 0 | AS41: =SUM('Свод по датам'!DP30:DR30) -> 0 | AT41: =SUM('Свод по датам'!DS30:DU30) -> 0 | AU41: =SUM('Свод по датам'!DV30:DX30) -> 0 | AV41: =SUM('Свод по датам'!DY30:EA30) -> 0 | AW41: =SUM('Свод по датам'!EB30:ED30) -> 0 | AX41: =SUM('Свод по датам'!EE30:EG30) -> 0 | AY41: =SUM('Свод по датам'!EH30:EJ30) -> 0 | AZ41: =SUM('Свод по датам'!EK30:EM30) -> 0 | BA41: =SUM('Свод по датам'!EN30:EP30) -> 0 | BB41: =SUM('Свод по датам'!EQ30:ES30) -> 0 | BC41: =SUM('Свод по датам'!ET30:EV30) -> 0 | BD41: =SUM('Свод по датам'!EW30:EY30) -> 0 | BE41: =SUM('Свод по датам'!EZ30:FB30) -> 0 | BF41: =SUM('Свод по датам'!FC30:FE30) -> 20.4 | BG41: =SUM('Свод по датам'!FF30:FH30) -> 36 | BH41: =SUM('Свод по датам'!FI30:FK30) -> 10.5 | BI41: =SUM('Свод по датам'!FL30:FN30) -> 0 | BJ41: =SUM('Свод по датам'!FO30:FQ30) -> 0 | BK41: =SUM('Свод по датам'!FR30:FT30) -> 0 | BL41: =SUM('Свод по датам'!FU30:FW30) -> 0 | BM41: =SUM('Свод по датам'!FX30:FZ30) -> 0 | BN41: =SUM('Свод по датам'!GA30:GC30) -> 0 | BO41: =SUM('Свод по датам'!GD30:GF30) -> 0 | BP41: =SUM('Свод по датам'!GG30:GI30) -> 0 | BQ41: =SUM('Свод по датам'!GJ30:GL30) -> 0 | BR41: =SUM('Свод по датам'!GM30:GO30) -> 0 | BS41: =SUM('Свод по датам'!GP30:GR30) -> 0 | BT41: =SUM('Свод по датам'!GS30:GU30) -> 0 | BU41: =SUM('Свод по датам'!GV30:GX30) -> 0 | BV41: =SUM('Свод по датам'!GY30:HA30) -> 0 | BW41: =SUM('Свод по датам'!HB30:HD30) -> 0 | BX41: =SUM('Свод по датам'!HE30:HG30) -> 0 | BY41: =SUM('Свод по датам'!HH30:HJ30) -> 0 | BZ41: =SUM('Свод по датам'!HK30:HM30) -> 0 | CA41: =SUM('Свод по датам'!HN30:HP30) -> 0 | CB41: =SUM('Свод по датам'!HQ30:HS30) -> 0 | CC41: =SUM('Свод по датам'!HT30:HV30) -> 0 | CD41: =SUM('Свод по датам'!HW30:HY30) -> 0 | CE41: =SUM('Свод по датам'!HZ30:IB30) -> 0 | CF41: =SUM('Свод по датам'!IC30:IE30) -> 0 | CG41: =SUM('Свод по датам'!IF30:IH30) -> 0 | CH41: =SUM('Свод по датам'!II30:IK30) -> 0 | CI41: =SUM('Свод по датам'!IL30:IN30) -> 0 | CJ41: =SUM('Свод по датам'!IO30:IQ30) -> 0 | CK41: =SUM('Свод по датам'!IR30:IT30) -> 0 | CL41: =SUM('Свод по датам'!IU30:IW30) -> 0 | CM41: =SUM('Свод по датам'!IX30:IZ30) -> 0 | CN41: =SUM('Свод по датам'!JA30:JC30) -> 0 | CO41: =SUM('Свод по датам'!JD30:JF30) -> 0 | CP41: =SUM('Свод по датам'!JG30:JI30) -> 0 | CQ41: =SUM('Свод по датам'!JJ30:JL30) -> 0 | CR41: =SUM('Свод по датам'!JM30:JO30) -> 0 | CS41: =SUM('Свод по датам'!JP30:JR30) -> 0 | CT41: =SUM('Свод по датам'!JS30:JU30) -> 0 | CU41: =SUM('Свод по датам'!JV30:JX30) -> 0 | CV41: =SUM(G41:CU41) -> 66.9
A42: =G42/(G42+0.001)+H42/(H42+0.001)+K42/(K42+0.001)+L42/(L42+0.001)+M42/(M42+0.001)+N42/(N42+0.001)+O42/(O42+0.001)+P42/(P42+0.001)+Q42/(Q42+0.001)+R42/(R42+0.001)+T42/(T42+0.001)+I42/(I42+0.001)+U42/(U42+0.001)+V42/(V42+0.001)+X42/(X42+0.001)+J42/(J42+0.001)+W42/(W42+0.001)+Y42/(Y42+0.001)+Z42/(Z42+0.001)+AA42/(AA42+0.001)+AB42/(AB42+0.001)+AC42/(AC42+0.001)+AD42/(AD42+0.001)+AE42/(AE42+0.001)+AF42/(AF42+0.001)+AG42/(AG42+0.001)+AH42/(AH42+0.001)+AI42/(AI42+0.001)+AJ42/(AJ42+0.001)+AK42/(AK42+0.001)+AL42/(AL42+0.001)+AM42/(AM42+0.001)+AN42/(AN42+0.001)+AO42/(AO42+0.001)+AP42/(AP42+0.001)+AQ42/(AQ42+0.001)+AR42/(AR42+0.001)+AS42/(AS42+0.001)+AT42/(AT42+0.001)+AU42/(AU42+0.001)+AV42/(AV42+0.001)+AW42/(AW42+0.001)+AX42/(AX42+0.001)+AY42/(AY42+0.001)+AZ42/(AZ42+0.001)+BA42/(BA42+0.001)+BB42/(BB42+0.001)+BC42/(BC42+0.001)+BD42/(BD42+0.001)+BE42/(BE42+0.001)+BF42/(BF42+0.001)+BG42/(BG42+0.001)+BH42/(BH42+0.001)+BI42/(BI42+0.001)+BJ42/(BJ42+0.001)+BK42/(BK42+0.001)+BL42/(BL42+0.001)+BM42/(BM42+0.001)+BN42/(BN42+0.001)+BO42/(BO42+0.001)+BP42/(BP42+0.001)+BQ42/(BQ42+0.001) -> 0 | B42: 5 | C42: Ермоленко Антон Александрович | D42: МАЗ-5551 | E42: =CV42 -> 0 | F42: т | G42: =SUM('Свод по датам'!F31:H31)+SUM('Свод по датам'!F73:H73) -> 0 | H42: =SUM('Свод по датам'!I31:K31)+SUM('Свод по датам'!I73:K73) -> 0 | I42: =SUM('Свод по датам'!L31:N31)+SUM('Свод по датам'!L73:N73) -> 0 | J42: =SUM('Свод по датам'!O31:Q31)+SUM('Свод по датам'!O73:Q73) -> 0 | K42: =SUM('Свод по датам'!R31:T31)+SUM('Свод по датам'!R73:T73) -> 0 | L42: =SUM('Свод по датам'!U31:W31)+SUM('Свод по датам'!U73:W73) -> 0 | M42: =SUM('Свод по датам'!X31:Z31)+SUM('Свод по датам'!X73:Z73) -> 0 | N42: =SUM('Свод по датам'!AA31:AC31)+SUM('Свод по датам'!AA73:AC73) -> 0 | O42: =SUM('Свод по датам'!AD31:AF31)+SUM('Свод по датам'!AD73:AF73) -> 0 | P42: =SUM('Свод по датам'!AG31:AI31)+SUM('Свод по датам'!AG73:AI73) -> 0 | Q42: =SUM('Свод по датам'!AJ31:AL31)+SUM('Свод по датам'!AJ73:AL73) -> 0 | R42: =SUM('Свод по датам'!AM31:AO31)+SUM('Свод по датам'!AM73:AO73) -> 0 | S42: =SUM('Свод по датам'!AP31:AR31)+SUM('Свод по датам'!AP73:AR73) -> 0 | T42: =SUM('Свод по датам'!AS31:AU31)+SUM('Свод по датам'!AS73:AU73) -> 0 | U42: =SUM('Свод по датам'!AV31:AX31)+SUM('Свод по датам'!AV73:AX73) -> 0 | V42: =SUM('Свод по датам'!AY31:BA31)+SUM('Свод по датам'!AY73:BA73) -> 0 | W42: =SUM('Свод по датам'!BB31:BD31)+SUM('Свод по датам'!BB73:BD73) -> 0 | X42: =SUM('Свод по датам'!BE31:BG31)+SUM('Свод по датам'!BE73:BG73) -> 0 | Y42: =SUM('Свод по датам'!BH31:BJ31)+SUM('Свод по датам'!BH73:BJ73) -> 0 | Z42: =SUM('Свод по датам'!BK31:BM31)+SUM('Свод по датам'!BK73:BM73) -> 0 | AA42: =SUM('Свод по датам'!BN31:BP31)+SUM('Свод по датам'!BN73:BP73) -> 0 | AB42: =SUM('Свод по датам'!BQ31:BS31)+SUM('Свод по датам'!BQ73:BS73) -> 0 | AC42: =SUM('Свод по датам'!BT31:BV31)+SUM('Свод по датам'!BT73:BV73) -> 0 | AD42: =SUM('Свод по датам'!BW31:BY31)+SUM('Свод по датам'!BW73:BY73) -> 0 | AE42: =SUM('Свод по датам'!BZ31:CB31)+SUM('Свод по датам'!BZ73:CB73) -> 0 | AF42: =SUM('Свод по датам'!CC31:CE31)+SUM('Свод по датам'!CC73:CE73) -> 0 | AG42: =SUM('Свод по датам'!CF31:CH31)+SUM('Свод по датам'!CF73:CH73) -> 0 | AH42: =SUM('Свод по датам'!CI31:CK31)+SUM('Свод по датам'!CI73:CK73) -> 0 | AI42: =SUM('Свод по датам'!CL31:CN31)+SUM('Свод по датам'!CL73:CN73) -> 0 | AJ42: =SUM('Свод по датам'!CO31:CQ31)+SUM('Свод по датам'!CO73:CQ73) -> 0 | AK42: =SUM('Свод по датам'!CR31:CT31)+SUM('Свод по датам'!CR73:CT73) -> 0 | AL42: =SUM('Свод по датам'!CU31:CW31)+SUM('Свод по датам'!CU73:CW73) -> 0 | AM42: =SUM('Свод по датам'!CX31:CZ31) -> 0 | AN42: =SUM('Свод по датам'!DA31:DC31) -> 0 | AO42: =SUM('Свод по датам'!DD31:DF31) -> 0 | AP42: =SUM('Свод по датам'!DG31:DI31) -> 0 | AQ42: =SUM('Свод по датам'!DJ31:DL31) -> 0 | AR42: =SUM('Свод по датам'!DM31:DO31) -> 0 | AS42: =SUM('Свод по датам'!DP31:DR31) -> 0 | AT42: =SUM('Свод по датам'!DS31:DU31) -> 0 | AU42: =SUM('Свод по датам'!DV31:DX31) -> 0 | AV42: =SUM('Свод по датам'!DY31:EA31) -> 0 | AW42: =SUM('Свод по датам'!EB31:ED31) -> 0 | AX42: =SUM('Свод по датам'!EE31:EG31) -> 0 | AY42: =SUM('Свод по датам'!EH31:EJ31) -> 0 | AZ42: =SUM('Свод по датам'!EK31:EM31) -> 0 | BA42: =SUM('Свод по датам'!EN31:EP31) -> 0 | BB42: =SUM('Свод по датам'!EQ31:ES31) -> 0 | BC42: =SUM('Свод по датам'!ET31:EV31) -> 0 | BD42: =SUM('Свод по датам'!EW31:EY31) -> 0 | BE42: =SUM('Свод по датам'!EZ31:FB31) -> 0 | BF42: =SUM('Свод по датам'!FC31:FE31) -> 0 | BG42: =SUM('Свод по датам'!FF31:FH31) -> 0 | BH42: =SUM('Свод по датам'!FI31:FK31) -> 0 | BI42: =SUM('Свод по датам'!FL31:FN31) -> 0 | BJ42: =SUM('Свод по датам'!FO31:FQ31) -> 0 | BK42: =SUM('Свод по датам'!FR31:FT31) -> 0 | BL42: =SUM('Свод по датам'!FU31:FW31) -> 0 | BM42: =SUM('Свод по датам'!FX31:FZ31) -> 0 | BN42: =SUM('Свод по датам'!GA31:GC31) -> 0 | BO42: =SUM('Свод по датам'!GD31:GF31) -> 0 | BP42: =SUM('Свод по датам'!GG31:GI31) -> 0 | BQ42: =SUM('Свод по датам'!GJ31:GL31) -> 0 | BR42: =SUM('Свод по датам'!GM31:GO31) -> 0 | BS42: =SUM('Свод по датам'!GP31:GR31) -> 0 | BT42: =SUM('Свод по датам'!GS31:GU31) -> 0 | BU42: =SUM('Свод по датам'!GV31:GX31) -> 0 | BV42: =SUM('Свод по датам'!GY31:HA31) -> 0 | BW42: =SUM('Свод по датам'!HB31:HD31) -> 0 | BX42: =SUM('Свод по датам'!HE31:HG31) -> 0 | BY42: =SUM('Свод по датам'!HH31:HJ31) -> 0 | BZ42: =SUM('Свод по датам'!HK31:HM31) -> 0 | CA42: =SUM('Свод по датам'!HN31:HP31) -> 0 | CB42: =SUM('Свод по датам'!HQ31:HS31) -> 0 | CC42: =SUM('Свод по датам'!HT31:HV31) -> 0 | CD42: =SUM('Свод по датам'!HW31:HY31) -> 0 | CE42: =SUM('Свод по датам'!HZ31:IB31) -> 0 | CF42: =SUM('Свод по датам'!IC31:IE31) -> 0 | CG42: =SUM('Свод по датам'!IF31:IH31) -> 0 | CH42: =SUM('Свод по датам'!II31:IK31) -> 0 | CI42: =SUM('Свод по датам'!IL31:IN31) -> 0 | CJ42: =SUM('Свод по датам'!IO31:IQ31) -> 0 | CK42: =SUM('Свод по датам'!IR31:IT31) -> 0 | CL42: =SUM('Свод по датам'!IU31:IW31) -> 0 | CM42: =SUM('Свод по датам'!IX31:IZ31) -> 0 | CN42: =SUM('Свод по датам'!JA31:JC31) -> 0 | CO42: =SUM('Свод по датам'!JD31:JF31) -> 0 | CP42: =SUM('Свод по датам'!JG31:JI31) -> 0 | CQ42: =SUM('Свод по датам'!JJ31:JL31) -> 0 | CR42: =SUM('Свод по датам'!JM31:JO31) -> 0 | CS42: =SUM('Свод по датам'!JP31:JR31) -> 0 | CT42: =SUM('Свод по датам'!JS31:JU31) -> 0 | CU42: =SUM('Свод по датам'!JV31:JX31) -> 0 | CV42: =SUM(G42:CU42) -> 0
A43: =G43/(G43+0.001)+H43/(H43+0.001)+K43/(K43+0.001)+L43/(L43+0.001)+M43/(M43+0.001)+N43/(N43+0.001)+O43/(O43+0.001)+P43/(P43+0.001)+Q43/(Q43+0.001)+R43/(R43+0.001)+T43/(T43+0.001)+I43/(I43+0.001)+U43/(U43+0.001)+V43/(V43+0.001)+X43/(X43+0.001)+J43/(J43+0.001)+W43/(W43+0.001)+Y43/(Y43+0.001)+Z43/(Z43+0.001)+AA43/(AA43+0.001)+AB43/(AB43+0.001)+AC43/(AC43+0.001)+AD43/(AD43+0.001)+AE43/(AE43+0.001)+AF43/(AF43+0.001)+AG43/(AG43+0.001)+AH43/(AH43+0.001)+AI43/(AI43+0.001)+AJ43/(AJ43+0.001)+AK43/(AK43+0.001)+AL43/(AL43+0.001)+AM43/(AM43+0.001)+AN43/(AN43+0.001)+AO43/(AO43+0.001)+AP43/(AP43+0.001)+AQ43/(AQ43+0.001)+AR43/(AR43+0.001)+AS43/(AS43+0.001)+AT43/(AT43+0.001)+AU43/(AU43+0.001)+AV43/(AV43+0.001)+AW43/(AW43+0.001)+AX43/(AX43+0.001)+AY43/(AY43+0.001)+AZ43/(AZ43+0.001)+BA43/(BA43+0.001)+BB43/(BB43+0.001)+BC43/(BC43+0.001)+BD43/(BD43+0.001)+BE43/(BE43+0.001)+BF43/(BF43+0.001)+BG43/(BG43+0.001)+BH43/(BH43+0.001)+BI43/(BI43+0.001)+BJ43/(BJ43+0.001)+BK43/(BK43+0.001)+BL43/(BL43+0.001)+BM43/(BM43+0.001)+BN43/(BN43+0.001)+BO43/(BO43+0.001)+BP43/(BP43+0.001)+BQ43/(BQ43+0.001) -> 0 | B43: 6 | C43: Ермоленко Александр Владимирович | D43: МАЗ-551605 | E43: =CV43 -> 0 | F43: т | G43: =SUM('Свод по датам'!F32:H32)+SUM('Свод по датам'!F74:H74) -> 0 | H43: =SUM('Свод по датам'!I32:K32)+SUM('Свод по датам'!I74:K74) -> 0 | I43: =SUM('Свод по датам'!L32:N32)+SUM('Свод по датам'!L74:N74) -> 0 | J43: =SUM('Свод по датам'!O32:Q32)+SUM('Свод по датам'!O74:Q74) -> 0 | K43: =SUM('Свод по датам'!R32:T32)+SUM('Свод по датам'!R74:T74) -> 0 | L43: =SUM('Свод по датам'!U32:W32)+SUM('Свод по датам'!U74:W74) -> 0 | M43: =SUM('Свод по датам'!X32:Z32)+SUM('Свод по датам'!X74:Z74) -> 0 | N43: =SUM('Свод по датам'!AA32:AC32)+SUM('Свод по датам'!AA74:AC74) -> 0 | O43: =SUM('Свод по датам'!AD32:AF32)+SUM('Свод по датам'!AD74:AF74) -> 0 | P43: =SUM('Свод по датам'!AG32:AI32)+SUM('Свод по датам'!AG74:AI74) -> 0 | Q43: =SUM('Свод по датам'!AJ32:AL32)+SUM('Свод по датам'!AJ74:AL74) -> 0 | R43: =SUM('Свод по датам'!AM32:AO32)+SUM('Свод по датам'!AM74:AO74) -> 0 | S43: =SUM('Свод по датам'!AP32:AR32)+SUM('Свод по датам'!AP74:AR74) -> 0 | T43: =SUM('Свод по датам'!AS32:AU32)+SUM('Свод по датам'!AS74:AU74) -> 0 | U43: =SUM('Свод по датам'!AV32:AX32)+SUM('Свод по датам'!AV74:AX74) -> 0 | V43: =SUM('Свод по датам'!AY32:BA32)+SUM('Свод по датам'!AY74:BA74) -> 0 | W43: =SUM('Свод по датам'!BB32:BD32)+SUM('Свод по датам'!BB74:BD74) -> 0 | X43: =SUM('Свод по датам'!BE32:BG32)+SUM('Свод по датам'!BE74:BG74) -> 0 | Y43: =SUM('Свод по датам'!BH32:BJ32)+SUM('Свод по датам'!BH74:BJ74) -> 0 | Z43: =SUM('Свод по датам'!BK32:BM32)+SUM('Свод по датам'!BK74:BM74) -> 0 | AA43: =SUM('Свод по датам'!BN32:BP32)+SUM('Свод по датам'!BN74:BP74) -> 0 | AB43: =SUM('Свод по датам'!BQ32:BS32)+SUM('Свод по датам'!BQ74:BS74) -> 0 | AC43: =SUM('Свод по датам'!BT32:BV32)+SUM('Свод по датам'!BT74:BV74) -> 0 | AD43: =SUM('Свод по датам'!BW32:BY32)+SUM('Свод по датам'!BW74:BY74) -> 0 | AE43: =SUM('Свод по датам'!BZ32:CB32)+SUM('Свод по датам'!BZ74:CB74) -> 0 | AF43: =SUM('Свод по датам'!CC32:CE32)+SUM('Свод по датам'!CC74:CE74) -> 0 | AG43: =SUM('Свод по датам'!CF32:CH32)+SUM('Свод по датам'!CF74:CH74) -> 0 | AH43: =SUM('Свод по датам'!CI32:CK32)+SUM('Свод по датам'!CI74:CK74) -> 0 | AI43: =SUM('Свод по датам'!CL32:CN32)+SUM('Свод по датам'!CL74:CN74) -> 0 | AJ43: =SUM('Свод по датам'!CO32:CQ32)+SUM('Свод по датам'!CO74:CQ74) -> 0 | AK43: =SUM('Свод по датам'!CR32:CT32)+SUM('Свод по датам'!CR74:CT74) -> 0 | AL43: =SUM('Свод по датам'!CU32:CW32)+SUM('Свод по датам'!CU74:CW74) -> 0 | AM43: =SUM('Свод по датам'!CX32:CZ32) -> 0 | AN43: =SUM('Свод по датам'!DA32:DC32) -> 0 | AO43: =SUM('Свод по датам'!DD32:DF32) -> 0 | AP43: =SUM('Свод по датам'!DG32:DI32) -> 0 | AQ43: =SUM('Свод по датам'!DJ32:DL32) -> 0 | AR43: =SUM('Свод по датам'!DM32:DO32) -> 0 | AS43: =SUM('Свод по датам'!DP32:DR32) -> 0 | AT43: =SUM('Свод по датам'!DS32:DU32) -> 0 | AU43: =SUM('Свод по датам'!DV32:DX32) -> 0 | AV43: =SUM('Свод по датам'!DY32:EA32) -> 0 | AW43: =SUM('Свод по датам'!EB32:ED32) -> 0 | AX43: =SUM('Свод по датам'!EE32:EG32) -> 0 | AY43: =SUM('Свод по датам'!EH32:EJ32) -> 0 | AZ43: =SUM('Свод по датам'!EK32:EM32) -> 0 | BA43: =SUM('Свод по датам'!EN32:EP32) -> 0 | BB43: =SUM('Свод по датам'!EQ32:ES32) -> 0 | BC43: =SUM('Свод по датам'!ET32:EV32) -> 0 | BD43: =SUM('Свод по датам'!EW32:EY32) -> 0 | BE43: =SUM('Свод по датам'!EZ32:FB32) -> 0 | BF43: =SUM('Свод по датам'!FC32:FE32) -> 0 | BG43: =SUM('Свод по датам'!FF32:FH32) -> 0 | BH43: =SUM('Свод по датам'!FI32:FK32) -> 0 | BI43: =SUM('Свод по датам'!FL32:FN32) -> 0 | BJ43: =SUM('Свод по датам'!FO32:FQ32) -> 0 | BK43: =SUM('Свод по датам'!FR32:FT32) -> 0 | BL43: =SUM('Свод по датам'!FU32:FW32) -> 0 | BM43: =SUM('Свод по датам'!FX32:FZ32) -> 0 | BN43: =SUM('Свод по датам'!GA32:GC32) -> 0 | BO43: =SUM('Свод по датам'!GD32:GF32) -> 0 | BP43: =SUM('Свод по датам'!GG32:GI32) -> 0 | BQ43: =SUM('Свод по датам'!GJ32:GL32) -> 0 | BR43: =SUM('Свод по датам'!GM32:GO32) -> 0 | BS43: =SUM('Свод по датам'!GP32:GR32) -> 0 | BT43: =SUM('Свод по датам'!GS32:GU32) -> 0 | BU43: =SUM('Свод по датам'!GV32:GX32) -> 0 | BV43: =SUM('Свод по датам'!GY32:HA32) -> 0 | BW43: =SUM('Свод по датам'!HB32:HD32) -> 0 | BX43: =SUM('Свод по датам'!HE32:HG32) -> 0 | BY43: =SUM('Свод по датам'!HH32:HJ32) -> 0 | BZ43: =SUM('Свод по датам'!HK32:HM32) -> 0 | CA43: =SUM('Свод по датам'!HN32:HP32) -> 0 | CB43: =SUM('Свод по датам'!HQ32:HS32) -> 0 | CC43: =SUM('Свод по датам'!HT32:HV32) -> 0 | CD43: =SUM('Свод по датам'!HW32:HY32) -> 0 | CE43: =SUM('Свод по датам'!HZ32:IB32) -> 0 | CF43: =SUM('Свод по датам'!IC32:IE32) -> 0 | CG43: =SUM('Свод по датам'!IF32:IH32) -> 0 | CH43: =SUM('Свод по датам'!II32:IK32) -> 0 | CI43: =SUM('Свод по датам'!IL32:IN32) -> 0 | CJ43: =SUM('Свод по датам'!IO32:IQ32) -> 0 | CK43: =SUM('Свод по датам'!IR32:IT32) -> 0 | CL43: =SUM('Свод по датам'!IU32:IW32) -> 0 | CM43: =SUM('Свод по датам'!IX32:IZ32) -> 0 | CN43: =SUM('Свод по датам'!JA32:JC32) -> 0 | CO43: =SUM('Свод по датам'!JD32:JF32) -> 0 | CP43: =SUM('Свод по датам'!JG32:JI32) -> 0 | CQ43: =SUM('Свод по датам'!JJ32:JL32) -> 0 | CR43: =SUM('Свод по датам'!JM32:JO32) -> 0 | CS43: =SUM('Свод по датам'!JP32:JR32) -> 0 | CT43: =SUM('Свод по датам'!JS32:JU32) -> 0 | CU43: =SUM('Свод по датам'!JV32:JX32) -> 0 | CV43: =SUM(G43:CU43) -> 0
A44: =G44/(G44+0.001)+H44/(H44+0.001)+K44/(K44+0.001)+L44/(L44+0.001)+M44/(M44+0.001)+N44/(N44+0.001)+O44/(O44+0.001)+P44/(P44+0.001)+Q44/(Q44+0.001)+R44/(R44+0.001)+T44/(T44+0.001)+I44/(I44+0.001)+U44/(U44+0.001)+V44/(V44+0.001)+X44/(X44+0.001)+J44/(J44+0.001)+W44/(W44+0.001)+Y44/(Y44+0.001)+Z44/(Z44+0.001)+AA44/(AA44+0.001)+AB44/(AB44+0.001)+AC44/(AC44+0.001)+AD44/(AD44+0.001)+AE44/(AE44+0.001)+AF44/(AF44+0.001)+AG44/(AG44+0.001)+AH44/(AH44+0.001)+AI44/(AI44+0.001)+AJ44/(AJ44+0.001)+AK44/(AK44+0.001)+AL44/(AL44+0.001)+AM44/(AM44+0.001)+AN44/(AN44+0.001)+AO44/(AO44+0.001)+AP44/(AP44+0.001)+AQ44/(AQ44+0.001)+AR44/(AR44+0.001)+AS44/(AS44+0.001)+AT44/(AT44+0.001)+AU44/(AU44+0.001)+AV44/(AV44+0.001)+AW44/(AW44+0.001)+AX44/(AX44+0.001)+AY44/(AY44+0.001)+AZ44/(AZ44+0.001)+BA44/(BA44+0.001)+BB44/(BB44+0.001)+BC44/(BC44+0.001)+BD44/(BD44+0.001)+BE44/(BE44+0.001)+BF44/(BF44+0.001)+BG44/(BG44+0.001)+BH44/(BH44+0.001)+BI44/(BI44+0.001)+BJ44/(BJ44+0.001)+BK44/(BK44+0.001)+BL44/(BL44+0.001)+BM44/(BM44+0.001)+BN44/(BN44+0.001)+BO44/(BO44+0.001)+BP44/(BP44+0.001)+BQ44/(BQ44+0.001) -> 38.999129 | B44: 7 | C44: Скоробогатый Владимир Николаевич | D44: МАЗ-551605 | E44: =CV44 -> 2813.1 | F44: т | G44: =SUM('Свод по датам'!F33:H33)+SUM('Свод по датам'!F75:H75) -> 305.7 | H44: =SUM('Свод по датам'!I33:K33)+SUM('Свод по датам'!I75:K75) -> 0 | I44: =SUM('Свод по датам'!L33:N33)+SUM('Свод по датам'!L75:N75) -> 23.2 | J44: =SUM('Свод по датам'!O33:Q33)+SUM('Свод по датам'!O75:Q75) -> 26.9 | K44: =SUM('Свод по датам'!R33:T33)+SUM('Свод по датам'!R75:T75) -> 38 | L44: =SUM('Свод по датам'!U33:W33)+SUM('Свод по датам'!U75:W75) -> 31 | M44: =SUM('Свод по датам'!X33:Z33)+SUM('Свод по датам'!X75:Z75) -> 50.8 | N44: =SUM('Свод по датам'!AA33:AC33)+SUM('Свод по датам'!AA75:AC75) -> 15.8 | O44: =SUM('Свод по датам'!AD33:AF33)+SUM('Свод по датам'!AD75:AF75) -> 92.4 | P44: =SUM('Свод по датам'!AG33:AI33)+SUM('Свод по датам'!AG75:AI75) -> 131.8 | Q44: =SUM('Свод по датам'!AJ33:AL33)+SUM('Свод по датам'!AJ75:AL75) -> 102.9 | R44: =SUM('Свод по датам'!AM33:AO33)+SUM('Свод по датам'!AM75:AO75) -> 43.9 | S44: =SUM('Свод по датам'!AP33:AR33)+SUM('Свод по датам'!AP75:AR75) -> 100.5 | T44: =SUM('Свод по датам'!AS33:AU33)+SUM('Свод по датам'!AS75:AU75) -> 43.5 | U44: =SUM('Свод по датам'!AV33:AX33)+SUM('Свод по датам'!AV75:AX75) -> 77.2 | V44: =SUM('Свод по датам'!AY33:BA33)+SUM('Свод по датам'!AY75:BA75) -> 19.7 | W44: =SUM('Свод по датам'!BB33:BD33)+SUM('Свод по датам'!BB75:BD75) -> 130.2 | X44: =SUM('Свод по датам'!BE33:BG33)+SUM('Свод по датам'!BE75:BG75) -> 53.1 | Y44: =SUM('Свод по датам'!BH33:BJ33)+SUM('Свод по датам'!BH75:BJ75) -> 10.3 | Z44: =SUM('Свод по датам'!BK33:BM33)+SUM('Свод по датам'!BK75:BM75) -> 47.2 | AA44: =SUM('Свод по датам'!BN33:BP33)+SUM('Свод по датам'!BN75:BP75) -> 98.3 | AB44: =SUM('Свод по датам'!BQ33:BS33)+SUM('Свод по датам'!BQ75:BS75) -> 115.4 | AC44: =SUM('Свод по датам'!BT33:BV33)+SUM('Свод по датам'!BT75:BV75) -> 40.8 | AD44: =SUM('Свод по датам'!BW33:BY33)+SUM('Свод по датам'!BW75:BY75) -> 76.3 | AE44: =SUM('Свод по датам'!BZ33:CB33)+SUM('Свод по датам'!BZ75:CB75) -> 111.5 | AF44: =SUM('Свод по датам'!CC33:CE33)+SUM('Свод по датам'!CC75:CE75) -> 85 | AG44: =SUM('Свод по датам'!CF33:CH33)+SUM('Свод по датам'!CF75:CH75) -> 98.2 | AH44: =SUM('Свод по датам'!CI33:CK33)+SUM('Свод по датам'!CI75:CK75) -> 74.2 | AI44: =SUM('Свод по датам'!CL33:CN33)+SUM('Свод по датам'!CL75:CN75) -> 113.9 | AJ44: =SUM('Свод по датам'!CO33:CQ33)+SUM('Свод по датам'!CO75:CQ75) -> 0 | AK44: =SUM('Свод по датам'!CR33:CT33)+SUM('Свод по датам'!CR75:CT75) -> 0 | AL44: =SUM('Свод по датам'!CU33:CW33)+SUM('Свод по датам'!CU75:CW75) -> 0 | AM44: =SUM('Свод по датам'!CX33:CZ33) -> 112.9 | AN44: =SUM('Свод по датам'!DA33:DC33) -> 47.2 | AO44: =SUM('Свод по датам'!DD33:DF33) -> 31.3 | AP44: =SUM('Свод по датам'!DG33:DI33) -> 31.2 | AQ44: =SUM('Свод по датам'!DJ33:DL33) -> 68.4 | AR44: =SUM('Свод по датам'!DM33:DO33) -> 46.2 | AS44: =SUM('Свод по датам'!DP33:DR33) -> 0 | AT44: =SUM('Свод по датам'!DS33:DU33) -> 62.9 | AU44: =SUM('Свод по датам'!DV33:DX33) -> 77.3 | AV44: =SUM('Свод по датам'!DY33:EA33) -> 58 | AW44: =SUM('Свод по датам'!EB33:ED33) -> 36 | AX44: =SUM('Свод по датам'!EE33:EG33) -> 34.2 | AY44: =SUM('Свод по датам'!EH33:EJ33) -> 49.8 | AZ44: =SUM('Свод по датам'!EK33:EM33) -> 0 | BA44: =SUM('Свод по датам'!EN33:EP33) -> 0 | BB44: =SUM('Свод по датам'!EQ33:ES33) -> 0 | BC44: =SUM('Свод по датам'!ET33:EV33) -> 0 | BD44: =SUM('Свод по датам'!EW33:EY33) -> 0 | BE44: =SUM('Свод по датам'!EZ33:FB33) -> 0 | BF44: =SUM('Свод по датам'!FC33:FE33) -> 0 | BG44: =SUM('Свод по датам'!FF33:FH33) -> 0 | BH44: =SUM('Свод по датам'!FI33:FK33) -> 0 | BI44: =SUM('Свод по датам'!FL33:FN33) -> 0 | BJ44: =SUM('Свод по датам'!FO33:FQ33) -> 0 | BK44: =SUM('Свод по датам'!FR33:FT33) -> 0 | BL44: =SUM('Свод по датам'!FU33:FW33) -> 0 | BM44: =SUM('Свод по датам'!FX33:FZ33) -> 0 | BN44: =SUM('Свод по датам'!GA33:GC33) -> 0 | BO44: =SUM('Свод по датам'!GD33:GF33) -> 0 | BP44: =SUM('Свод по датам'!GG33:GI33) -> 0 | BQ44: =SUM('Свод по датам'!GJ33:GL33) -> 0 | BR44: =SUM('Свод по датам'!GM33:GO33) -> 0 | BS44: =SUM('Свод по датам'!GP33:GR33) -> 0 | BT44: =SUM('Свод по датам'!GS33:GU33) -> 0 | BU44: =SUM('Свод по датам'!GV33:GX33) -> 0 | BV44: =SUM('Свод по датам'!GY33:HA33) -> 0 | BW44: =SUM('Свод по датам'!HB33:HD33) -> 0 | BX44: =SUM('Свод по датам'!HE33:HG33) -> 0 | BY44: =SUM('Свод по датам'!HH33:HJ33) -> 0 | BZ44: =SUM('Свод по датам'!HK33:HM33) -> 0 | CA44: =SUM('Свод по датам'!HN33:HP33) -> 0 | CB44: =SUM('Свод по датам'!HQ33:HS33) -> 0 | CC44: =SUM('Свод по датам'!HT33:HV33) -> 0 | CD44: =SUM('Свод по датам'!HW33:HY33) -> 0 | CE44: =SUM('Свод по датам'!HZ33:IB33) -> 0 | CF44: =SUM('Свод по датам'!IC33:IE33) -> 0 | CG44: =SUM('Свод по датам'!IF33:IH33) -> 0 | CH44: =SUM('Свод по датам'!II33:IK33) -> 0 | CI44: =SUM('Свод по датам'!IL33:IN33) -> 0 | CJ44: =SUM('Свод по датам'!IO33:IQ33) -> 0 | CK44: =SUM('Свод по датам'!IR33:IT33) -> 0 | CL44: =SUM('Свод по датам'!IU33:IW33) -> 0 | CM44: =SUM('Свод по датам'!IX33:IZ33) -> 0 | CN44: =SUM('Свод по датам'!JA33:JC33) -> 0 | CO44: =SUM('Свод по датам'!JD33:JF33) -> 0 | CP44: =SUM('Свод по датам'!JG33:JI33) -> 0 | CQ44: =SUM('Свод по датам'!JJ33:JL33) -> 0 | CR44: =SUM('Свод по датам'!JM33:JO33) -> 0 | CS44: =SUM('Свод по датам'!JP33:JR33) -> 0 | CT44: =SUM('Свод по датам'!JS33:JU33) -> 0 | CU44: =SUM('Свод по датам'!JV33:JX33) -> 0 | CV44: =SUM(G44:CU44) -> 2813.1
A45: =G45/(G45+0.001)+H45/(H45+0.001)+K45/(K45+0.001)+L45/(L45+0.001)+M45/(M45+0.001)+N45/(N45+0.001)+O45/(O45+0.001)+P45/(P45+0.001)+Q45/(Q45+0.001)+R45/(R45+0.001)+T45/(T45+0.001)+I45/(I45+0.001)+U45/(U45+0.001)+V45/(V45+0.001)+X45/(X45+0.001)+J45/(J45+0.001)+W45/(W45+0.001)+Y45/(Y45+0.001)+Z45/(Z45+0.001)+AA45/(AA45+0.001)+AB45/(AB45+0.001)+AC45/(AC45+0.001)+AD45/(AD45+0.001)+AE45/(AE45+0.001)+AF45/(AF45+0.001)+AG45/(AG45+0.001)+AH45/(AH45+0.001)+AI45/(AI45+0.001)+AJ45/(AJ45+0.001)+AK45/(AK45+0.001)+AL45/(AL45+0.001)+AM45/(AM45+0.001)+AN45/(AN45+0.001)+AO45/(AO45+0.001)+AP45/(AP45+0.001)+AQ45/(AQ45+0.001)+AR45/(AR45+0.001)+AS45/(AS45+0.001)+AT45/(AT45+0.001)+AU45/(AU45+0.001)+AV45/(AV45+0.001)+AW45/(AW45+0.001)+AX45/(AX45+0.001)+AY45/(AY45+0.001)+AZ45/(AZ45+0.001)+BA45/(BA45+0.001)+BB45/(BB45+0.001)+BC45/(BC45+0.001)+BD45/(BD45+0.001)+BE45/(BE45+0.001)+BF45/(BF45+0.001)+BG45/(BG45+0.001)+BH45/(BH45+0.001)+BI45/(BI45+0.001)+BJ45/(BJ45+0.001)+BK45/(BK45+0.001)+BL45/(BL45+0.001)+BM45/(BM45+0.001)+BN45/(BN45+0.001)+BO45/(BO45+0.001)+BP45/(BP45+0.001)+BQ45/(BQ45+0.001) -> 20.998985 | B45: 8 | C45: Горбаченко Сергей Анатольевич | D45: МАЗ-5551 | E45: =CV45 -> 847.3 | F45: т | G45: =SUM('Свод по датам'!F34:H34)+SUM('Свод по датам'!F76:H76) -> 90.9 | H45: =SUM('Свод по датам'!I34:K34)+SUM('Свод по датам'!I76:K76) -> 0 | I45: =SUM('Свод по датам'!L34:N34)+SUM('Свод по датам'!L76:N76) -> 0 | J45: =SUM('Свод по датам'!O34:Q34)+SUM('Свод по датам'!O76:Q76) -> 0 | K45: =SUM('Свод по датам'!R34:T34)+SUM('Свод по датам'!R76:T76) -> 0 | L45: =SUM('Свод по датам'!U34:W34)+SUM('Свод по датам'!U76:W76) -> 0 | M45: =SUM('Свод по датам'!X34:Z34)+SUM('Свод по датам'!X76:Z76) -> 0 | N45: =SUM('Свод по датам'!AA34:AC34)+SUM('Свод по датам'!AA76:AC76) -> 0 | O45: =SUM('Свод по датам'!AD34:AF34)+SUM('Свод по датам'!AD76:AF76) -> 0 | P45: =SUM('Свод по датам'!AG34:AI34)+SUM('Свод по датам'!AG76:AI76) -> 0 | Q45: =SUM('Свод по датам'!AJ34:AL34)+SUM('Свод по датам'!AJ76:AL76) -> 6 | R45: =SUM('Свод по датам'!AM34:AO34)+SUM('Свод по датам'!AM76:AO76) -> 33.4 | S45: =SUM('Свод по датам'!AP34:AR34)+SUM('Свод по датам'!AP76:AR76) -> 0 | T45: =SUM('Свод по датам'!AS34:AU34)+SUM('Свод по датам'!AS76:AU76) -> 34.8 | U45: =SUM('Свод по датам'!AV34:AX34)+SUM('Свод по датам'!AV76:AX76) -> 67.3 | V45: =SUM('Свод по датам'!AY34:BA34)+SUM('Свод по датам'!AY76:BA76) -> 0 | W45: =SUM('Свод по датам'!BB34:BD34)+SUM('Свод по датам'!BB76:BD76) -> 47 | X45: =SUM('Свод по датам'!BE34:BG34)+SUM('Свод по датам'!BE76:BG76) -> 39.8 | Y45: =SUM('Свод по датам'!BH34:BJ34)+SUM('Свод по датам'!BH76:BJ76) -> 4.6 | Z45: =SUM('Свод по датам'!BK34:BM34)+SUM('Свод по датам'!BK76:BM76) -> 0 | AA45: =SUM('Свод по датам'!BN34:BP34)+SUM('Свод по датам'!BN76:BP76) -> 35 | AB45: =SUM('Свод по датам'!BQ34:BS34)+SUM('Свод по датам'!BQ76:BS76) -> 45.9 | AC45: =SUM('Свод по датам'!BT34:BV34)+SUM('Свод по датам'!BT76:BV76) -> 0 | AD45: =SUM('Свод по датам'!BW34:BY34)+SUM('Свод по датам'!BW76:BY76) -> 55.7 | AE45: =SUM('Свод по датам'!BZ34:CB34)+SUM('Свод по датам'!BZ76:CB76) -> 0 | AF45: =SUM('Свод по датам'!CC34:CE34)+SUM('Свод по датам'!CC76:CE76) -> 59.9 | AG45: =SUM('Свод по датам'!CF34:CH34)+SUM('Свод по датам'!CF76:CH76) -> 72.5 | AH45: =SUM('Свод по датам'!CI34:CK34)+SUM('Свод по датам'!CI76:CK76) -> 48.7 | AI45: =SUM('Свод по датам'!CL34:CN34)+SUM('Свод по датам'!CL76:CN76) -> 79.2 | AJ45: =SUM('Свод по датам'!CO34:CQ34)+SUM('Свод по датам'!CO76:CQ76) -> 0 | AK45: =SUM('Свод по датам'!CR34:CT34)+SUM('Свод по датам'!CR76:CT76) -> 0 | AL45: =SUM('Свод по датам'!CU34:CW34)+SUM('Свод по датам'!CU76:CW76) -> 0 | AM45: =SUM('Свод по датам'!CX34:CZ34) -> 0 | AN45: =SUM('Свод по датам'!DA34:DC34) -> 30.9 | AO45: =SUM('Свод по датам'!DD34:DF34) -> 6.8 | AP45: =SUM('Свод по датам'!DG34:DI34) -> 23.7 | AQ45: =SUM('Свод по датам'!DJ34:DL34) -> 0 | AR45: =SUM('Свод по датам'!DM34:DO34) -> 0 | AS45: =SUM('Свод по датам'!DP34:DR34) -> 0 | AT45: =SUM('Свод по датам'!DS34:DU34) -> 0 | AU45: =SUM('Свод по датам'!DV34:DX34) -> 0 | AV45: =SUM('Свод по датам'!DY34:EA34) -> 0 | AW45: =SUM('Свод по датам'!EB34:ED34) -> 27.3 | AX45: =SUM('Свод по датам'!EE34:EG34) -> 22.7 | AY45: =SUM('Свод по датам'!EH34:EJ34) -> 15.2 | AZ45: =SUM('Свод по датам'!EK34:EM34) -> 0 | BA45: =SUM('Свод по датам'!EN34:EP34) -> 0 | BB45: =SUM('Свод по датам'!EQ34:ES34) -> 0 | BC45: =SUM('Свод по датам'!ET34:EV34) -> 0 | BD45: =SUM('Свод по датам'!EW34:EY34) -> 0 | BE45: =SUM('Свод по датам'!EZ34:FB34) -> 0 | BF45: =SUM('Свод по датам'!FC34:FE34) -> 0 | BG45: =SUM('Свод по датам'!FF34:FH34) -> 0 | BH45: =SUM('Свод по датам'!FI34:FK34) -> 0 | BI45: =SUM('Свод по датам'!FL34:FN34) -> 0 | BJ45: =SUM('Свод по датам'!FO34:FQ34) -> 0 | BK45: =SUM('Свод по датам'!FR34:FT34) -> 0 | BL45: =SUM('Свод по датам'!FU34:FW34) -> 0 | BM45: =SUM('Свод по датам'!FX34:FZ34) -> 0 | BN45: =SUM('Свод по датам'!GA34:GC34) -> 0 | BO45: =SUM('Свод по датам'!GD34:GF34) -> 0 | BP45: =SUM('Свод по датам'!GG34:GI34) -> 0 | BQ45: =SUM('Свод по датам'!GJ34:GL34) -> 0 | BR45: =SUM('Свод по датам'!GM34:GO34) -> 0 | BS45: =SUM('Свод по датам'!GP34:GR34) -> 0 | BT45: =SUM('Свод по датам'!GS34:GU34) -> 0 | BU45: =SUM('Свод по датам'!GV34:GX34) -> 0 | BV45: =SUM('Свод по датам'!GY34:HA34) -> 0 | BW45: =SUM('Свод по датам'!HB34:HD34) -> 0 | BX45: =SUM('Свод по датам'!HE34:HG34) -> 0 | BY45: =SUM('Свод по датам'!HH34:HJ34) -> 0 | BZ45: =SUM('Свод по датам'!HK34:HM34) -> 0 | CA45: =SUM('Свод по датам'!HN34:HP34) -> 0 | CB45: =SUM('Свод по датам'!HQ34:HS34) -> 0 | CC45: =SUM('Свод по датам'!HT34:HV34) -> 0 | CD45: =SUM('Свод по датам'!HW34:HY34) -> 0 | CE45: =SUM('Свод по датам'!HZ34:IB34) -> 0 | CF45: =SUM('Свод по датам'!IC34:IE34) -> 0 | CG45: =SUM('Свод по датам'!IF34:IH34) -> 0 | CH45: =SUM('Свод по датам'!II34:IK34) -> 0 | CI45: =SUM('Свод по датам'!IL34:IN34) -> 0 | CJ45: =SUM('Свод по датам'!IO34:IQ34) -> 0 | CK45: =SUM('Свод по датам'!IR34:IT34) -> 0 | CL45: =SUM('Свод по датам'!IU34:IW34) -> 0 | CM45: =SUM('Свод по датам'!IX34:IZ34) -> 0 | CN45: =SUM('Свод по датам'!JA34:JC34) -> 0 | CO45: =SUM('Свод по датам'!JD34:JF34) -> 0 | CP45: =SUM('Свод по датам'!JG34:JI34) -> 0 | CQ45: =SUM('Свод по датам'!JJ34:JL34) -> 0 | CR45: =SUM('Свод по датам'!JM34:JO34) -> 0 | CS45: =SUM('Свод по датам'!JP34:JR34) -> 0 | CT45: =SUM('Свод по датам'!JS34:JU34) -> 0 | CU45: =SUM('Свод по датам'!JV34:JX34) -> 0 | CV45: =SUM(G45:CU45) -> 847.3
A46: =G46/(G46+0.001)+H46/(H46+0.001)+K46/(K46+0.001)+L46/(L46+0.001)+M46/(M46+0.001)+N46/(N46+0.001)+O46/(O46+0.001)+P46/(P46+0.001)+Q46/(Q46+0.001)+R46/(R46+0.001)+T46/(T46+0.001)+I46/(I46+0.001)+U46/(U46+0.001)+V46/(V46+0.001)+X46/(X46+0.001)+J46/(J46+0.001)+W46/(W46+0.001)+Y46/(Y46+0.001)+Z46/(Z46+0.001)+AA46/(AA46+0.001)+AB46/(AB46+0.001)+AC46/(AC46+0.001)+AD46/(AD46+0.001)+AE46/(AE46+0.001)+AF46/(AF46+0.001)+AG46/(AG46+0.001)+AH46/(AH46+0.001)+AI46/(AI46+0.001)+AJ46/(AJ46+0.001)+AK46/(AK46+0.001)+AL46/(AL46+0.001)+AM46/(AM46+0.001)+AN46/(AN46+0.001)+AO46/(AO46+0.001)+AP46/(AP46+0.001)+AQ46/(AQ46+0.001)+AR46/(AR46+0.001)+AS46/(AS46+0.001)+AT46/(AT46+0.001)+AU46/(AU46+0.001)+AV46/(AV46+0.001)+AW46/(AW46+0.001)+AX46/(AX46+0.001)+AY46/(AY46+0.001)+AZ46/(AZ46+0.001)+BA46/(BA46+0.001)+BB46/(BB46+0.001)+BC46/(BC46+0.001)+BD46/(BD46+0.001)+BE46/(BE46+0.001)+BF46/(BF46+0.001)+BG46/(BG46+0.001)+BH46/(BH46+0.001)+BI46/(BI46+0.001)+BJ46/(BJ46+0.001)+BK46/(BK46+0.001)+BL46/(BL46+0.001)+BM46/(BM46+0.001)+BN46/(BN46+0.001)+BO46/(BO46+0.001)+BP46/(BP46+0.001)+BQ46/(BQ46+0.001) -> 0 | B46: 9 | C46: Бондаренко Николай Александрович | D46: МАЗ-457041 | E46: =CV46 -> 0 | F46: т | G46: =SUM('Свод по датам'!F35:H35)+SUM('Свод по датам'!F77:H77) -> 0 | H46: =SUM('Свод по датам'!I35:K35)+SUM('Свод по датам'!I77:K77) -> 0 | I46: =SUM('Свод по датам'!L35:N35)+SUM('Свод по датам'!L77:N77) -> 0 | J46: =SUM('Свод по датам'!O35:Q35)+SUM('Свод по датам'!O77:Q77) -> 0 | K46: =SUM('Свод по датам'!R35:T35)+SUM('Свод по датам'!R77:T77) -> 0 | L46: =SUM('Свод по датам'!U35:W35)+SUM('Свод по датам'!U77:W77) -> 0 | M46: =SUM('Свод по датам'!X35:Z35)+SUM('Свод по датам'!X77:Z77) -> 0 | N46: =SUM('Свод по датам'!AA35:AC35)+SUM('Свод по датам'!AA77:AC77) -> 0 | O46: =SUM('Свод по датам'!AD35:AF35)+SUM('Свод по датам'!AD77:AF77) -> 0 | P46: =SUM('Свод по датам'!AG35:AI35)+SUM('Свод по датам'!AG77:AI77) -> 0 | Q46: =SUM('Свод по датам'!AJ35:AL35)+SUM('Свод по датам'!AJ77:AL77) -> 0 | R46: =SUM('Свод по датам'!AM35:AO35)+SUM('Свод по датам'!AM77:AO77) -> 0 | S46: =SUM('Свод по датам'!AP35:AR35)+SUM('Свод по датам'!AP77:AR77) -> 0 | T46: =SUM('Свод по датам'!AS35:AU35)+SUM('Свод по датам'!AS77:AU77) -> 0 | U46: =SUM('Свод по датам'!AV35:AX35)+SUM('Свод по датам'!AV77:AX77) -> 0 | V46: =SUM('Свод по датам'!AY35:BA35)+SUM('Свод по датам'!AY77:BA77) -> 0 | W46: =SUM('Свод по датам'!BB35:BD35)+SUM('Свод по датам'!BB77:BD77) -> 0 | X46: =SUM('Свод по датам'!BE35:BG35)+SUM('Свод по датам'!BE77:BG77) -> 0 | Y46: =SUM('Свод по датам'!BH35:BJ35)+SUM('Свод по датам'!BH77:BJ77) -> 0 | Z46: =SUM('Свод по датам'!BK35:BM35)+SUM('Свод по датам'!BK77:BM77) -> 0 | AA46: =SUM('Свод по датам'!BN35:BP35)+SUM('Свод по датам'!BN77:BP77) -> 0 | AB46: =SUM('Свод по датам'!BQ35:BS35)+SUM('Свод по датам'!BQ77:BS77) -> 0 | AC46: =SUM('Свод по датам'!BT35:BV35)+SUM('Свод по датам'!BT77:BV77) -> 0 | AD46: =SUM('Свод по датам'!BW35:BY35)+SUM('Свод по датам'!BW77:BY77) -> 0 | AE46: =SUM('Свод по датам'!BZ35:CB35)+SUM('Свод по датам'!BZ77:CB77) -> 0 | AF46: =SUM('Свод по датам'!CC35:CE35)+SUM('Свод по датам'!CC77:CE77) -> 0 | AG46: =SUM('Свод по датам'!CF35:CH35)+SUM('Свод по датам'!CF77:CH77) -> 0 | AH46: =SUM('Свод по датам'!CI35:CK35)+SUM('Свод по датам'!CI77:CK77) -> 0 | AI46: =SUM('Свод по датам'!CL35:CN35)+SUM('Свод по датам'!CL77:CN77) -> 0 | AJ46: =SUM('Свод по датам'!CO35:CQ35)+SUM('Свод по датам'!CO77:CQ77) -> 0 | AK46: =SUM('Свод по датам'!CR35:CT35)+SUM('Свод по датам'!CR77:CT77) -> 0 | AL46: =SUM('Свод по датам'!CU35:CW35)+SUM('Свод по датам'!CU77:CW77) -> 0 | AM46: =SUM('Свод по датам'!CX35:CZ35) -> 0 | AN46: =SUM('Свод по датам'!DA35:DC35) -> 0 | AO46: =SUM('Свод по датам'!DD35:DF35) -> 0 | AP46: =SUM('Свод по датам'!DG35:DI35) -> 0 | AQ46: =SUM('Свод по датам'!DJ35:DL35) -> 0 | AR46: =SUM('Свод по датам'!DM35:DO35) -> 0 | AS46: =SUM('Свод по датам'!DP35:DR35) -> 0 | AT46: =SUM('Свод по датам'!DS35:DU35) -> 0 | AU46: =SUM('Свод по датам'!DV35:DX35) -> 0 | AV46: =SUM('Свод по датам'!DY35:EA35) -> 0 | AW46: =SUM('Свод по датам'!EB35:ED35) -> 0 | AX46: =SUM('Свод по датам'!EE35:EG35) -> 0 | AY46: =SUM('Свод по датам'!EH35:EJ35) -> 0 | AZ46: =SUM('Свод по датам'!EK35:EM35) -> 0 | BA46: =SUM('Свод по датам'!EN35:EP35) -> 0 | BB46: =SUM('Свод по датам'!EQ35:ES35) -> 0 | BC46: =SUM('Свод по датам'!ET35:EV35) -> 0 | BD46: =SUM('Свод по датам'!EW35:EY35) -> 0 | BE46: =SUM('Свод по датам'!EZ35:FB35) -> 0 | BF46: =SUM('Свод по датам'!FC35:FE35) -> 0 | BG46: =SUM('Свод по датам'!FF35:FH35) -> 0 | BH46: =SUM('Свод по датам'!FI35:FK35) -> 0 | BI46: =SUM('Свод по датам'!FL35:FN35) -> 0 | BJ46: =SUM('Свод по датам'!FO35:FQ35) -> 0 | BK46: =SUM('Свод по датам'!FR35:FT35) -> 0 | BL46: =SUM('Свод по датам'!FU35:FW35) -> 0 | BM46: =SUM('Свод по датам'!FX35:FZ35) -> 0 | BN46: =SUM('Свод по датам'!GA35:GC35) -> 0 | BO46: =SUM('Свод по датам'!GD35:GF35) -> 0 | BP46: =SUM('Свод по датам'!GG35:GI35) -> 0 | BQ46: =SUM('Свод по датам'!GJ35:GL35) -> 0 | BR46: =SUM('Свод по датам'!GM35:GO35) -> 0 | BS46: =SUM('Свод по датам'!GP35:GR35) -> 0 | BT46: =SUM('Свод по датам'!GS35:GU35) -> 0 | BU46: =SUM('Свод по датам'!GV35:GX35) -> 0 | BV46: =SUM('Свод по датам'!GY35:HA35) -> 0 | BW46: =SUM('Свод по датам'!HB35:HD35) -> 0 | BX46: =SUM('Свод по датам'!HE35:HG35) -> 0 | BY46: =SUM('Свод по датам'!HH35:HJ35) -> 0 | BZ46: =SUM('Свод по датам'!HK35:HM35) -> 0 | CA46: =SUM('Свод по датам'!HN35:HP35) -> 0 | CB46: =SUM('Свод по датам'!HQ35:HS35) -> 0 | CC46: =SUM('Свод по датам'!HT35:HV35) -> 0 | CD46: =SUM('Свод по датам'!HW35:HY35) -> 0 | CE46: =SUM('Свод по датам'!HZ35:IB35) -> 0 | CF46: =SUM('Свод по датам'!IC35:IE35) -> 0 | CG46: =SUM('Свод по датам'!IF35:IH35) -> 0 | CH46: =SUM('Свод по датам'!II35:IK35) -> 0 | CI46: =SUM('Свод по датам'!IL35:IN35) -> 0 | CJ46: =SUM('Свод по датам'!IO35:IQ35) -> 0 | CK46: =SUM('Свод по датам'!IR35:IT35) -> 0 | CL46: =SUM('Свод по датам'!IU35:IW35) -> 0 | CM46: =SUM('Свод по датам'!IX35:IZ35) -> 0 | CN46: =SUM('Свод по датам'!JA35:JC35) -> 0 | CO46: =SUM('Свод по датам'!JD35:JF35) -> 0 | CP46: =SUM('Свод по датам'!JG35:JI35) -> 0 | CQ46: =SUM('Свод по датам'!JJ35:JL35) -> 0 | CR46: =SUM('Свод по датам'!JM35:JO35) -> 0 | CS46: =SUM('Свод по датам'!JP35:JR35) -> 0 | CT46: =SUM('Свод по датам'!JS35:JU35) -> 0 | CU46: =SUM('Свод по датам'!JV35:JX35) -> 0 | CV46: =SUM(G46:CU46) -> 0
A47: =G47/(G47+0.001)+H47/(H47+0.001)+K47/(K47+0.001)+L47/(L47+0.001)+M47/(M47+0.001)+N47/(N47+0.001)+O47/(O47+0.001)+P47/(P47+0.001)+Q47/(Q47+0.001)+R47/(R47+0.001)+T47/(T47+0.001)+I47/(I47+0.001)+U47/(U47+0.001)+V47/(V47+0.001)+X47/(X47+0.001)+J47/(J47+0.001)+W47/(W47+0.001)+Y47/(Y47+0.001)+Z47/(Z47+0.001)+AA47/(AA47+0.001)+AB47/(AB47+0.001)+AC47/(AC47+0.001)+AD47/(AD47+0.001)+AE47/(AE47+0.001)+AF47/(AF47+0.001)+AG47/(AG47+0.001)+AH47/(AH47+0.001)+AI47/(AI47+0.001)+AJ47/(AJ47+0.001)+AK47/(AK47+0.001)+AL47/(AL47+0.001)+AM47/(AM47+0.001)+AN47/(AN47+0.001)+AO47/(AO47+0.001)+AP47/(AP47+0.001)+AQ47/(AQ47+0.001)+AR47/(AR47+0.001)+AS47/(AS47+0.001)+AT47/(AT47+0.001)+AU47/(AU47+0.001)+AV47/(AV47+0.001)+AW47/(AW47+0.001)+AX47/(AX47+0.001)+AY47/(AY47+0.001)+AZ47/(AZ47+0.001)+BA47/(BA47+0.001)+BB47/(BB47+0.001)+BC47/(BC47+0.001)+BD47/(BD47+0.001)+BE47/(BE47+0.001)+BF47/(BF47+0.001)+BG47/(BG47+0.001)+BH47/(BH47+0.001)+BI47/(BI47+0.001)+BJ47/(BJ47+0.001)+BK47/(BK47+0.001)+BL47/(BL47+0.001)+BM47/(BM47+0.001)+BN47/(BN47+0.001)+BO47/(BO47+0.001)+BP47/(BP47+0.001)+BQ47/(BQ47+0.001) -> 0.99997642 | B47: 10 | C47: Середа Д. | E47: =CV47 -> 42.4 | F47: т | G47: =SUM('Свод по датам'!F36:H36)+SUM('Свод по датам'!F78:H78) -> 42.4 | H47: =SUM('Свод по датам'!I36:K36)+SUM('Свод по датам'!I78:K78) -> 0 | I47: =SUM('Свод по датам'!L36:N36)+SUM('Свод по датам'!L78:N78) -> 0 | J47: =SUM('Свод по датам'!O36:Q36)+SUM('Свод по датам'!O78:Q78) -> 0 | K47: =SUM('Свод по датам'!R36:T36)+SUM('Свод по датам'!R78:T78) -> 0 | L47: =SUM('Свод по датам'!U36:W36)+SUM('Свод по датам'!U78:W78) -> 0 | M47: =SUM('Свод по датам'!X36:Z36)+SUM('Свод по датам'!X78:Z78) -> 0 | N47: =SUM('Свод по датам'!AA36:AC36)+SUM('Свод по датам'!AA78:AC78) -> 0 | O47: =SUM('Свод по датам'!AD36:AF36)+SUM('Свод по датам'!AD78:AF78) -> 0 | P47: =SUM('Свод по датам'!AG36:AI36)+SUM('Свод по датам'!AG78:AI78) -> 0 | Q47: =SUM('Свод по датам'!AJ36:AL36)+SUM('Свод по датам'!AJ78:AL78) -> 0 | R47: =SUM('Свод по датам'!AM36:AO36)+SUM('Свод по датам'!AM78:AO78) -> 0 | S47: =SUM('Свод по датам'!AP36:AR36)+SUM('Свод по датам'!AP78:AR78) -> 0 | T47: =SUM('Свод по датам'!AS36:AU36)+SUM('Свод по датам'!AS78:AU78) -> 0 | U47: =SUM('Свод по датам'!AV36:AX36)+SUM('Свод по датам'!AV78:AX78) -> 0 | V47: =SUM('Свод по датам'!AY36:BA36)+SUM('Свод по датам'!AY78:BA78) -> 0 | W47: =SUM('Свод по датам'!BB36:BD36)+SUM('Свод по датам'!BB78:BD78) -> 0 | X47: =SUM('Свод по датам'!BE36:BG36)+SUM('Свод по датам'!BE78:BG78) -> 0 | Y47: =SUM('Свод по датам'!BH36:BJ36)+SUM('Свод по датам'!BH78:BJ78) -> 0 | Z47: =SUM('Свод по датам'!BK36:BM36)+SUM('Свод по датам'!BK78:BM78) -> 0 | AA47: =SUM('Свод по датам'!BN36:BP36)+SUM('Свод по датам'!BN78:BP78) -> 0 | AB47: =SUM('Свод по датам'!BQ36:BS36)+SUM('Свод по датам'!BQ78:BS78) -> 0 | AC47: =SUM('Свод по датам'!BT36:BV36)+SUM('Свод по датам'!BT78:BV78) -> 0 | AD47: =SUM('Свод по датам'!BW36:BY36)+SUM('Свод по датам'!BW78:BY78) -> 0 | AE47: =SUM('Свод по датам'!BZ36:CB36)+SUM('Свод по датам'!BZ78:CB78) -> 0 | AF47: =SUM('Свод по датам'!CC36:CE36)+SUM('Свод по датам'!CC78:CE78) -> 0 | AG47: =SUM('Свод по датам'!CF36:CH36)+SUM('Свод по датам'!CF78:CH78) -> 0 | AH47: =SUM('Свод по датам'!CI36:CK36)+SUM('Свод по датам'!CI78:CK78) -> 0 | AI47: =SUM('Свод по датам'!CL36:CN36)+SUM('Свод по датам'!CL78:CN78) -> 0 | AJ47: =SUM('Свод по датам'!CO36:CQ36)+SUM('Свод по датам'!CO78:CQ78) -> 0 | AK47: =SUM('Свод по датам'!CR36:CT36)+SUM('Свод по датам'!CR78:CT78) -> 0 | AL47: =SUM('Свод по датам'!CU36:CW36)+SUM('Свод по датам'!CU78:CW78) -> 0 | AM47: =SUM('Свод по датам'!CX36:CZ36) -> 0 | AN47: =SUM('Свод по датам'!DA36:DC36) -> 0 | AO47: =SUM('Свод по датам'!DD36:DF36) -> 0 | AP47: =SUM('Свод по датам'!DG36:DI36) -> 0 | AQ47: =SUM('Свод по датам'!DJ36:DL36) -> 0 | AR47: =SUM('Свод по датам'!DM36:DO36) -> 0 | AS47: =SUM('Свод по датам'!DP36:DR36) -> 0 | AT47: =SUM('Свод по датам'!DS36:DU36) -> 0 | AU47: =SUM('Свод по датам'!DV36:DX36) -> 0 | AV47: =SUM('Свод по датам'!DY36:EA36) -> 0 | AW47: =SUM('Свод по датам'!EB36:ED36) -> 0 | AX47: =SUM('Свод по датам'!EE36:EG36) -> 0 | AY47: =SUM('Свод по датам'!EH36:EJ36) -> 0 | AZ47: =SUM('Свод по датам'!EK36:EM36) -> 0 | BA47: =SUM('Свод по датам'!EN36:EP36) -> 0 | BB47: =SUM('Свод по датам'!EQ36:ES36) -> 0 | BC47: =SUM('Свод по датам'!ET36:EV36) -> 0 | BD47: =SUM('Свод по датам'!EW36:EY36) -> 0 | BE47: =SUM('Свод по датам'!EZ36:FB36) -> 0 | BF47: =SUM('Свод по датам'!FC36:FE36) -> 0 | BG47: =SUM('Свод по датам'!FF36:FH36) -> 0 | BH47: =SUM('Свод по датам'!FI36:FK36) -> 0 | BI47: =SUM('Свод по датам'!FL36:FN36) -> 0 | BJ47: =SUM('Свод по датам'!FO36:FQ36) -> 0 | BK47: =SUM('Свод по датам'!FR36:FT36) -> 0 | BL47: =SUM('Свод по датам'!FU36:FW36) -> 0 | BM47: =SUM('Свод по датам'!FX36:FZ36) -> 0 | BN47: =SUM('Свод по датам'!GA36:GC36) -> 0 | BO47: =SUM('Свод по датам'!GD36:GF36) -> 0 | BP47: =SUM('Свод по датам'!GG36:GI36) -> 0 | BQ47: =SUM('Свод по датам'!GJ36:GL36) -> 0 | BR47: =SUM('Свод по датам'!GM36:GO36) -> 0 | BS47: =SUM('Свод по датам'!GP36:GR36) -> 0 | BT47: =SUM('Свод по датам'!GS36:GU36) -> 0 | BU47: =SUM('Свод по датам'!GV36:GX36) -> 0 | BV47: =SUM('Свод по датам'!GY36:HA36) -> 0 | BW47: =SUM('Свод по датам'!HB36:HD36) -> 0 | BX47: =SUM('Свод по датам'!HE36:HG36) -> 0 | BY47: =SUM('Свод по датам'!HH36:HJ36) -> 0 | BZ47: =SUM('Свод по датам'!HK36:HM36) -> 0 | CA47: =SUM('Свод по датам'!HN36:HP36) -> 0 | CB47: =SUM('Свод по датам'!HQ36:HS36) -> 0 | CC47: =SUM('Свод по датам'!HT36:HV36) -> 0 | CD47: =SUM('Свод по датам'!HW36:HY36) -> 0 | CE47: =SUM('Свод по датам'!HZ36:IB36) -> 0 | CF47: =SUM('Свод по датам'!IC36:IE36) -> 0 | CG47: =SUM('Свод по датам'!IF36:IH36) -> 0 | CH47: =SUM('Свод по датам'!II36:IK36) -> 0 | CI47: =SUM('Свод по датам'!IL36:IN36) -> 0 | CJ47: =SUM('Свод по датам'!IO36:IQ36) -> 0 | CK47: =SUM('Свод по датам'!IR36:IT36) -> 0 | CL47: =SUM('Свод по датам'!IU36:IW36) -> 0 | CM47: =SUM('Свод по датам'!IX36:IZ36) -> 0 | CN47: =SUM('Свод по датам'!JA36:JC36) -> 0 | CO47: =SUM('Свод по датам'!JD36:JF36) -> 0 | CP47: =SUM('Свод по датам'!JG36:JI36) -> 0 | CQ47: =SUM('Свод по датам'!JJ36:JL36) -> 0 | CR47: =SUM('Свод по датам'!JM36:JO36) -> 0 | CS47: =SUM('Свод по датам'!JP36:JR36) -> 0 | CT47: =SUM('Свод по датам'!JS36:JU36) -> 0 | CU47: =SUM('Свод по датам'!JV36:JX36) -> 0 | CV47: =SUM(G47:CU47) -> 42.4
A48: =G48/(G48+0.001)+H48/(H48+0.001)+K48/(K48+0.001)+L48/(L48+0.001)+M48/(M48+0.001)+N48/(N48+0.001)+O48/(O48+0.001)+P48/(P48+0.001)+Q48/(Q48+0.001)+R48/(R48+0.001)+T48/(T48+0.001)+I48/(I48+0.001)+U48/(U48+0.001)+V48/(V48+0.001)+X48/(X48+0.001)+J48/(J48+0.001)+W48/(W48+0.001)+Y48/(Y48+0.001)+Z48/(Z48+0.001)+AA48/(AA48+0.001)+AB48/(AB48+0.001)+AC48/(AC48+0.001)+AD48/(AD48+0.001)+AE48/(AE48+0.001)+AF48/(AF48+0.001)+AG48/(AG48+0.001)+AH48/(AH48+0.001)+AI48/(AI48+0.001)+AJ48/(AJ48+0.001)+AK48/(AK48+0.001)+AL48/(AL48+0.001)+AM48/(AM48+0.001)+AN48/(AN48+0.001)+AO48/(AO48+0.001)+AP48/(AP48+0.001)+AQ48/(AQ48+0.001)+AR48/(AR48+0.001)+AS48/(AS48+0.001)+AT48/(AT48+0.001)+AU48/(AU48+0.001)+AV48/(AV48+0.001)+AW48/(AW48+0.001)+AX48/(AX48+0.001)+AY48/(AY48+0.001)+AZ48/(AZ48+0.001)+BA48/(BA48+0.001)+BB48/(BB48+0.001)+BC48/(BC48+0.001)+BD48/(BD48+0.001)+BE48/(BE48+0.001)+BF48/(BF48+0.001)+BG48/(BG48+0.001)+BH48/(BH48+0.001)+BI48/(BI48+0.001)+BJ48/(BJ48+0.001)+BK48/(BK48+0.001)+BL48/(BL48+0.001)+BM48/(BM48+0.001)+BN48/(BN48+0.001)+BO48/(BO48+0.001)+BP48/(BP48+0.001)+BQ48/(BQ48+0.001) -> 1.9985011 | B48: 11 | C48: Васьковцов | E48: =CV48 -> 2.7 | F48: т | G48: =SUM('Свод по датам'!F37:H37)+SUM('Свод по датам'!F79:H79) -> 0 | H48: =SUM('Свод по датам'!I37:K37)+SUM('Свод по датам'!I79:K79) -> 0 | I48: =SUM('Свод по датам'!L37:N37)+SUM('Свод по датам'!L79:N79) -> 0 | J48: =SUM('Свод по датам'!O37:Q37)+SUM('Свод по датам'!O79:Q79) -> 0 | K48: =SUM('Свод по датам'!R37:T37)+SUM('Свод по датам'!R79:T79) -> 0 | L48: =SUM('Свод по датам'!U37:W37)+SUM('Свод по датам'!U79:W79) -> 0 | M48: =SUM('Свод по датам'!X37:Z37)+SUM('Свод по датам'!X79:Z79) -> 0 | N48: =SUM('Свод по датам'!AA37:AC37)+SUM('Свод по датам'!AA79:AC79) -> 0 | O48: =SUM('Свод по датам'!AD37:AF37)+SUM('Свод по датам'!AD79:AF79) -> 0 | P48: =SUM('Свод по датам'!AG37:AI37)+SUM('Свод по датам'!AG79:AI79) -> 0 | Q48: =SUM('Свод по датам'!AJ37:AL37)+SUM('Свод по датам'!AJ79:AL79) -> 0 | R48: =SUM('Свод по датам'!AM37:AO37)+SUM('Свод по датам'!AM79:AO79) -> 0 | S48: =SUM('Свод по датам'!AP37:AR37)+SUM('Свод по датам'!AP79:AR79) -> 0 | T48: =SUM('Свод по датам'!AS37:AU37)+SUM('Свод по датам'!AS79:AU79) -> 0 | U48: =SUM('Свод по датам'!AV37:AX37)+SUM('Свод по датам'!AV79:AX79) -> 0 | V48: =SUM('Свод по датам'!AY37:BA37)+SUM('Свод по датам'!AY79:BA79) -> 0 | W48: =SUM('Свод по датам'!BB37:BD37)+SUM('Свод по датам'!BB79:BD79) -> 0 | X48: =SUM('Свод по датам'!BE37:BG37)+SUM('Свод по датам'!BE79:BG79) -> 0 | Y48: =SUM('Свод по датам'!BH37:BJ37)+SUM('Свод по датам'!BH79:BJ79) -> 1.5 | Z48: =SUM('Свод по датам'!BK37:BM37)+SUM('Свод по датам'!BK79:BM79) -> 0 | AA48: =SUM('Свод по датам'!BN37:BP37)+SUM('Свод по датам'!BN79:BP79) -> 0 | AB48: =SUM('Свод по датам'!BQ37:BS37)+SUM('Свод по датам'!BQ79:BS79) -> 0 | AC48: =SUM('Свод по датам'!BT37:BV37)+SUM('Свод по датам'!BT79:BV79) -> 0 | AD48: =SUM('Свод по датам'!BW37:BY37)+SUM('Свод по датам'!BW79:BY79) -> 0 | AE48: =SUM('Свод по датам'!BZ37:CB37)+SUM('Свод по датам'!BZ79:CB79) -> 0 | AF48: =SUM('Свод по датам'!CC37:CE37)+SUM('Свод по датам'!CC79:CE79) -> 0 | AG48: =SUM('Свод по датам'!CF37:CH37)+SUM('Свод по датам'!CF79:CH79) -> 0 | AH48: =SUM('Свод по датам'!CI37:CK37)+SUM('Свод по датам'!CI79:CK79) -> 0 | AI48: =SUM('Свод по датам'!CL37:CN37)+SUM('Свод по датам'!CL79:CN79) -> 0 | AJ48: =SUM('Свод по датам'!CO37:CQ37)+SUM('Свод по датам'!CO79:CQ79) -> 0 | AK48: =SUM('Свод по датам'!CR37:CT37)+SUM('Свод по датам'!CR79:CT79) -> 1.2 | AL48: =SUM('Свод по датам'!CU37:CW37)+SUM('Свод по датам'!CU79:CW79) -> 0 | AM48: =SUM('Свод по датам'!CX37:CZ37) -> 0 | AN48: =SUM('Свод по датам'!DA37:DC37) -> 0 | AO48: =SUM('Свод по датам'!DD37:DF37) -> 0 | AP48: =SUM('Свод по датам'!DG37:DI37) -> 0 | AQ48: =SUM('Свод по датам'!DJ37:DL37) -> 0 | AR48: =SUM('Свод по датам'!DM37:DO37) -> 0 | AS48: =SUM('Свод по датам'!DP37:DR37) -> 0 | AT48: =SUM('Свод по датам'!DS37:DU37) -> 0 | AU48: =SUM('Свод по датам'!DV37:DX37) -> 0 | AV48: =SUM('Свод по датам'!DY37:EA37) -> 0 | AW48: =SUM('Свод по датам'!EB37:ED37) -> 0 | AX48: =SUM('Свод по датам'!EE37:EG37) -> 0 | AY48: =SUM('Свод по датам'!EH37:EJ37) -> 0 | AZ48: =SUM('Свод по датам'!EK37:EM37) -> 0 | BA48: =SUM('Свод по датам'!EN37:EP37) -> 0 | BB48: =SUM('Свод по датам'!EQ37:ES37) -> 0 | BC48: =SUM('Свод по датам'!ET37:EV37) -> 0 | BD48: =SUM('Свод по датам'!EW37:EY37) -> 0 | BE48: =SUM('Свод по датам'!EZ37:FB37) -> 0 | BF48: =SUM('Свод по датам'!FC37:FE37) -> 0 | BG48: =SUM('Свод по датам'!FF37:FH37) -> 0 | BH48: =SUM('Свод по датам'!FI37:FK37) -> 0 | BI48: =SUM('Свод по датам'!FL37:FN37) -> 0 | BJ48: =SUM('Свод по датам'!FO37:FQ37) -> 0 | BK48: =SUM('Свод по датам'!FR37:FT37) -> 0 | BL48: =SUM('Свод по датам'!FU37:FW37) -> 0 | BM48: =SUM('Свод по датам'!FX37:FZ37) -> 0 | BN48: =SUM('Свод по датам'!GA37:GC37) -> 0 | BO48: =SUM('Свод по датам'!GD37:GF37) -> 0 | BP48: =SUM('Свод по датам'!GG37:GI37) -> 0 | BQ48: =SUM('Свод по датам'!GJ37:GL37) -> 0 | BR48: =SUM('Свод по датам'!GM37:GO37) -> 0 | BS48: =SUM('Свод по датам'!GP37:GR37) -> 0 | BT48: =SUM('Свод по датам'!GS37:GU37) -> 0 | BU48: =SUM('Свод по датам'!GV37:GX37) -> 0 | BV48: =SUM('Свод по датам'!GY37:HA37) -> 0 | BW48: =SUM('Свод по датам'!HB37:HD37) -> 0 | BX48: =SUM('Свод по датам'!HE37:HG37) -> 0 | BY48: =SUM('Свод по датам'!HH37:HJ37) -> 0 | BZ48: =SUM('Свод по датам'!HK37:HM37) -> 0 | CA48: =SUM('Свод по датам'!HN37:HP37) -> 0 | CB48: =SUM('Свод по датам'!HQ37:HS37) -> 0 | CC48: =SUM('Свод по датам'!HT37:HV37) -> 0 | CD48: =SUM('Свод по датам'!HW37:HY37) -> 0 | CE48: =SUM('Свод по датам'!HZ37:IB37) -> 0 | CF48: =SUM('Свод по датам'!IC37:IE37) -> 0 | CG48: =SUM('Свод по датам'!IF37:IH37) -> 0 | CH48: =SUM('Свод по датам'!II37:IK37) -> 0 | CI48: =SUM('Свод по датам'!IL37:IN37) -> 0 | CJ48: =SUM('Свод по датам'!IO37:IQ37) -> 0 | CK48: =SUM('Свод по датам'!IR37:IT37) -> 0 | CL48: =SUM('Свод по датам'!IU37:IW37) -> 0 | CM48: =SUM('Свод по датам'!IX37:IZ37) -> 0 | CN48: =SUM('Свод по датам'!JA37:JC37) -> 0 | CO48: =SUM('Свод по датам'!JD37:JF37) -> 0 | CP48: =SUM('Свод по датам'!JG37:JI37) -> 0 | CQ48: =SUM('Свод по датам'!JJ37:JL37) -> 0 | CR48: =SUM('Свод по датам'!JM37:JO37) -> 0 | CS48: =SUM('Свод по датам'!JP37:JR37) -> 0 | CT48: =SUM('Свод по датам'!JS37:JU37) -> 0 | CU48: =SUM('Свод по датам'!JV37:JX37) -> 0 | CV48: =SUM(G48:CU48) -> 2.7
