Workbook

Sheet Упр и Профком
B3: СВЕДЕНИЯ О ПЕРЕДОВИКАХ на уборке зерновых по ОАО "Калининский"
B4: по состоянию на | C4: =Директору!G26 -> 23 | D4: августа 2024 года
C6: По намолоту среди комбайнёров
B7: Ф.И.О. | C7: Убрано, га | E7: Намолот зерна, тонн | G7: Марка комбайна | H7: Отработано часов | I7: Срок эксплу-атации, лет | J7: В.Ч. Варганов Ан. Сам-но 10 га 23,2 т | M7: Корма
C8: всего | D8: в т.ч. рапса | E8: всего | F8: в т.ч. рапса
B9: Ермоленко В.В. ( Не с начала ) | C9: ='Всего и по культурам+1'!E16+M10 -> 353.2 | D9: ='Свод по датам'!E47 -> 0 | E9: ='Всего и по культурам+1'!E15+M9 -> 908.4 | F9: ='Свод по датам'!E46 -> 0 | G9: ='Всего и по культурам+1'!D15 -> КЗС-12А | H9: =ROUND('Всего и по культурам+1'!A16*11,0) -> 297 | I9: 1.5 | L9: т
B10: ='Всего и по культурам+1'!C16 -> Варганов Андрей Николаевич | H10: =H9 -> 297 | L10: га
B11: Самойленко Петр Григорьевич | C11: ='Всего и по культурам+1'!E18+M12 -> 361.4 | D11: ='Свод по датам'!E49 -> 161 | E11: ='Всего и по культурам+1'!E17+M11 -> 933.8 | F11: ='Свод по датам'!E48 -> 413.5 | G11: ='Всего и по культурам+1'!D17 -> КЗС-12А | H11: =ROUND('Всего и по культурам+1'!A18*11,0) -> 165 | I11: 1.5 | L11: т
B12: ='Всего и по культурам+1'!C18 -> Варганов Андрей Николаевич | H12: =H11 -> 165 | L12: га
B13: ='Всего и по культурам+1'!C19 -> Белоусов Сергей Викторович | C13: ='Всего и по культурам+1'!E20+M14 -> 828.4 | D13: ='Свод по датам'!E51 -> 189.8 | E13: ='Всего и по культурам+1'!E19+M13 -> 2106.9 | F13: ='Свод по датам'!E50 -> 443.7 | G13: ='Всего и по культурам+1'!D19 -> КЗС-12 | H13: =ROUND('Всего и по культурам+1'!A20*11,0) -> 451 | I13: 1.5 | L13: т
B14: ='Всего и по культурам+1'!C20 -> Белоусов Александр Владимирович | L14: га
B15: ='Всего и по культурам+1'!C21 -> Чуянов П.А. | C15: ='Всего и по культурам+1'!E22 -> 118 | D15: ='Свод по датам'!E53 -> 0 | E15: ='Всего и по культурам+1'!E21 -> 307.6 | F15: ='Свод по датам'!E52 -> 0 | G15: ='Всего и по культурам+1'!D21 -> КЗС-10К | H15: =ROUND('Всего и по культурам+1'!A22*11,0) -> 121 | I15: 14
B16: ='Всего и по культурам+1'!C22 -> 0 | H16: =H15 -> 121
B17: ='Всего и по культурам+1'!C23 -> Чиканов Андрей Алексеевич | C17: ='Всего и по культурам+1'!E24 -> 245.95 | D17: ='Свод по датам'!E55 -> 0 | E17: ='Всего и по культурам+1'!E23 -> 659.3 | F17: ='Свод по датам'!E54 -> 0 | G17: ='Всего и по культурам+1'!D23 -> КЗС-12 | H17: =ROUND('Всего и по культурам+1'!A24*11,0) -> 275 | I17: 15
B18: ='Всего и по культурам+1'!C24 -> 0 | H18: =H17 -> 275
B19: Кайдунов Андрей Вячеславович | C19: ='Всего и по культурам+1'!E26 -> 396.05 | D19: ='Свод по датам'!E57 -> 78.2 | E19: ='Всего и по культурам+1'!E25 -> 1068.9 | F19: ='Свод по датам'!E56 -> 192.7 | G19: ='Всего и по культурам+1'!D27 -> КЗС-12 | H19: =ROUND('Всего и по культурам+1'!A26*11,0) -> 330 | I19: 6
H20: =H19 -> 330
B21: ='Всего и по культурам+1'!C27 -> Сидельников Сергей Александрович | C21: ='Всего и по культурам+1'!E28 -> 590 | D21: ='Свод по датам'!E59 -> 116 | E21: ='Всего и по культурам+1'!E27 -> 1472.06 | F21: ='Свод по датам'!E58 -> 266.1 | G21: ='Всего и по культурам+1'!D27 -> КЗС-12 | H21: =H13 -> 451 | I21: 13
B22: ='Всего и по культурам+1'!C28 -> Сидельников Николай Сергеевич
B23: ='Всего и по культурам+1'!C29 -> 0 | C23: ='Всего и по культурам+1'!E30+D23 -> 0 | D23: ='Свод по датам'!E61 -> 0 | E23: ='Всего и по культурам+1'!E29 -> 0 | F23: ='Свод по датам'!E60 -> 0 | G23: ='Всего и по культурам+1'!D29 -> 0
B24: ='Всего и по культурам+1'!C30 -> 0
B25: ='Всего и по культурам+1'!C31 -> 0 | C25: ='Всего и по культурам+1'!E32+D25 -> 0 | D25: ='Свод по датам'!E63 -> 0 | E25: ='Всего и по культурам+1'!E31 -> 0 | F25: ='Свод по датам'!E62 -> 0 | G25: ='Всего и по культурам+1'!D31 -> 0 | H25: =ROUND('Всего и по культурам+1'!A32*11,0) -> 0
B26: ='Всего и по культурам+1'!C32 -> 0
A27: ИТОГО | C27: =SUM(C9:C26) -> 2893 | D27: =SUM(D9:D26) -> 545 | E27: =SUM(E9:E26) -> 7456.96 | F27: =SUM(F9:F26) -> 1316
A29: Экипажей, намолотивших | F29: 1000 и более тонн- | H29: с рапсом
D31: По намолоту среди молодёжных экипажей
B32: Ф.И.О. | C32: Убрано, га | E32: Намолот зерна, тонн | G32: Марка комбайна | H32: Отработано часов | I32: Срок эксплу-атации, лет
C33: всего | D33: в т.ч. рапса | E33: всего | F33: в т.ч. рапса
B34: ='Всего и по культурам+1'!C21 -> Чуянов П.А. | C34: =C15 -> 118 | D34: =D15 -> 0 | E34: =E15 -> 307.6 | F34: =F15 -> 0 | G34: =G15 -> КЗС-10К | H34: =H15 -> 121 | I34: =I15 -> 14
B35: 17.04.1994г.р.
B36: ='Всего и по культурам+1'!C22 -> 0 | H36: =H16 -> 121
A42: ИТОГО | C42: =C38+C34 -> 118 | E42: =SUM(E34:E40) -> 307.6
D44: На отвозке зерна
B45: Ф.И.О. | C45: Перевезено зерна, т | E45: Марка | F45: Грузоподъ ёмность, т | G45: Отработано часов | H45: Срок эксплу-атации, лет
C46: всего | D46: в т.ч. рапс
B47: ='Всего и по культурам+1'!C38 -> Старотиторов Александр Николаевич | C47: ='Всего и по культурам+1'!E38 -> 1911.4 | D47: ='Свод по датам'!E69 -> 492.9 | E47: ='Всего и по культурам+1'!D38 -> ГАЗ-САЗ-35071 | F47: 4.15 | G47: =ROUND('Всего и по культурам+1'!A37*9,0) -> 0 | H47: 16
B48: ='Всего и по культурам+1'!C39 -> Бужан В.В. | C48: ='Всего и по культурам+1'!E39 -> 989.66 | D48: ='Свод по датам'!E70 -> 0 | E48: ='Всего и по культурам+1'!D39 -> МАЗ-5551 | F48: 9 | G48: =ROUND('Всего и по культурам+1'!A39*9,0) -> 198
B49: ='Всего и по культурам+1'!C40 -> Скоробогатый Кирилл Владимирович | C49: ='Всего и по культурам+1'!E40 -> 581.8 | D49: ='Свод по датам'!E71 -> 306.1 | E49: ='Всего и по культурам+1'!D40 -> МАЗ-457043 | F49: 4.2 | G49: =ROUND('Всего и по культурам+1'!A40*9,0) -> 72 | H49: 5
B50: ='Всего и по культурам+1'!C41 -> Зайцев Владимир Александрович | C50: ='Всего и по культурам+1'!E41 -> 66.9 | D50: ='Свод по датам'!E72 -> 0 | E50: ='Всего и по культурам+1'!D41 -> МАЗ-5551 | F50: 9 | G50: =ROUND('Всего и по культурам+1'!A41*9,0) -> 27 | H50: 15
B51: ='Всего и по культурам+1'!C42 -> Ермоленко Антон Александрович | C51: ='Всего и по культурам+1'!E42 -> 0 | D51: ='Свод по датам'!E73 -> 0 | E51: ='Всего и по культурам+1'!D42 -> МАЗ-5551 | F51: 9.5 | G51: =ROUND('Всего и по культурам+1'!A42*9,0) -> 0 | H51: 19
...

Sheet Директору
C1: Обновить сведения | H1: Скачать сведения в XLS файл
C4: на сайт : | D4: www.pererost.by | H4: https://www.pererost.by/
E24: СВЕДЕНИЯ
C25: о ходе уборки зерновых по ОАО "Калининский"
C26: по состоянию на утро | G26: 23 | H26: августа
B28: % от первого | C28: Ф.И.О. | E28: Марка ком-байна | G28: Намолот , т | I28: В том числе | L28: Расценка, руб/т | M28: З/плата за день, руб
G29: за день | H29: с нач уборки | I29: зерно | J29: рапс
B30: =H30/MAX($H$30:$H$47) -> 0.43115478 | C30: Ермоленко Вас.Викт | E30: ='Всего и по культурам+1'!D15 -> КЗС-12А | G30: ='Всего и по культурам+1'!E3 -> 7.7 | H30: ='Всего и по культурам+1'!E15 -> 908.4 | I30: =-J30+H30 -> 908.4 | J30: ='Свод по датам'!E46 -> 0 | L30: 2.05 | M30: =L30*G30 -> 15.785
C31: Варганов Анд.Ник. | L31: 0.7 | M31: =M30*L31 -> 11.0495
B32: =H32/MAX($H$30:$H$47) -> 0.4432104 | C32: Самойленко П.Г. | E32: ='Всего и по культурам+1'!D17 -> КЗС-12А | G32: ='Всего и по культурам+1'!E4 -> 0 | H32: ='Всего и по культурам+1'!E17 -> 933.8 | I32: =-J32+H32 -> 520.3 | J32: ='Свод по датам'!E48 -> 413.5 | L32: 2.05 | M32: =G32*L32 -> 0
C33: Варганов Анд.Ник. | L33: 0.7 | M33: =M32*L33 -> 0
B34: =H34/MAX($H$30:$H$47) -> 1 | C34: Белоусов С.Викт. | E34: ='Всего и по культурам+1'!D19 -> КЗС-12 | G34: ='Всего и по культурам+1'!E5 -> 0 | H34: ='Всего и по культурам+1'!E19 -> 2106.9 | I34: =-J34+H34 -> 1663.2 | J34: ='Свод по датам'!E50 -> 443.7 | L34: 2.05 | M34: =G34*L34 -> 0 | S34: За день | T34: Всего
C35: Белоусов А.Влад. | L35: 0.8 | M35: =M34*L35 -> 0 | R35: Ермоленко В.В. | S35: =G30 -> 7.7 | T35: =H30 -> 908.4
B36: =H36/MAX($H$30:$H$47) -> 0.14599649 | C36: Чуянов П.А. | E36: ='Всего и по культурам+1'!D21 -> КЗС-10К | G36: ='Всего и по культурам+1'!E6 -> 0 | H36: ='Всего и по культурам+1'!E21 -> 307.6 | I36: =-J36+H36 -> 307.6 | J36: ='Свод по датам'!E52 -> 0 | L36: 2.63 | M36: =G36*L36 -> 0 | R36: Самойленко П.Г. | S36: =G32 -> 0 | T36: =H32 -> 933.8
L37: 0.5 | M37: =M36*L37 -> 0 | R37: Белоусов С.В. | S37: =G34 -> 0 | T37: =H34 -> 2106.9
B38: =H38/MAX($H$30:$H$47) -> 0.3129242 | C38: Чиканов Анд. | E38: ='Всего и по культурам+1'!D23 -> КЗС-12 | G38: ='Всего и по культурам+1'!E7 -> 0 | H38: ='Всего и по культурам+1'!E23 -> 659.3 | I38: =-J38+H38 -> 659.3 | J38: ='Свод по датам'!E54 -> 0 | L38: 2.25 | M38: =G38*L38 -> 0 | R38: Чуянов П.А. | S38: =G36 -> 0 | T38: =H36 -> 307.6
C39: Некрасов С.Н. | L39: 0.8 | M39: =M38*L39 -> 0 | R39: Чиканов Анд. | S39: =G38 -> 0 | T39: =H38 -> 659.3
B40: =H40/MAX($H$30:$H$47) -> 0.50733305 | C40: Кайдунов Анд Вяч | E40: ='Всего и по культурам+1'!D25 -> КЗС-12 | G40: ='Всего и по культурам+1'!E8 -> 0 | H40: ='Всего и по культурам+1'!E25 -> 1068.9 | I40: =-J40+H40 -> 876.2 | J40: ='Свод по датам'!E56 -> 192.7 | L40: 2.25 | M40: =G40*L40 -> 0 | R40: Кайдунов А.В. | S40: =G40 -> 0 | T40: =H40 -> 1068.9
L41: 0.7 | M41: =M40*L41 -> 0 | R41: Сидельников С.А. | S41: =G42 -> 2.8 | T41: =H42 -> 1472.06
B42: =H42/MAX($H$30:$H$47) -> 0.69868527 | C42: Сидельников С.А. | E42: ='Всего и по культурам+1'!D27 -> КЗС-12 | G42: ='Всего и по культурам+1'!E9 -> 2.8 | H42: ='Всего и по культурам+1'!E27 -> 1472.06 | I42: =-J42+H42 -> 1205.96 | J42: ='Свод по датам'!E58 -> 266.1 | L42: 2.25 | M42: =G42*L42 -> 6.3 | R42: Лепенков | S42: =G46 -> 0 | T42: =H46 -> 0
C43: Сидельников Ник. С. | L43: 0.8 | M43: =M42*L43 -> 5.04
B44: =H44/MAX($H$30:$H$47) -> 0 | E44: ='Всего и по культурам+1'!D29 -> 0 | G44: ='Всего и по культурам+1'!E10 -> 0 | H44: ='Всего и по культурам+1'!E29 -> 0 | I44: =-J44+H44 -> 0 | J44: ='Свод по датам'!E60 -> 0 | M44: =G44*L44 -> 0
M45: =M44*L45 -> 0
B46: =H46/MAX($H$30:$H$47) -> 0 | E46: ='Всего и по культурам+1'!D29 -> 0 | G46: ='Всего и по культурам+1'!E11 -> 0 | H46: ='Всего и по культурам+1'!E31 -> 0 | I46: =-J46+H46 -> 0 | J46: ='Свод по датам'!E62 -> 0 | M46: =G46*L46*1.5 -> 0
C48: ИТОГО | G48: =SUM(G30:G47) -> 10.5 | H48: =SUM(H30:H47) -> 7456.96 | I48: =SUM(I30:I47) -> 6140.96 | J48: =SUM(J30:J47) -> 1316
C50: Водители
B51: % от первого | C51: Ф.И.О. | E51: Марка | G51: Перевезено, т | I51: В том числе | L51: Расценка, руб/т | M51: З/плата за день, руб
G52: за день | H52: с нач | I52: зерно | J52: рапс
B53: =H53/MAX($H$53:$H$64) -> 0.67946394 | C53: Старотиторов А.Н. | E53: ='Всего и по культурам+1'!D38 -> ГАЗ-САЗ-35071 | G53: ='Всего и по культурам+1'!E53 -> 0 | H53: ='Всего и по культурам+1'!E38 -> 1911.4 | I53: =H53-J53 -> 1418.5 | J53: ='Свод по датам'!E69 -> 492.9 | L53: 1.42 | M53: =G53*L53 -> 0
B54: =H54/MAX($H$53:$H$64) -> 0.35180406 | C54: Бужан В.В. | E54: ='Всего и по культурам+1'!D39 -> МАЗ-5551 | G54: ='Всего и по культурам+1'!E54 -> 0 | H54: ='Всего и по культурам+1'!E39 -> 989.66 | I54: =H54-J54 -> 989.66 | J54: ='Свод по датам'!E70 -> 0 | L54: 1.23 | M54: =G54*L54 -> 0
B55: =H55/MAX($H$53:$H$64) -> 0.2068181 | C55: Скоробогатый К.В. | E55: ='Всего и по культурам+1'!D40 -> МАЗ-457043 | G55: ='Всего и по культурам+1'!E55 -> 0 | H55: ='Всего и по культурам+1'!E40 -> 581.8 | I55: =H55-J55 -> 275.7 | J55: ='Свод по датам'!E71 -> 306.1 | L55: 1.42 | M55: =G55*L55 -> 0
B56: =H56/MAX($H$53:$H$64) -> 0.023781593 | C56: Зайцев В.А. | E56: ='Всего и по культурам+1'!D41 -> МАЗ-5551 | G56: ='Всего и по культурам+1'!E56 -> 10.5 | H56: ='Всего и по культурам+1'!E41 -> 66.9 | I56: =H56-J56 -> 66.9 | J56: ='Свод по датам'!E72 -> 0 | L56: 1.23 | M56: =G56*L56 -> 12.915
B57: =H57/MAX($H$53:$H$64) -> 0 | C57: Ермоленко Антон | E57: ='Всего и по культурам+1'!D42 -> МАЗ-5551 | G57: ='Всего и по культурам+1'!E57 -> 0 | H57: ='Всего и по культурам+1'!E42 -> 0 | I57: =H57-J57 -> 0 | J57: ='Свод по датам'!E73 -> 0 | L57: 1.23 | M57: =G57*L57 -> 0
B58: =H58/MAX($H$53:$H$64) -> 0 | C58: Ермоленко А. В. | E58: ='Всего и по культурам+1'!D43 -> МАЗ-551605 | G58: ='Всего и по культурам+1'!E58 -> 0 | H58: ='Всего и по культурам+1'!E43 -> 0 | I58: =H58-J58 -> 0 | J58: ='Свод по датам'!E74 -> 0 | L58: 1.23 | M58: =G58*L58 -> 0
B59: =H59/MAX($H$53:$H$64) -> 1 | C59: Скоробогатый В.Н. | E59: ='Всего и по культурам+1'!D44 -> МАЗ-551605 | G59: ='Всего и по культурам+1'!E59 -> 0 | H59: ='Всего и по культурам+1'!E44 -> 2813.1 | I59: =H59-J59 -> 2302.1 | J59: ='Свод по датам'!E75 -> 511 | L59: 1.23 | M59: =G59*L59 -> 0
B60: =H60/MAX($H$53:$H$64) -> 0.30119797 | C60: Горбаченко С.А. | E60: ='Всего и по культурам+1'!D45 -> МАЗ-5551 | G60: ='Всего и по культурам+1'!E60 -> 0 | H60: ='Всего и по культурам+1'!E45 -> 847.3 | I60: =H60-J60 -> 841.3 | J60: ='Свод по датам'!E76 -> 6 | L60: 1.23 | M60: =G60*L60 -> 0
B61: =H61/MAX($H$53:$H$64) -> 0 | C61: Бондаренко Н.А. | E61: ='Всего и по культурам+1'!D46 -> МАЗ-457041 | G61: ='Всего и по культурам+1'!E61 -> 0 | H61: ='Всего и по культурам+1'!E46 -> 0 | I61: =H61-J61 -> 0 | J61: ='Свод по датам'!E77 -> 0 | L61: 1.42 | M61: =G61*L61 -> 0
B62: =H62/MAX($H$53:$H$64) -> 0.01507234 | C62: Середа Д.С. | E62: ='Всего и по культурам+1'!D47 -> 0 | G62: ='Всего и по культурам+1'!E62 -> 0 | H62: ='Всего и по культурам+1'!E47 -> 42.4 | I62: =H62-J62 -> 42.4 | J62: ='Свод по датам'!E78 -> 0 | L62: 1.23 | M62: =G62*L62 -> 0
B63: =H63/MAX($H$53:$H$64) -> 0.00095979524 | C63: ='Всего и по культурам+1'!C48 -> Васьковцов | E63: ='Всего и по культурам+1'!D48 -> 0 | G63: ='Всего и по культурам+1'!E63 -> 0 | H63: ='Всего и по культурам+1'!E48 -> 2.7 | I63: =H63-J63 -> 2.7 | J63: ='Свод по датам'!E79 -> 0 | M63: =G63*L63 -> 0
B64: =H64/MAX($H$53:$H$64) -> 0.07170026 | C64: ='Всего и по культурам+1'!C49 -> Скобликов | E64: ='Всего и по культурам+1'!D49 -> 0 | G64: ='Всего и по культурам+1'!E64 -> 0 | H64: ='Всего и по культурам+1'!E49 -> 201.7 | I64: =H64-J64 -> 201.7 | J64: ='Свод по датам'!E80 -> 0 | M64: =G64*L64 -> 0
...

Sheet Всего и по культурам+1
C2: Определение намолота за последний день:
C3: =C15 -> Ермоленко Вас | E3: =IF(SUM($G$13:$CU$13)=1,SUM(G3:CU3),0) -> 7.7 | G3: =G13*G15 -> 0 | H3: =H13*H15 -> 0 | I3: =I13*I15 -> 0 | J3: =J13*J15 -> 0 | K3: =K13*K15 -> 0 | L3: =L13*L15 -> 0 | M3: =M13*M15 -> 0 | N3: =N13*N15 -> 0 | ... CU3: =CU13*CU15 -> 0
C4: =C17 -> Самойленко П.Г. | E4: =IF(SUM($G$13:$CU$13)=1,SUM(G4:CU4),0) -> 0 | G4: =G13*G17 -> 0 | H4: =H13*H17 -> 0 | I4: =I13*I17 -> 0 | J4: =J13*J17 -> 0 | K4: =K13*K17 -> 0 | L4: =L13*L17 -> 0 | M4: =M13*M17 -> 0 | N4: =N13*N17 -> 0 | ... CU4: =CU13*CU17 -> 0
C5: =C19 -> Белоусов Сергей Викторович | E5: =IF(SUM($G$13:$CU$13)=1,SUM(G5:CU5),0) -> 0 | G5: =G13*G19 -> 0 | H5: =H13*H19 -> 0 | I5: =I13*I19 -> 0 | J5: =J13*J19 -> 0 | K5: =K13*K19 -> 0 | L5: =L13*L19 -> 0 | M5: =M13*M19 -> 0 | N5: =N13*N19 -> 0 | ... CU5: =CU13*CU19 -> 0
C6: =C21 -> Чуянов П.А. | E6: =IF(SUM($G$13:$CU$13)=1,SUM(G6:CU6),0) -> 0 | G6: =G13*G21 -> 0 | H6: =H13*H21 -> 0 | I6: =I13*I21 -> 0 | J6: =J13*J21 -> 0 | K6: =K13*K21 -> 0 | L6: =L13*L21 -> 0 | M6: =M13*M21 -> 0 | N6: =N13*N21 -> 0 | ... CU6: =CU13*CU21 -> 0
C7: =C23 -> Чиканов Андрей Алексеевич | E7: =IF(SUM($G$13:$CU$13)=1,SUM(G7:CU7),0) -> 0 | G7: =G13*G23 -> 0 | H7: =H13*H23 -> 0 | I7: =I13*I23 -> 0 | J7: =J13*J23 -> 0 | K7: =K13*K23 -> 0 | L7: =L13*L23 -> 0 | M7: =M13*M23 -> 0 | N7: =N13*N23 -> 0 | ... CU7: =CU13*CU23 -> 0
C8: =C25 -> Кайдунов А.В. | E8: =IF(SUM($G$13:$CU$13)=1,SUM(G8:CU8),0) -> 0 | G8: =G13*G25 -> 0 | H8: =H13*H25 -> 0 | I8: =I13*I25 -> 0 | J8: =J13*J25 -> 0 | K8: =K13*K25 -> 0 | L8: =L13*L25 -> 0 | M8: =M13*M25 -> 0 | N8: =N13*N25 -> 0 | ... CU8: =CU13*CU25 -> 0
C9: =C27 -> Сидельников Сергей Александрович | E9: =IF(SUM($G$13:$CU$13)=1,SUM(G9:CU9),0) -> 2.8 | G9: =G13*G27 -> 0 | H9: =H13*H27 -> 0 | I9: =I13*I27 -> 0 | J9: =J13*J27 -> 0 | K9: =K13*K27 -> 0 | L9: =L13*L27 -> 0 | M9: =M13*M27 -> 0 | N9: =N13*N27 -> 0 | ... CU9: =CU13*CU27 -> 0
C10: =C29 -> 0 | E10: =IF(SUM($G$13:$CU$13)=1,SUM(G10:CU10),0) -> 0 | G10: =G13*G29 -> 0 | H10: =H13*H29 -> 0 | I10: =I13*I29 -> 0 | J10: =J13*J29 -> 0 | K10: =K13*K29 -> 0 | L10: =L13*L29 -> 0 | M10: =M13*M29 -> 0 | N10: =N13*N29 -> 0 | ... CU10: =CU13*CU29 -> 0
C11: =C31 -> 0 | E11: =IF(SUM($G$13:$CU$13)=1,SUM(G11:CU11),0) -> 0 | G11: =G13*G31 -> 0 | H11: =H13*H31 -> 0 | I11: =I13*I31 -> 0 | J11: =J13*J31 -> 0 | K11: =K13*K31 -> 0 | L11: =L13*L31 -> 0 | M11: =M13*M31 -> 0 | N11: =N13*N31 -> 0 | ... CU11: =CU13*CU31 -> 0
A12: Дней до 31.08
C13: Поставь "1" в этой строке на отчётную дату | BH13: 1
G14: 44012 | H14: 44013 | I14: 44014 | J14: 44015 | K14: 44016 | L14: 44017 | M14: 44018 | N14: 44019 | O14: 44020 | P14: 44021 | Q14: 44022 | R14: 44023 | S14: 44024 | T14: 44025 | U14: 44026 | V14: 44027 | W14: 44028 | X14: 44029 | Y14: 44030 | Z14: 44031 | AA14: 44032 | AB14: 44033 | AC14: 44034 | AD14: 44035 | AE14: 44036 | AF14: 44037 | AG14: 44038 | AH14: 44039 | AI14: 44040 | AJ14: 44041 | AK14: 44042 | AL14: 44043 | AM14: 44044 | AN14: 44045 | AO14: 44046 | AP14: 44047 | AQ14: 44048 | AR14: 44049 | AS14: 44050 | AT14: 44051 | AU14: 44052 | AV14: 44053 | AW14: 44054 | AX14: 44055 | AY14: 44056 | AZ14: 44057 | BA14: 44058 | BB14: 44059 | BC14: 44060 | BD14: 44061 | BE14: 44062 | BF14: 44063 | BG14: 44064 | BH14: 44065 | BI14: 44066 | BJ14: 44067 | BK14: 44068 | BL14: 44069 | BM14: 44070 | BN14: 44071 | BO14: 44072 | BP14: 44073 | BQ14: 44074 | BR14: 44075 | BS14: 44076 | BT14: 44077 | BU14: 44078 | BV14: 44079 | BW14: 44080 | BX14: 44081 | BY14: 44082 | BZ14: 44083 | CA14: 44084 | CB14: 44085 | CC14: 44086 | CD14: 44087 | CE14: 44088 | CF14: 44089 | CG14: 44090 | CH14: 44091 | CI14: 44092 | CJ14: 44093 | CK14: 44094 | CL14: 44095 | CM14: 44096 | CN14: 44097 | CO14: 44098 | CP14: 44099 | CQ14: 44100 | CR14: 44101 | CS14: 44102 | CT14: 44103 | CU14: 44104 | CV14: Итого
C15: Ермоленко Вас | D15: КЗС-12А | E15: =CV15 -> 908.4 | F15: тонн | G15: =SUM('Свод по датам'!F4:H4)+SUM('Свод по датам'!F46:H46) -> 0 | H15: =SUM('Свод по датам'!I4:K4)+SUM('Свод по датам'!I46:K46) -> 0 | I15: =SUM('Свод по датам'!L4:N4)+SUM('Свод по датам'!L46:N46) -> 0 | J15: =SUM('Свод по датам'!O4:Q4)+SUM('Свод по датам'!O46:Q46) -> 0 | K15: =SUM('Свод по датам'!R4:T4)+SUM('Свод по датам'!R46:T46) -> 0 | L15: =SUM('Свод по датам'!U4:W4)+SUM('Свод по датам'!U46:W46) -> 0 | M15: =SUM('Свод по датам'!X4:Z4)+SUM('Свод по датам'!X46:Z46) -> 0 | N15: =SUM('Свод по датам'!AA4:AC4)+SUM('Свод по датам'!AA46:AC46) -> 0 | O15: =SUM('Свод по датам'!AD4:AF4)+SUM('Свод по датам'!AD46:AF46) -> 0 | P15: =SUM('Свод по датам'!AG4:AI4)+SUM('Свод по датам'!AG46:AI46) -> 0 | Q15: =SUM('Свод по датам'!AJ4:AL4)+SUM('Свод по датам'!AJ46:AL46) -> 0 | R15: =SUM('Свод по датам'!AM4:AO4)+SUM('Свод по датам'!AM46:AO46) -> 0 | S15: =SUM('Свод по датам'!AP4:AR4)+SUM('Свод по датам'!AP46:AR46) -> 0 | T15: =SUM('Свод по датам'!AS4:AU4)+SUM('Свод по датам'!AS46:AU46) -> 0 | U15: =SUM('Свод по датам'!AV4:AX4)+SUM('Свод по датам'!AV46:AX46) -> 0 | V15: =SUM('Свод по датам'!AY4:BA4)+SUM('Свод по датам'!AY46:BA46) -> 0 | W15: =SUM('Свод по датам'!BB4:BD4)+SUM('Свод по датам'!BB46:BD46) -> 0 | X15: =SUM('Свод по датам'!BE4:BG4)+SUM('Свод по датам'!BE46:BG46) -> 37.6 | Y15: =SUM('Свод по датам'!BH4:BJ4)+SUM('Свод по датам'!BH46:BJ46) -> 8.6 | Z15: =SUM('Свод по датам'!BK4:BM4)+SUM('Свод по датам'!BK46:BM46) -> 0 | AA15: =SUM('Свод по датам'!BN4:BP4)+SUM('Свод по датам'!BN46:BP46) -> 71 | AB15: =SUM('Свод по датам'!BQ4:BS4)+SUM('Свод по датам'!BQ46:BS46) -> 59.4 | AC15: =SUM('Свод по датам'!BT4:BV4)+SUM('Свод по датам'!BT46:BV46) -> 21.2 | AD15: =SUM('Свод по датам'!BW4:BY4)+SUM('Свод по датам'!BW46:BY46) -> 44.2 | AE15: =SUM('Свод по датам'!BZ4:CB4)+SUM('Свод по датам'!BZ46:CB46) -> 69.2 | AF15: =SUM('Свод по датам'!CC4:CE4)+SUM('Свод по датам'!CC46:CE46) -> 25.5 | AG15: =SUM('Свод по датам'!CF4:CH4)+SUM('Свод по датам'!CF46:CH46) -> 63.6 | AH15: =SUM('Свод по датам'!CI4:CK4)+SUM('Свод по датам'!CI46:CK46) -> 43.1 | AI15: =SUM('Свод по датам'!CL4:CN4)+SUM('Свод по датам'!CL46:CN46) -> 40.8 | AJ15: =SUM('Свод по датам'!CO4:CQ4)+SUM('Свод по датам'!CO46:CQ46) -> 0 | AK15: =SUM('Свод по датам'!CR4:CT4)+SUM('Свод по датам'!CR46:CT46) -> 1.2 | AL15: =SUM('Свод по датам'!CU4:CW4) -> 0 | AM15: =SUM('Свод по датам'!CX4:CZ4) -> 46.7 | AN15: =SUM('Свод по датам'!DA4:DC4) -> 36.4 | AO15: =SUM('Свод по датам'!DD4:DF4) -> 21.9 | AP15: =SUM('Свод по датам'!DG4:DI4) -> 33 | AQ15: =SUM('Свод по датам'!DJ4:DL4) -> 49.9 | AR15: =SUM('Свод по датам'!DM4:DO4) -> 25.5 | AS15: =SUM('Свод по датам'!DP4:DR4) -> 0 | AT15: =SUM('Свод по датам'!DS4:DU4) -> 34.6 | AU15: =SUM('Свод по датам'!DV4:DX4) -> 50.3 | AV15: =SUM('Свод по датам'!DY4:EA4) -> 26.3 | AW15: =SUM('Свод по датам'!EB4:ED4) -> 29.8 | AX15: =SUM('Свод по датам'!EE4:EG4) -> 18 | AY15: =SUM('Свод по датам'!EH4:EJ4) -> 23.7 | AZ15: =SUM('Свод по датам'!EK4:EM4) -> 0 | BA15: =SUM('Свод по датам'!EN4:EP4) -> 0 | BB15: =SUM('Свод по датам'!EQ4:ES4) -> 0 | BC15: =SUM('Свод по датам'!ET4:EV4) -> 0 | BD15: =SUM('Свод по датам'!EW4:EY4) -> 0 | BE15: =SUM('Свод по датам'!EZ4:FB4) -> 0 | BF15: =SUM('Свод по датам'!FC4:FE4) -> 4.6 | BG15: =SUM('Свод по датам'!FF4:FH4) -> 14.6 | BH15: =SUM('Свод по датам'!FI4:FK4) -> 7.7 | BI15: =SUM('Свод по датам'!FL4:FN4) -> 0 | BJ15: =SUM('Свод по датам'!FO4:FQ4) -> 0 | BK15: =SUM('Свод по датам'!FR4:FT4) -> 0 | BL15: =SUM('Свод по датам'!FU4:FW4) -> 0 | BM15: =SUM('Свод по датам'!FX4:FZ4) -> 0 | BN15: =SUM('Свод по датам'!GA4:GC4) -> 0 | BO15: =SUM('Свод по датам'!GD4:GF4) -> 0 | BP15: =SUM('Свод по датам'!GG4:GI4) -> 0 | BQ15: =SUM('Свод по датам'!GJ4:GL4) -> 0 | BR15: =SUM('Свод по датам'!GM4:GO4) -> 0 | BS15: =SUM('Свод по датам'!GP4:GR4) -> 0 | BT15: =SUM('Свод по датам'!GS4:GU4) -> 0 | BU15: =SUM('Свод по датам'!GV4:GX4) -> 0 | BV15: =SUM('Свод по датам'!GY4:HA4) -> 0 | BW15: =SUM('Свод по датам'!HB4:HD4) -> 0 | BX15: =SUM('Свод по датам'!HE4:HG4) -> 0 | BY15: =SUM('Свод по датам'!HH4:HJ4) -> 0 | BZ15: =SUM('Свод по датам'!HK4:HM4) -> 0 | CA15: =SUM('Свод по датам'!HN4:HP4) -> 0 | CB15: =SUM('Свод по датам'!HQ4:HS4) -> 0 | CC15: =SUM('Свод по датам'!HT4:HV4) -> 0 | CD15: =SUM('Свод по датам'!HW4:HY4) -> 0 | CE15: =SUM('Свод по датам'!HZ4:IB4) -> 0 | CF15: =SUM('Свод по датам'!IC4:IE4) -> 0 | CG15: =SUM('Свод по датам'!IF4:IH4) -> 0 | CH15: =SUM('Свод по датам'!II4:IK4) -> 0 | CI15: =SUM('Свод по датам'!IL4:IN4) -> 0 | CJ15: =SUM('Свод по датам'!IO4:IQ4) -> 0 | CK15: =SUM('Свод по датам'!IR4:IT4) -> 0 | CL15: =SUM('Свод по датам'!IU4:IW4) -> 0 | CM15: =SUM('Свод по датам'!IX4:IZ4) -> 0 | CN15: =SUM('Свод по датам'!JA4:JC4) -> 0 | CO15: =SUM('Свод по датам'!JD4:JF4) -> 0 | CP15: =SUM('Свод по датам'!JG4:JI4) -> 0 | CQ15: =SUM('Свод по датам'!JJ4:JL4) -> 0 | CR15: =SUM('Свод по датам'!JM4:JO4) -> 0 | CS15: =SUM('Свод по датам'!JP4:JR4) -> 0 | CT15: =SUM('Свод по датам'!JS4:JU4) -> 0 | CU15: =SUM('Свод по датам'!JV4:JX4) -> 0 | CV15: =SUM(G15:CU15) -> 908.4
A16: =G15/(G15+0.001)+H15/(H15+0.001)+K15/(K15+0.001)+L15/(L15+0.001)+M15/(M15+0.001)+N15/(N15+0.001)+O15/(O15+0.001)+P15/(P15+0.001)+Q15/(Q15+0.001)+R15/(R15+0.001)+T15/(T15+0.001)+I15/(I15+0.001)+U15/(U15+0.001)+V15/(V15+0.001)+X15/(X15+0.001)+J15/(J15+0.001)+W15/(W15+0.001)+Y15/(Y15+0.001)+Z15/(Z15+0.001)+AA15/(AA15+0.001)+AB15/(AB15+0.001)+AC15/(AC15+0.001)+AD15/(AD15+0.001)+AE15/(AE15+0.001)+AF15/(AF15+0.001)+AG15/(AG15+0.001)+AH15/(AH15+0.001)+AI15/(AI15+0.001)+AJ15/(AJ15+0.001)+AK15/(AK15+0.001)+AL15/(AL15+0.001)+AM15/(AM15+0.001)+AN15/(AN15+0.001)+AO15/(AO15+0.001)+AP15/(AP15+0.001)+AQ15/(AQ15+0.001)+AR15/(AR15+0.001)+AS15/(AS15+0.001)+AT15/(AT15+0.001)+AU15/(AU15+0.001)+AV15/(AV15+0.001)+AW15/(AW15+0.001)+AX15/(AX15+0.001)+AY15/(AY15+0.001)+AZ15/(AZ15+0.001)+BA15/(BA15+0.001)+BB15/(BB15+0.001)+BC15/(BC15+0.001)+BD15/(BD15+0.001)+BE15/(BE15+0.001)+BF15/(BF15+0.001)+BG15/(BG15+0.001)+BH15/(BH15+0.001)+BI15/(BI15+0.001)+BJ15/(BJ15+0.001)+BK15/(BK15+0.001)+BL15/(BL15+0.001)+BM15/(BM15+0.001)+BN15/(BN15+0.001)+BO15/(BO15+0.001)+BP15/(BP15+0.001)+BQ15/(BQ15+0.001) -> 26.997989 | C16: Варганов Андрей Николаевич | D16: 9848 | E16: =CV16 -> 353.2 | F16: га | G16: =SUM('Свод по датам'!F5:H5)+SUM('Свод по датам'!F47:H47) -> 0 | H16: =SUM('Свод по датам'!I5:K5)+SUM('Свод по датам'!I47:K47) -> 0 | I16: =SUM('Свод по датам'!L5:N5)+SUM('Свод по датам'!L47:N47) -> 0 | J16: =SUM('Свод по датам'!O5:Q5)+SUM('Свод по датам'!O47:Q47) -> 0 | K16: =SUM('Свод по датам'!R5:T5)+SUM('Свод по датам'!R47:T47) -> 0 | L16: =SUM('Свод по датам'!U5:W5)+SUM('Свод по датам'!U47:W47) -> 0 | M16: =SUM('Свод по датам'!X5:Z5)+SUM('Свод по датам'!X47:Z47) -> 0 | N16: =SUM('Свод по датам'!AA5:AC5)+SUM('Свод по датам'!AA47:AC47) -> 0 | O16: =SUM('Свод по датам'!AD5:AF5)+SUM('Свод по датам'!AD47:AF47) -> 0 | P16: =SUM('Свод по датам'!AG5:AI5)+SUM('Свод по датам'!AG47:AI47) -> 0 | Q16: =SUM('Свод по датам'!AJ5:AL5)+SUM('Свод по датам'!AJ47:AL47) -> 0 | R16: =SUM('Свод по датам'!AM5:AO5)+SUM('Свод по датам'!AM47:AO47) -> 0 | S16: =SUM('Свод по датам'!AP5:AR5)+SUM('Свод по датам'!AP47:AR47) -> 0 | T16: =SUM('Свод по датам'!AS5:AU5)+SUM('Свод по датам'!AS47:AU47) -> 0 | U16: =SUM('Свод по датам'!AV5:AX5)+SUM('Свод по датам'!AV47:AX47) -> 0 | V16: =SUM('Свод по датам'!AY5:BA5)+SUM('Свод по датам'!AY47:BA47) -> 0 | W16: =SUM('Свод по датам'!BB5:BD5)+SUM('Свод по датам'!BB47:BD47) -> 0 | X16: =SUM('Свод по датам'!BE5:BG5)+SUM('Свод по датам'!BE47:BG47) -> 13.5 | Y16: =SUM('Свод по датам'!BH5:BJ5)+SUM('Свод по датам'!BH47:BJ47) -> 2.2 | Z16: =SUM('Свод по датам'!BK5:BM5)+SUM('Свод по датам'!BK47:BM47) -> 0 | AA16: =SUM('Свод по датам'!BN5:BP5)+SUM('Свод по датам'!BN47:BP47) -> 25 | AB16: =SUM('Свод по датам'!BQ5:BS5)+SUM('Свод по датам'!BQ47:BS47) -> 22 | AC16: =SUM('Свод по датам'!BT5:BV5)+SUM('Свод по датам'!BT47:BV47) -> 9 | AD16: =SUM('Свод по датам'!BW5:BY5)+SUM('Свод по датам'!BW47:BY47) -> 18.2 | AE16: =SUM('Свод по датам'!BZ5:CB5)+SUM('Свод по датам'!BZ47:CB47) -> 29 | AF16: =SUM('Свод по датам'!CC5:CE5)+SUM('Свод по датам'!CC47:CE47) -> 9 | AG16: =SUM('Свод по датам'!CF5:CH5)+SUM('Свод по датам'!CF47:CH47) -> 18 | AH16: =SUM('Свод по датам'!CI5:CK5)+SUM('Свод по датам'!CI47:CK47) -> 19 | AI16: =SUM('Свод по датам'!CL5:CN5)+SUM('Свод по датам'!CL47:CN47) -> 13.5 | AJ16: =SUM('Свод по датам'!CO5:CQ5)+SUM('Свод по датам'!CO47:CQ47) -> 0 | AK16: =SUM('Свод по датам'!CR5:CT5)+SUM('Свод по датам'!CR47:CT47) -> 0.4 | AL16: =SUM('Свод по датам'!CU5:CW5) -> 0 | AM16: =SUM('Свод по датам'!CX5:CZ5) -> 16.5 | AN16: =SUM('Свод по датам'!DA5:DC5) -> 13.5 | AO16: =SUM('Свод по датам'!DD5:DF5) -> 9 | AP16: =SUM('Свод по датам'!DG5:DI5) -> 12.5 | AQ16: =SUM('Свод по датам'!DJ5:DL5) -> 18 | AR16: =SUM('Свод по датам'!DM5:DO5) -> 9 | AS16: =SUM('Свод по датам'!DP5:DR5) -> 0 | AT16: =SUM('Свод по датам'!DS5:DU5) -> 17.5 | AU16: =SUM('Свод по датам'!DV5:DX5) -> 25.5 | AV16: =SUM('Свод по датам'!DY5:EA5) -> 10.8 | AW16: =SUM('Свод по датам'!EB5:ED5) -> 6.8 | AX16: =SUM('Свод по датам'!EE5:EG5) -> 8.6 | AY16: =SUM('Свод по датам'!EH5:EJ5) -> 6.5 | AZ16: =SUM('Свод по датам'!EK5:EM5) -> 0 | BA16: =SUM('Свод по датам'!EN5:EP5) -> 0 | BB16: =SUM('Свод по датам'!EQ5:ES5) -> 0 | BC16: =SUM('Свод по датам'!ET5:EV5) -> 0 | BD16: =SUM('Свод по датам'!EW5:EY5) -> 0 | BE16: =SUM('Свод по датам'!EZ5:FB5) -> 0 | BF16: =SUM('Свод по датам'!FC5:FE5) -> 7 | BG16: =SUM('Свод по датам'!FF5:FH5) -> 8.2 | BH16: =SUM('Свод по датам'!FI5:FK5) -> 5 | BI16: =SUM('Свод по датам'!FL5:FN5) -> 0 | BJ16: =SUM('Свод по датам'!FO5:FQ5) -> 0 | BK16: =SUM('Свод по датам'!FR5:FT5) -> 0 | BL16: =SUM('Свод по датам'!FU5:FW5) -> 0 | BM16: =SUM('Свод по датам'!FX5:FZ5) -> 0 | BN16: =SUM('Свод по датам'!GA5:GC5) -> 0 | BO16: =SUM('Свод по датам'!GD5:GF5) -> 0 | BP16: =SUM('Свод по датам'!GG5:GI5) -> 0 | BQ16: =SUM('Свод по датам'!GJ5:GL5) -> 0 | BR16: =SUM('Свод по датам'!GM5:GO5) -> 0 | BS16: =SUM('Свод по датам'!GP5:GR5) -> 0 | BT16: =SUM('Свод по датам'!GS5:GU5) -> 0 | BU16: =SUM('Свод по датам'!GV5:GX5) -> 0 | BV16: =SUM('Свод по датам'!GY5:HA5) -> 0 | BW16: =SUM('Свод по датам'!HB5:HD5) -> 0 | BX16: =SUM('Свод по датам'!HE5:HG5) -> 0 | BY16: =SUM('Свод по датам'!HH5:HJ5) -> 0 | BZ16: =SUM('Свод по датам'!HK5:HM5) -> 0 | CA16: =SUM('Свод по датам'!HN5:HP5) -> 0 | CB16: =SUM('Свод по датам'!HQ5:HS5) -> 0 | CC16: =SUM('Свод по датам'!HT5:HV5) -> 0 | CD16: =SUM('Свод по датам'!HW5:HY5) -> 0 | CE16: =SUM('Свод по датам'!HZ5:IB5) -> 0 | CF16: =SUM('Свод по датам'!IC5:IE5) -> 0 | CG16: =SUM('Свод по датам'!IF5:IH5) -> 0 | CH16: =SUM('Свод по датам'!II5:IK5) -> 0 | CI16: =SUM('Свод по датам'!IL5:IN5) -> 0 | CJ16: =SUM('Свод по датам'!IO5:IQ5) -> 0 | CK16: =SUM('Свод по датам'!IR5:IT5) -> 0 | CL16: =SUM('Свод по датам'!IU5:IW5) -> 0 | CM16: =SUM('Свод по датам'!IX5:IZ5) -> 0 | CN16: =SUM('Свод по датам'!JA5:JC5) -> 0 | CO16: =SUM('Свод по датам'!JD5:JF5) -> 0 | CP16: =SUM('Свод по датам'!JG5:JI5) -> 0 | CQ16: =SUM('Свод по датам'!JJ5:JL5) -> 0 | CR16: =SUM('Свод по датам'!JM5:JO5) -> 0 | CS16: =SUM('Свод по датам'!JP5:JR5) -> 0 | CT16: =SUM('Свод по датам'!JS5:JU5) -> 0 | CU16: =SUM('Свод по датам'!JV5:JX5) -> 0 | CV16: =SUM(G16:CU16) -> 353.2
C17: Самойленко П.Г. | D17: КЗС-12А | E17: =CV17 -> 933.8 | F17: тонн | G17: =SUM('Свод по датам'!F6:H6)+SUM('Свод по датам'!F48:H48) -> 266.7 | H17: =SUM('Свод по датам'!I6:K6)+SUM('Свод по датам'!I48:K48) -> 0 | I17: =SUM('Свод по датам'!L6:N6)+SUM('Свод по датам'!L48:N48) -> 24.6 | J17: =SUM('Свод по датам'!O6:Q6)+SUM('Свод по датам'!O48:Q48) -> 26.7 | K17: =SUM('Свод по датам'!R6:T6)+SUM('Свод по датам'!R48:T48) -> 49.6 | L17: =SUM('Свод по датам'!U6:W6)+SUM('Свод по датам'!U48:W48) -> 25.8 | M17: =SUM('Свод по датам'!X6:Z6)+SUM('Свод по датам'!X48:Z48) -> 45.4 | N17: =SUM('Свод по датам'!AA6:AC6)+SUM('Свод по датам'!AA48:AC48) -> 44.5 | O17: =SUM('Свод по датам'!AD6:AF6)+SUM('Свод по датам'!AD48:AF48) -> 58.4 | P17: =SUM('Свод по датам'!AG6:AI6)+SUM('Свод по датам'!AG48:AI48) -> 104.7 | Q17: =SUM('Свод по датам'!AJ6:AL6)+SUM('Свод по датам'!AJ48:AL48) -> 33 | R17: =SUM('Свод по датам'!AM6:AO6)+SUM('Свод по датам'!AM48:AO48) -> 37.8 | S17: =SUM('Свод по датам'!AP6:AR6)+SUM('Свод по датам'!AP48:AR48) -> 0 | T17: =SUM('Свод по датам'!AS6:AU6)+SUM('Свод по датам'!AS48:AU48) -> 34.8 | U17: =SUM('Свод по датам'!AV6:AX6)+SUM('Свод по датам'!AV48:AX48) -> 57.4 | V17: =SUM('Свод по датам'!AY6:BA6)+SUM('Свод по датам'!AY48:BA48) -> 29.3 | W17: =SUM('Свод по датам'!BB6:BD6)+SUM('Свод по датам'!BB48:BD48) -> 95.1 | X17: =SUM('Свод по датам'!BE6:BG6)+SUM('Свод по датам'!BE48:BG48) -> 0 | Y17: =SUM('Свод по датам'!BH6:BJ6)+SUM('Свод по датам'!BH48:BJ48) -> 0 | Z17: =SUM('Свод по датам'!BK6:BM6)+SUM('Свод по датам'!BK48:BM48) -> 0 | AA17: =SUM('Свод по датам'!BN6:BP6)+SUM('Свод по датам'!BN48:BP48) -> 0 | AB17: =SUM('Свод по датам'!BQ6:BS6)+SUM('Свод по датам'!BQ48:BS48) -> 0 | AC17: =SUM('Свод по датам'!BT6:BV6)+SUM('Свод по датам'!BT48:BV48) -> 0 | AD17: =SUM('Свод по датам'!BW6:BY6)+SUM('Свод по датам'!BW48:BY48) -> 0 | AE17: =SUM('Свод по датам'!BZ6:CB6)+SUM('Свод по датам'!BZ48:CB48) -> 0 | AF17: =SUM('Свод по датам'!CC6:CE6)+SUM('Свод по датам'!CC48:CE48) -> 0 | AG17: =SUM('Свод по датам'!CF6:CH6)+SUM('Свод по датам'!CF48:CH48) -> 0 | AH17: =SUM('Свод по датам'!CI6:CK6)+SUM('Свод по датам'!CI48:CK48) -> 0 | AI17: =SUM('Свод по датам'!CL6:CN6)+SUM('Свод по датам'!CL48:CN48) -> 0 | AJ17: =SUM('Свод по датам'!CO6:CQ6)+SUM('Свод по датам'!CO48:CQ48) -> 0 | AK17: =SUM('Свод по датам'!CR6:CT6)+SUM('Свод по датам'!CR48:CT48) -> 0 | AL17: =SUM('Свод по датам'!CU6:CW6) -> 0 | AM17: =SUM('Свод по датам'!CX6:CZ6) -> 0 | AN17: =SUM('Свод по датам'!DA6:DC6) -> 0 | AO17: =SUM('Свод по датам'!DD6:DF6) -> 0 | AP17: =SUM('Свод по датам'!DG6:DI6) -> 0 | AQ17: =SUM('Свод по датам'!DJ6:DL6) -> 0 | AR17: =SUM('Свод по датам'!DM6:DO6) -> 0 | AS17: =SUM('Свод по датам'!DP6:DR6) -> 0 | AT17: =SUM('Свод по датам'!DS6:DU6) -> 0 | AU17: =SUM('Свод по датам'!DV6:DX6) -> 0 | AV17: =SUM('Свод по датам'!DY6:EA6) -> 0 | AW17: =SUM('Свод по датам'!EB6:ED6) -> 0 | AX17: =SUM('Свод по датам'!EE6:EG6) -> 0 | AY17: =SUM('Свод по датам'!EH6:EJ6) -> 0 | AZ17: =SUM('Свод по датам'!EK6:EM6) -> 0 | BA17: =SUM('Свод по датам'!EN6:EP6) -> 0 | BB17: =SUM('Свод по датам'!EQ6:ES6) -> 0 | BC17: =SUM('Свод по датам'!ET6:EV6) -> 0 | BD17: =SUM('Свод по датам'!EW6:EY6) -> 0 | BE17: =SUM('Свод по датам'!EZ6:FB6) -> 0 | BF17: =SUM('Свод по датам'!FC6:FE6) -> 0 | BG17: =SUM('Свод по датам'!FF6:FH6) -> 0 | BH17: =SUM('Свод по датам'!FI6:FK6) -> 0 | BI17: =SUM('Свод по датам'!FL6:FN6) -> 0 | BJ17: =SUM('Свод по датам'!FO6:FQ6) -> 0 | BK17: =SUM('Свод по датам'!FR6:FT6) -> 0 | BL17: =SUM('Свод по датам'!FU6:FW6) -> 0 | BM17: =SUM('Свод по датам'!FX6:FZ6) -> 0 | BN17: =SUM('Свод по датам'!GA6:GC6) -> 0 | BO17: =SUM('Свод по датам'!GD6:GF6) -> 0 | BP17: =SUM('Свод по датам'!GG6:GI6) -> 0 | BQ17: =SUM('Свод по датам'!GJ6:GL6) -> 0 | BR17: =SUM('Свод по датам'!GM6:GO6) -> 0 | BS17: =SUM('Свод по датам'!GP6:GR6) -> 0 | BT17: =SUM('Свод по датам'!GS6:GU6) -> 0 | BU17: =SUM('Свод по датам'!GV6:GX6) -> 0 | BV17: =SUM('Свод по датам'!GY6:HA6) -> 0 | BW17: =SUM('Свод по датам'!HB6:HD6) -> 0 | BX17: =SUM('Свод по датам'!HE6:HG6) -> 0 | BY17: =SUM('Свод по датам'!HH6:HJ6) -> 0 | BZ17: =SUM('Свод по датам'!HK6:HM6) -> 0 | CA17: =SUM('Свод по датам'!HN6:HP6) -> 0 | CB17: =SUM('Свод по датам'!HQ6:HS6) -> 0 | CC17: =SUM('Свод по датам'!HT6:HV6) -> 0 | CD17: =SUM('Свод по датам'!HW6:HY6) -> 0 | CE17: =SUM('Свод по датам'!HZ6:IB6) -> 0 | CF17: =SUM('Свод по датам'!IC6:IE6) -> 0 | CG17: =SUM('Свод по датам'!IF6:IH6) -> 0 | CH17: =SUM('Свод по датам'!II6:IK6) -> 0 | CI17: =SUM('Свод по датам'!IL6:IN6) -> 0 | CJ17: =SUM('Свод по датам'!IO6:IQ6) -> 0 | CK17: =SUM('Свод по датам'!IR6:IT6) -> 0 | CL17: =SUM('Свод по датам'!IU6:IW6) -> 0 | CM17: =SUM('Свод по датам'!IX6:IZ6) -> 0 | CN17: =SUM('Свод по датам'!JA6:JC6) -> 0 | CO17: =SUM('Свод по датам'!JD6:JF6) -> 0 | CP17: =SUM('Свод по датам'!JG6:JI6) -> 0 | CQ17: =SUM('Свод по датам'!JJ6:JL6) -> 0 | CR17: =SUM('Свод по датам'!JM6:JO6) -> 0 | CS17: =SUM('Свод по датам'!JP6:JR6) -> 0 | CT17: =SUM('Свод по датам'!JS6:JU6) -> 0 | CU17: =SUM('Свод по датам'!JV6:JX6) -> 0 | CV17: =SUM(G17:CU17) -> 933.8
A18: =G17/(G17+0.001)+H17/(H17+0.001)+K17/(K17+0.001)+L17/(L17+0.001)+M17/(M17+0.001)+N17/(N17+0.001)+O17/(O17+0.001)+P17/(P17+0.001)+Q17/(Q17+0.001)+R17/(R17+0.001)+T17/(T17+0.001)+I17/(I17+0.001)+U17/(U17+0.001)+V17/(V17+0.001)+X17/(X17+0.001)+J17/(J17+0.001)+W17/(W17+0.001)+Y17/(Y17+0.001)+Z17/(Z17+0.001)+AA17/(AA17+0.001)+AB17/(AB17+0.001)+AC17/(AC17+0.001)+AD17/(AD17+0.001)+AE17/(AE17+0.001)+AF17/(AF17+0.001)+AG17/(AG17+0.001)+AH17/(AH17+0.001)+AI17/(AI17+0.001)+AJ17/(AJ17+0.001)+AK17/(AK17+0.001)+AL17/(AL17+0.001)+AM17/(AM17+0.001)+AN17/(AN17+0.001)+AO17/(AO17+0.001)+AP17/(AP17+0.001)+AQ17/(AQ17+0.001)+AR17/(AR17+0.001)+AS17/(AS17+0.001)+AT17/(AT17+0.001)+AU17/(AU17+0.001)+AV17/(AV17+0.001)+AW17/(AW17+0.001)+AX17/(AX17+0.001)+AY17/(AY17+0.001)+AZ17/(AZ17+0.001)+BA17/(BA17+0.001)+BB17/(BB17+0.001)+BC17/(BC17+0.001)+BD17/(BD17+0.001)+BE17/(BE17+0.001)+BF17/(BF17+0.001)+BG17/(BG17+0.001)+BH17/(BH17+0.001)+BI17/(BI17+0.001)+BJ17/(BJ17+0.001)+BK17/(BK17+0.001)+BL17/(BL17+0.001)+BM17/(BM17+0.001)+BN17/(BN17+0.001)+BO17/(BO17+0.001)+BP17/(BP17+0.001)+BQ17/(BQ17+0.001) -> 14.999641 | C18: Варганов Андрей Николаевич | D18: 9848 | E18: =CV18 -> 361.4 | F18: га | G18: =SUM('Свод по датам'!F7:H7)+SUM('Свод по датам'!F49:H49) -> 114.8 | H18: =SUM('Свод по датам'!I7:K7)+SUM('Свод по датам'!I49:K49) -> 0 | I18: =SUM('Свод по датам'!L7:N7)+SUM('Свод по датам'!L49:N49) -> 30.7 | J18: =SUM('Свод по датам'!O7:Q7)+SUM('Свод по датам'!O49:Q49) -> 8.9 | K18: =SUM('Свод по датам'!R7:T7)+SUM('Свод по датам'!R49:T49) -> 16.5 | L18: =SUM('Свод по датам'!U7:W7)+SUM('Свод по датам'!U49:W49) -> 11.7 | M18: =SUM('Свод по датам'!X7:Z7)+SUM('Свод по датам'!X49:Z49) -> 20.6 | N18: =SUM('Свод по датам'!AA7:AC7)+SUM('Свод по датам'!AA49:AC49) -> 15.6 | O18: =SUM('Свод по датам'!AD7:AF7)+SUM('Свод по датам'!AD49:AF49) -> 17.7 | P18: =SUM('Свод по датам'!AG7:AI7)+SUM('Свод по датам'!AG49:AI49) -> 29.9 | Q18: =SUM('Свод по датам'!AJ7:AL7)+SUM('Свод по датам'!AJ49:AL49) -> 9.4 | R18: =SUM('Свод по датам'!AM7:AO7)+SUM('Свод по датам'!AM49:AO49) -> 8.6 | S18: =SUM('Свод по датам'!AP7:AR7)+SUM('Свод по датам'!AP49:AR49) -> 0 | T18: =SUM('Свод по датам'!AS7:AU7)+SUM('Свод по датам'!AS49:AU49) -> 12.5 | U18: =SUM('Свод по датам'!AV7:AX7)+SUM('Свод по датам'!AV49:AX49) -> 20 | V18: =SUM('Свод по датам'!AY7:BA7)+SUM('Свод по датам'!AY49:BA49) -> 10.4 | W18: =SUM('Свод по датам'!BB7:BD7)+SUM('Свод по датам'!BB49:BD49) -> 34.1 | X18: =SUM('Свод по датам'!BE7:BG7)+SUM('Свод по датам'!BE49:BG49) -> 0 | Y18: =SUM('Свод по датам'!BH7:BJ7)+SUM('Свод по датам'!BH49:BJ49) -> 0 | Z18: =SUM('Свод по датам'!BK7:BM7)+SUM('Свод по датам'!BK49:BM49) -> 0 | AA18: =SUM('Свод по датам'!BN7:BP7)+SUM('Свод по датам'!BN49:BP49) -> 0 | AB18: =SUM('Свод по датам'!BQ7:BS7)+SUM('Свод по датам'!BQ49:BS49) -> 0 | AC18: =SUM('Свод по датам'!BT7:BV7)+SUM('Свод по датам'!BT49:BV49) -> 0 | AD18: =SUM('Свод по датам'!BW7:BY7)+SUM('Свод по датам'!BW49:BY49) -> 0 | AE18: =SUM('Свод по датам'!BZ7:CB7)+SUM('Свод по датам'!BZ49:CB49) -> 0 | AF18: =SUM('Свод по датам'!CC7:CE7)+SUM('Свод по датам'!CC49:CE49) -> 0 | AG18: =SUM('Свод по датам'!CF7:CH7)+SUM('Свод по датам'!CF49:CH49) -> 0 | AH18: =SUM('Свод по датам'!CI7:CK7)+SUM('Свод по датам'!CI49:CK49) -> 0 | AI18: =SUM('Свод по датам'!CL7:CN7)+SUM('Свод по датам'!CL49:CN49) -> 0 | AJ18: =SUM('Свод по датам'!CO7:CQ7)+SUM('Свод по датам'!CO49:CQ49) -> 0 | AK18: =SUM('Свод по датам'!CR7:CT7)+SUM('Свод по датам'!CR49:CT49) -> 0 | AL18: =SUM('Свод по датам'!CU7:CW7) -> 0 | AM18: =SUM('Свод по датам'!CX7:CZ7) -> 0 | AN18: =SUM('Свод по датам'!DA7:DC7) -> 0 | AO18: =SUM('Свод по датам'!DD7:DF7) -> 0 | AP18: =SUM('Свод по датам'!DG7:DI7) -> 0 | AQ18: =SUM('Свод по датам'!DJ7:DL7) -> 0 | AR18: =SUM('Свод по датам'!DM7:DO7) -> 0 | AS18: =SUM('Свод по датам'!DP7:DR7) -> 0 | AT18: =SUM('Свод по датам'!DS7:DU7) -> 0 | AU18: =SUM('Свод по датам'!DV7:DX7) -> 0 | AV18: =SUM('Свод по датам'!DY7:EA7) -> 0 | AW18: =SUM('Свод по датам'!EB7:ED7) -> 0 | AX18: =SUM('Свод по датам'!EE7:EG7) -> 0 | AY18: =SUM('Свод по датам'!EH7:EJ7) -> 0 | AZ18: =SUM('Свод по датам'!EK7:EM7) -> 0 | BA18: =SUM('Свод по датам'!EN7:EP7) -> 0 | BB18: =SUM('Свод по датам'!EQ7:ES7) -> 0 | BC18: =SUM('Свод по датам'!ET7:EV7) -> 0 | BD18: =SUM('Свод по датам'!EW7:EY7) -> 0 | BE18: =SUM('Свод по датам'!EZ7:FB7) -> 0 | BF18: =SUM('Свод по датам'!FC7:FE7) -> 0 | BG18: =SUM('Свод по датам'!FF7:FH7) -> 0 | BH18: =SUM('Свод по датам'!FI7:FK7) -> 0 | BI18: =SUM('Свод по датам'!FL7:FN7) -> 0 | BJ18: =SUM('Свод по датам'!FO7:FQ7) -> 0 | BK18: =SUM('Свод по датам'!FR7:FT7) -> 0 | BL18: =SUM('Свод по датам'!FU7:FW7) -> 0 | BM18: =SUM('Свод по датам'!FX7:FZ7) -> 0 | BN18: =SUM('Свод по датам'!GA7:GC7) -> 0 | BO18: =SUM('Свод по датам'!GD7:GF7) -> 0 | BP18: =SUM('Свод по датам'!GG7:GI7) -> 0 | BQ18: =SUM('Свод по датам'!GJ7:GL7) -> 0 | BR18: =SUM('Свод по датам'!GM7:GO7) -> 0 | BS18: =SUM('Свод по датам'!GP7:GR7) -> 0 | BT18: =SUM('Свод по датам'!GS7:GU7) -> 0 | BU18: =SUM('Свод по датам'!GV7:GX7) -> 0 | BV18: =SUM('Свод по датам'!GY7:HA7) -> 0 | BW18: =SUM('Свод по датам'!HB7:HD7) -> 0 | BX18: =SUM('Свод по датам'!HE7:HG7) -> 0 | BY18: =SUM('Свод по датам'!HH7:HJ7) -> 0 | BZ18: =SUM('Свод по датам'!HK7:HM7) -> 0 | CA18: =SUM('Свод по датам'!HN7:HP7) -> 0 | CB18: =SUM('Свод по датам'!HQ7:HS7) -> 0 | CC18: =SUM('Свод по датам'!HT7:HV7) -> 0 | CD18: =SUM('Свод по датам'!HW7:HY7) -> 0 | CE18: =SUM('Свод по датам'!HZ7:IB7) -> 0 | CF18: =SUM('Свод по датам'!IC7:IE7) -> 0 | CG18: =SUM('Свод по датам'!IF7:IH7) -> 0 | CH18: =SUM('Свод по датам'!II7:IK7) -> 0 | CI18: =SUM('Свод по датам'!IL7:IN7) -> 0 | CJ18: =SUM('Свод по датам'!IO7:IQ7) -> 0 | CK18: =SUM('Свод по датам'!IR7:IT7) -> 0 | CL18: =SUM('Свод по датам'!IU7:IW7) -> 0 | CM18: =SUM('Свод по датам'!IX7:IZ7) -> 0 | CN18: =SUM('Свод по датам'!JA7:JC7) -> 0 | CO18: =SUM('Свод по датам'!JD7:JF7) -> 0 | CP18: =SUM('Свод по датам'!JG7:JI7) -> 0 | CQ18: =SUM('Свод по датам'!JJ7:JL7) -> 0 | CR18: =SUM('Свод по датам'!JM7:JO7) -> 0 | CS18: =SUM('Свод по датам'!JP7:JR7) -> 0 | CT18: =SUM('Свод по датам'!JS7:JU7) -> 0 | CU18: =SUM('Свод по датам'!JV7:JX7) -> 0 | CV18: =SUM(G18:CU18) -> 361.4
C19: Белоусов Сергей Викторович | D19: КЗС-12 | E19: =CV19 -> 2106.9 | F19: тонн | G19: =SUM('Свод по датам'!F8:H8)+SUM('Свод по датам'!F50:H50) -> 259.7 | H19: =SUM('Свод по датам'!I8:K8)+SUM('Свод по датам'!I50:K50) -> 0 | I19: =SUM('Свод по датам'!L8:N8)+SUM('Свод по датам'!L50:N50) -> 23.9 | J19: =SUM('Свод по датам'!O8:Q8)+SUM('Свод по датам'!O50:Q50) -> 26.8 | K19: =SUM('Свод по датам'!R8:T8)+SUM('Свод по датам'!R50:T50) -> 38.1 | L19: =SUM('Свод по датам'!U8:W8)+SUM('Свод по датам'!U50:W50) -> 33.1 | M19: =SUM('Свод по датам'!X8:Z8)+SUM('Свод по датам'!X50:Z50) -> 43.1 | N19: =SUM('Свод по датам'!AA8:AC8)+SUM('Свод по датам'!AA50:AC50) -> 46 | O19: =SUM('Свод по датам'!AD8:AF8)+SUM('Свод по датам'!AD50:AF50) -> 57.3 | P19: =SUM('Свод по датам'!AG8:AI8)+SUM('Свод по датам'!AG50:AI50) -> 104.2 | Q19: =SUM('Свод по датам'!AJ8:AL8)+SUM('Свод по датам'!AJ50:AL50) -> 70.4 | R19: =SUM('Свод по датам'!AM8:AO8)+SUM('Свод по датам'!AM50:AO50) -> 34.7 | S19: =SUM('Свод по датам'!AP8:AR8)+SUM('Свод по датам'!AP50:AR50) -> 63.9 | T19: =SUM('Свод по датам'!AS8:AU8)+SUM('Свод по датам'!AS50:AU50) -> 35.7 | U19: =SUM('Свод по датам'!AV8:AX8)+SUM('Свод по датам'!AV50:AX50) -> 74.9 | V19: =SUM('Свод по датам'!AY8:BA8)+SUM('Свод по датам'!AY50:BA50) -> 30.7 | W19: =SUM('Свод по датам'!BB8:BD8)+SUM('Свод по датам'!BB50:BD50) -> 108.5 | X19: =SUM('Свод по датам'!BE8:BG8)+SUM('Свод по датам'!BE50:BG50) -> 43.6 | Y19: =SUM('Свод по датам'!BH8:BJ8)+SUM('Свод по датам'!BH50:BJ50) -> 8.2 | Z19: =SUM('Свод по датам'!BK8:BM8)+SUM('Свод по датам'!BK50:BM50) -> 0 | AA19: =SUM('Свод по датам'!BN8:BP8)+SUM('Свод по датам'!BN50:BP50) -> 70.3 | AB19: =SUM('Свод по датам'!BQ8:BS8)+SUM('Свод по датам'!BQ50:BS50) -> 74 | AC19: =SUM('Свод по датам'!BT8:BV8)+SUM('Свод по датам'!BT50:BV50) -> 24 | AD19: =SUM('Свод по датам'!BW8:BY8)+SUM('Свод по датам'!BW50:BY50) -> 47.2 | AE19: =SUM('Свод по датам'!BZ8:CB8)+SUM('Свод по датам'!BZ50:CB50) -> 70 | AF19: =SUM('Свод по датам'!CC8:CE8)+SUM('Свод по датам'!CC50:CE50) -> 61.3 | AG19: =SUM('Свод по датам'!CF8:CH8)+SUM('Свод по датам'!CF50:CH50) -> 75.4 | AH19: =SUM('Свод по датам'!CI8:CK8)+SUM('Свод по датам'!CI50:CK50) -> 45.6 | AI19: =SUM('Свод по датам'!CL8:CN8)+SUM('Свод по датам'!CL50:CN50) -> 91.4 | AJ19: =SUM('Свод по датам'!CO8:CQ8)+SUM('Свод по датам'!CO50:CQ50) -> 0 | AK19: =SUM('Свод по датам'!CR8:CT8)+SUM('Свод по датам'!CR50:CT50) -> 0 | AL19: =SUM('Свод по датам'!CU8:CW8) -> 2.2 | AM19: =SUM('Свод по датам'!CX8:CZ8) -> 46.8 | AN19: =SUM('Свод по датам'!DA8:DC8) -> 43 | AO19: =SUM('Свод по датам'!DD8:DF8) -> 22 | AP19: =SUM('Свод по датам'!DG8:DI8) -> 38.5 | AQ19: =SUM('Свод по датам'!DJ8:DL8) -> 59.3 | AR19: =SUM('Свод по датам'!DM8:DO8) -> 26.4 | AS19: =SUM('Свод по датам'!DP8:DR8) -> 0 | AT19: =SUM('Свод по датам'!DS8:DU8) -> 32 | AU19: =SUM('Свод по датам'!DV8:DX8) -> 54.7 | AV19: =SUM('Свод по датам'!DY8:EA8) -> 29.2 | AW19: =SUM('Свод по датам'!EB8:ED8) -> 26.2 | AX19: =SUM('Свод по датам'!EE8:EG8) -> 25.4 | AY19: =SUM('Свод по датам'!EH8:EJ8) -> 25.3 | AZ19: =SUM('Свод по датам'!EK8:EM8) -> 0 | BA19: =SUM('Свод по датам'!EN8:EP8) -> 0 | BB19: =SUM('Свод по датам'!EQ8:ES8) -> 0 | BC19: =SUM('Свод по датам'!ET8:EV8) -> 0 | BD19: =SUM('Свод по датам'!EW8:EY8) -> 0 | BE19: =SUM('Свод по датам'!EZ8:FB8) -> 0 | BF19: =SUM('Свод по датам'!FC8:FE8) -> 9.3 | BG19: =SUM('Свод по датам'!FF8:FH8) -> 4.6 | BH19: =SUM('Свод по датам'!FI8:FK8) -> 0 | BI19: =SUM('Свод по датам'!FL8:FN8) -> 0 | BJ19: =SUM('Свод по датам'!FO8:FQ8) -> 0 | BK19: =SUM('Свод по датам'!FR8:FT8) -> 0 | BL19: =SUM('Свод по датам'!FU8:FW8) -> 0 | BM19: =SUM('Свод по датам'!FX8:FZ8) -> 0 | BN19: =SUM('Свод по датам'!GA8:GC8) -> 0 | BO19: =SUM('Свод по датам'!GD8:GF8) -> 0 | BP19: =SUM('Свод по датам'!GG8:GI8) -> 0 | BQ19: =SUM('Свод по датам'!GJ8:GL8) -> 0 | BR19: =SUM('Свод по датам'!GM8:GO8) -> 0 | BS19: =SUM('Свод по датам'!GP8:GR8) -> 0 | BT19: =SUM('Свод по датам'!GS8:GU8) -> 0 | BU19: =SUM('Свод по датам'!GV8:GX8) -> 0 | BV19: =SUM('Свод по датам'!GY8:HA8) -> 0 | BW19: =SUM('Свод по датам'!HB8:HD8) -> 0 | BX19: =SUM('Свод по датам'!HE8:HG8) -> 0 | BY19: =SUM('Свод по датам'!HH8:HJ8) -> 0 | BZ19: =SUM('Свод по датам'!HK8:HM8) -> 0 | CA19: =SUM('Свод по датам'!HN8:HP8) -> 0 | CB19: =SUM('Свод по датам'!HQ8:HS8) -> 0 | CC19: =SUM('Свод по датам'!HT8:HV8) -> 0 | CD19: =SUM('Свод по датам'!HW8:HY8) -> 0 | CE19: =SUM('Свод по датам'!HZ8:IB8) -> 0 | CF19: =SUM('Свод по датам'!IC8:IE8) -> 0 | CG19: =SUM('Свод по датам'!IF8:IH8) -> 0 | CH19: =SUM('Свод по датам'!II8:IK8) -> 0 | CI19: =SUM('Свод по датам'!IL8:IN8) -> 0 | CJ19: =SUM('Свод по датам'!IO8:IQ8) -> 0 | CK19: =SUM('Свод по датам'!IR8:IT8) -> 0 | CL19: =SUM('Свод по датам'!IU8:IW8) -> 0 | CM19: =SUM('Свод по датам'!IX8:IZ8) -> 0 | CN19: =SUM('Свод по датам'!JA8:JC8) -> 0 | CO19: =SUM('Свод по датам'!JD8:JF8) -> 0 | CP19: =SUM('Свод по датам'!JG8:JI8) -> 0 | CQ19: =SUM('Свод по датам'!JJ8:JL8) -> 0 | CR19: =SUM('Свод по датам'!JM8:JO8) -> 0 | CS19: =SUM('Свод по датам'!JP8:JR8) -> 0 | CT19: =SUM('Свод по датам'!JS8:JU8) -> 0 | CU19: =SUM('Свод по датам'!JV8:JX8) -> 0 | CV19: =SUM(G19:CU19) -> 2106.9
A20: =G19/(G19+0.001)+H19/(H19+0.001)+K19/(K19+0.001)+L19/(L19+0.001)+M19/(M19+0.001)+N19/(N19+0.001)+O19/(O19+0.001)+P19/(P19+0.001)+Q19/(Q19+0.001)+R19/(R19+0.001)+T19/(T19+0.001)+I19/(I19+0.001)+U19/(U19+0.001)+V19/(V19+0.001)+X19/(X19+0.001)+J19/(J19+0.001)+W19/(W19+0.001)+Y19/(Y19+0.001)+Z19/(Z19+0.001)+AA19/(AA19+0.001)+AB19/(AB19+0.001)+AC19/(AC19+0.001)+AD19/(AD19+0.001)+AE19/(AE19+0.001)+AF19/(AF19+0.001)+AG19/(AG19+0.001)+AH19/(AH19+0.001)+AI19/(AI19+0.001)+AJ19/(AJ19+0.001)+AK19/(AK19+0.001)+AL19/(AL19+0.001)+AM19/(AM19+0.001)+AN19/(AN19+0.001)+AO19/(AO19+0.001)+AP19/(AP19+0.001)+AQ19/(AQ19+0.001)+AR19/(AR19+0.001)+AS19/(AS19+0.001)+AT19/(AT19+0.001)+AU19/(AU19+0.001)+AV19/(AV19+0.001)+AW19/(AW19+0.001)+AX19/(AX19+0.001)+AY19/(AY19+0.001)+AZ19/(AZ19+0.001)+BA19/(BA19+0.001)+BB19/(BB19+0.001)+BC19/(BC19+0.001)+BD19/(BD19+0.001)+BE19/(BE19+0.001)+BF19/(BF19+0.001)+BG19/(BG19+0.001)+BH19/(BH19+0.001)+BI19/(BI19+0.001)+BJ19/(BJ19+0.001)+BK19/(BK19+0.001)+BL19/(BL19+0.001)+BM19/(BM19+0.001)+BN19/(BN19+0.001)+BO19/(BO19+0.001)+BP19/(BP19+0.001)+BQ19/(BQ19+0.001) -> 40.998199 | C20: Белоусов Александр Владимирович | D20: 9847 | E20: =CV20 -> 828.4 | F20: га | G20: =SUM('Свод по датам'!F9:H9)+SUM('Свод по датам'!F51:H51) -> 111.6 | H20: =SUM('Свод по датам'!I9:K9)+SUM('Свод по датам'!I51:K51) -> 0 | I20: =SUM('Свод по датам'!L9:N9)+SUM('Свод по датам'!L51:N51) -> 29.8 | J20: =SUM('Свод по датам'!O9:Q9)+SUM('Свод по датам'!O51:Q51) -> 8.9 | K20: =SUM('Свод по датам'!R9:T9)+SUM('Свод по датам'!R51:T51) -> 12.7 | L20: =SUM('Свод по датам'!U9:W9)+SUM('Свод по датам'!U51:W51) -> 15 | M20: =SUM('Свод по датам'!X9:Z9)+SUM('Свод по датам'!X51:Z51) -> 19.5 | N20: =SUM('Свод по датам'!AA9:AC9)+SUM('Свод по датам'!AA51:AC51) -> 16.3 | O20: =SUM('Свод по датам'!AD9:AF9)+SUM('Свод по датам'!AD51:AF51) -> 17.3 | P20: =SUM('Свод по датам'!AG9:AI9)+SUM('Свод по датам'!AG51:AI51) -> 29.7 | Q20: =SUM('Свод по датам'!AJ9:AL9)+SUM('Свод по датам'!AJ51:AL51) -> 40.6 | R20: =SUM('Свод по датам'!AM9:AO9)+SUM('Свод по датам'!AM51:AO51) -> 7.8 | S20: =SUM('Свод по датам'!AP9:AR9)+SUM('Свод по датам'!AP51:AR51) -> 23 | T20: =SUM('Свод по датам'!AS9:AU9)+SUM('Свод по датам'!AS51:AU51) -> 13 | U20: =SUM('Свод по датам'!AV9:AX9)+SUM('Свод по датам'!AV51:AX51) -> 26.5 | V20: =SUM('Свод по датам'!AY9:BA9)+SUM('Свод по датам'!AY51:BA51) -> 10.6 | W20: =SUM('Свод по датам'!BB9:BD9)+SUM('Свод по датам'!BB51:BD51) -> 38.5 | X20: =SUM('Свод по датам'!BE9:BG9)+SUM('Свод по датам'!BE51:BG51) -> 15 | Y20: =SUM('Свод по датам'!BH9:BJ9)+SUM('Свод по датам'!BH51:BJ51) -> 1.5 | Z20: =SUM('Свод по датам'!BK9:BM9)+SUM('Свод по датам'!BK51:BM51) -> 0 | AA20: =SUM('Свод по датам'!BN9:BP9)+SUM('Свод по датам'!BN51:BP51) -> 25 | AB20: =SUM('Свод по датам'!BQ9:BS9)+SUM('Свод по датам'!BQ51:BS51) -> 26 | AC20: =SUM('Свод по датам'!BT9:BV9)+SUM('Свод по датам'!BT51:BV51) -> 10 | AD20: =SUM('Свод по датам'!BW9:BY9)+SUM('Свод по датам'!BW51:BY51) -> 19.7 | AE20: =SUM('Свод по датам'!BZ9:CB9)+SUM('Свод по датам'!BZ51:CB51) -> 29 | AF20: =SUM('Свод по датам'!CC9:CE9)+SUM('Свод по датам'!CC51:CE51) -> 22 | AG20: =SUM('Свод по датам'!CF9:CH9)+SUM('Свод по датам'!CF51:CH51) -> 22 | AH20: =SUM('Свод по датам'!CI9:CK9)+SUM('Свод по датам'!CI51:CK51) -> 20.1 | AI20: =SUM('Свод по датам'!CL9:CN9)+SUM('Свод по датам'!CL51:CN51) -> 33 | AJ20: =SUM('Свод по датам'!CO9:CQ9)+SUM('Свод по датам'!CO51:CQ51) -> 0 | AK20: =SUM('Свод по датам'!CR9:CT9)+SUM('Свод по датам'!CR51:CT51) -> 0 | AL20: =SUM('Свод по датам'!CU9:CW9) -> 0.8 | AM20: =SUM('Свод по датам'!CX9:CZ9) -> 16.5 | AN20: =SUM('Свод по датам'!DA9:DC9) -> 16.5 | AO20: =SUM('Свод по датам'!DD9:DF9) -> 9 | AP20: =SUM('Свод по датам'!DG9:DI9) -> 14.5 | AQ20: =SUM('Свод по датам'!DJ9:DL9) -> 21 | AR20: =SUM('Свод по датам'!DM9:DO9) -> 9 | AS20: =SUM('Свод по датам'!DP9:DR9) -> 0 | AT20: =SUM('Свод по датам'!DS9:DU9) -> 16 | AU20: =SUM('Свод по датам'!DV9:DX9) -> 28 | AV20: =SUM('Свод по датам'!DY9:EA9) -> 12.1 | AW20: =SUM('Свод по датам'!EB9:ED9) -> 5 | AX20: =SUM('Свод по датам'!EE9:EG9) -> 12.4 | AY20: =SUM('Свод по датам'!EH9:EJ9) -> 7.5 | AZ20: =SUM('Свод по датам'!EK9:EM9) -> 0 | BA20: =SUM('Свод по датам'!EN9:EP9) -> 0 | BB20: =SUM('Свод по датам'!EQ9:ES9) -> 0 | BC20: =SUM('Свод по датам'!ET9:EV9) -> 0 | BD20: =SUM('Свод по датам'!EW9:EY9) -> 0 | BE20: =SUM('Свод по датам'!EZ9:FB9) -> 0 | BF20: =SUM('Свод по датам'!FC9:FE9) -> 13.5 | BG20: =SUM('Свод по датам'!FF9:FH9) -> 2.5 | BH20: =SUM('Свод по датам'!FI9:FK9) -> 0 | BI20: =SUM('Свод по датам'!FL9:FN9) -> 0 | BJ20: =SUM('Свод по датам'!FO9:FQ9) -> 0 | BK20: =SUM('Свод по датам'!FR9:FT9) -> 0 | BL20: =SUM('Свод по датам'!FU9:FW9) -> 0 | BM20: =SUM('Свод по датам'!FX9:FZ9) -> 0 | BN20: =SUM('Свод по датам'!GA9:GC9) -> 0 | BO20: =SUM('Свод по датам'!GD9:GF9) -> 0 | BP20: =SUM('Свод по датам'!GG9:GI9) -> 0 | BQ20: =SUM('Свод по датам'!GJ9:GL9) -> 0 | BR20: =SUM('Свод по датам'!GM9:GO9) -> 0 | BS20: =SUM('Свод по датам'!GP9:GR9) -> 0 | BT20: =SUM('Свод по датам'!GS9:GU9) -> 0 | BU20: =SUM('Свод по датам'!GV9:GX9) -> 0 | BV20: =SUM('Свод по датам'!GY9:HA9) -> 0 | BW20: =SUM('Свод по датам'!HB9:HD9) -> 0 | BX20: =SUM('Свод по датам'!HE9:HG9) -> 0 | BY20: =SUM('Свод по датам'!HH9:HJ9) -> 0 | BZ20: =SUM('Свод по датам'!HK9:HM9) -> 0 | CA20: =SUM('Свод по датам'!HN9:HP9) -> 0 | CB20: =SUM('Свод по датам'!HQ9:HS9) -> 0 | CC20: =SUM('Свод по датам'!HT9:HV9) -> 0 | CD20: =SUM('Свод по датам'!HW9:HY9) -> 0 | CE20: =SUM('Свод по датам'!HZ9:IB9) -> 0 | CF20: =SUM('Свод по датам'!IC9:IE9) -> 0 | CG20: =SUM('Свод по датам'!IF9:IH9) -> 0 | CH20: =SUM('Свод по датам'!II9:IK9) -> 0 | CI20: =SUM('Свод по датам'!IL9:IN9) -> 0 | CJ20: =SUM('Свод по датам'!IO9:IQ9) -> 0 | CK20: =SUM('Свод по датам'!IR9:IT9) -> 0 | CL20: =SUM('Свод по датам'!IU9:IW9) -> 0 | CM20: =SUM('Свод по датам'!IX9:IZ9) -> 0 | CN20: =SUM('Свод по датам'!JA9:JC9) -> 0 | CO20: =SUM('Свод по датам'!JD9:JF9) -> 0 | CP20: =SUM('Свод по датам'!JG9:JI9) -> 0 | CQ20: =SUM('Свод по датам'!JJ9:JL9) -> 0 | CR20: =SUM('Свод по датам'!JM9:JO9) -> 0 | CS20: =SUM('Свод по датам'!JP9:JR9) -> 0 | CT20: =SUM('Свод по датам'!JS9:JU9) -> 0 | CU20: =SUM('Свод по датам'!JV9:JX9) -> 0 | CV20: =SUM(G20:CU20) -> 828.4
C21: Чуянов П.А. | D21: КЗС-10К | E21: =CV21 -> 307.6 | F21: тонн | G21: =SUM('Свод по датам'!F10:H10)+SUM('Свод по датам'!F52:H52) -> 0 | H21: =SUM('Свод по датам'!I10:K10)+SUM('Свод по датам'!I52:K52) -> 0 | I21: =SUM('Свод по датам'!L10:N10)+SUM('Свод по датам'!L52:N52) -> 0 | J21: =SUM('Свод по датам'!O10:Q10)+SUM('Свод по датам'!O52:Q52) -> 0 | K21: =SUM('Свод по датам'!R10:T10)+SUM('Свод по датам'!R52:T52) -> 0 | L21: =SUM('Свод по датам'!U10:W10)+SUM('Свод по датам'!U52:W52) -> 0 | M21: =SUM('Свод по датам'!X10:Z10)+SUM('Свод по датам'!X52:Z52) -> 0 | N21: =SUM('Свод по датам'!AA10:AC10)+SUM('Свод по датам'!AA52:AC52) -> 0 | O21: =SUM('Свод по датам'!AD10:AF10)+SUM('Свод по датам'!AD52:AF52) -> 0 | P21: =SUM('Свод по датам'!AG10:AI10)+SUM('Свод по датам'!AG52:AI52) -> 0 | Q21: =SUM('Свод по датам'!AJ10:AL10)+SUM('Свод по датам'!AJ52:AL52) -> 0 | R21: =SUM('Свод по датам'!AM10:AO10)+SUM('Свод по датам'!AM52:AO52) -> 0 | S21: =SUM('Свод по датам'!AP10:AR10)+SUM('Свод по датам'!AP52:AR52) -> 0 | T21: =SUM('Свод по датам'!AS10:AU10)+SUM('Свод по датам'!AS52:AU52) -> 0 | U21: =SUM('Свод по датам'!AV10:AX10)+SUM('Свод по датам'!AV52:AX52) -> 0 | V21: =SUM('Свод по датам'!AY10:BA10)+SUM('Свод по датам'!AY52:BA52) -> 0 | W21: =SUM('Свод по датам'!BB10:BD10)+SUM('Свод по датам'!BB52:BD52) -> 0 | X21: =SUM('Свод по датам'!BE10:BG10)+SUM('Свод по датам'!BE52:BG52) -> 0 | Y21: =SUM('Свод по датам'!BH10:BJ10)+SUM('Свод по датам'!BH52:BJ52) -> 0 | Z21: =SUM('Свод по датам'!BK10:BM10)+SUM('Свод по датам'!BK52:BM52) -> 0 | AA21: =SUM('Свод по датам'!BN10:BP10)+SUM('Свод по датам'!BN52:BP52) -> 0 | AB21: =SUM('Свод по датам'!BQ10:BS10)+SUM('Свод по датам'!BQ52:BS52) -> 31.3 | AC21: =SUM('Свод по датам'!BT10:BV10)+SUM('Свод по датам'!BT52:BV52) -> 10.6 | AD21: =SUM('Свод по датам'!BW10:BY10)+SUM('Свод по датам'!BW52:BY52) -> 46 | AE21: =SUM('Свод по датам'!BZ10:CB10)+SUM('Свод по датам'!BZ52:CB52) -> 25.3 | AF21: =SUM('Свод по датам'!CC10:CE10)+SUM('Свод по датам'!CC52:CE52) -> 42.8 | AG21: =SUM('Свод по датам'!CF10:CH10)+SUM('Свод по датам'!CF52:CH52) -> 37.1 | AH21: =SUM('Свод по датам'!CI10:CK10)+SUM('Свод по датам'!CI52:CK52) -> 34.3 | AI21: =SUM('Свод по датам'!CL10:CN10)+SUM('Свод по датам'!CL52:CN52) -> 31.2 | AJ21: =SUM('Свод по датам'!CO10:CQ10)+SUM('Свод по датам'!CO52:CQ52) -> 0 | AK21: =SUM('Свод по датам'!CR10:CT10)+SUM('Свод по датам'!CR52:CT52) -> 0 | AL21: =SUM('Свод по датам'!CU10:CW10) -> 0 | AM21: =SUM('Свод по датам'!CX10:CZ10) -> 0 | AN21: =SUM('Свод по датам'!DA10:DC10) -> 0 | AO21: =SUM('Свод по датам'!DD10:DF10) -> 0 | AP21: =SUM('Свод по датам'!DG10:DI10) -> 0 | AQ21: =SUM('Свод по датам'!DJ10:DL10) -> 0 | AR21: =SUM('Свод по датам'!DM10:DO10) -> 0 | AS21: =SUM('Свод по датам'!DP10:DR10) -> 0 | AT21: =SUM('Свод по датам'!DS10:DU10) -> 22.1 | AU21: =SUM('Свод по датам'!DV10:DX10) -> 24 | AV21: =SUM('Свод по датам'!DY10:EA10) -> 0 | AW21: =SUM('Свод по датам'!EB10:ED10) -> 2.9 | AX21: =SUM('Свод по датам'!EE10:EG10) -> 0 | AY21: =SUM('Свод по датам'!EH10:EJ10) -> 0 | AZ21: =SUM('Свод по датам'!EK10:EM10) -> 0 | BA21: =SUM('Свод по датам'!EN10:EP10) -> 0 | BB21: =SUM('Свод по датам'!EQ10:ES10) -> 0 | BC21: =SUM('Свод по датам'!ET10:EV10) -> 0 | BD21: =SUM('Свод по датам'!EW10:EY10) -> 0 | BE21: =SUM('Свод по датам'!EZ10:FB10) -> 0 | BF21: =SUM('Свод по датам'!FC10:FE10) -> 0 | BG21: =SUM('Свод по датам'!FF10:FH10) -> 0 | BH21: =SUM('Свод по датам'!FI10:FK10) -> 0 | BI21: =SUM('Свод по датам'!FL10:FN10) -> 0 | BJ21: =SUM('Свод по датам'!FO10:FQ10) -> 0 | BK21: =SUM('Свод по датам'!FR10:FT10) -> 0 | BL21: =SUM('Свод по датам'!FU10:FW10) -> 0 | BM21: =SUM('Свод по датам'!FX10:FZ10) -> 0 | BN21: =SUM('Свод по датам'!GA10:GC10) -> 0 | BO21: =SUM('Свод по датам'!GD10:GF10) -> 0 | BP21: =SUM('Свод по датам'!GG10:GI10) -> 0 | BQ21: =SUM('Свод по датам'!GJ10:GL10) -> 0 | BR21: =SUM('Свод по датам'!GM10:GO10) -> 0 | BS21: =SUM('Свод по датам'!GP10:GR10) -> 0 | BT21: =SUM('Свод по датам'!GS10:GU10) -> 0 | BU21: =SUM('Свод по датам'!GV10:GX10) -> 0 | BV21: =SUM('Свод по датам'!GY10:HA10) -> 0 | BW21: =SUM('Свод по датам'!HB10:HD10) -> 0 | BX21: =SUM('Свод по датам'!HE10:HG10) -> 0 | BY21: =SUM('Свод по датам'!HH10:HJ10) -> 0 | BZ21: =SUM('Свод по датам'!HK10:HM10) -> 0 | CA21: =SUM('Свод по датам'!HN10:HP10) -> 0 | CB21: =SUM('Свод по датам'!HQ10:HS10) -> 0 | CC21: =SUM('Свод по датам'!HT10:HV10) -> 0 | CD21: =SUM('Свод по датам'!HW10:HY10) -> 0 | CE21: =SUM('Свод по датам'!HZ10:IB10) -> 0 | CF21: =SUM('Свод по датам'!IC10:IE10) -> 0 | CG21: =SUM('Свод по датам'!IF10:IH10) -> 0 | CH21: =SUM('Свод по датам'!II10:IK10) -> 0 | CI21: =SUM('Свод по датам'!IL10:IN10) -> 0 | CJ21: =SUM('Свод по датам'!IO10:IQ10) -> 0 | CK21: =SUM('Свод по датам'!IR10:IT10) -> 0 | CL21: =SUM('Свод по датам'!IU10:IW10) -> 0 | CM21: =SUM('Свод по датам'!IX10:IZ10) -> 0 | CN21: =SUM('Свод по датам'!JA10:JC10) -> 0 | CO21: =SUM('Свод по датам'!JD10:JF10) -> 0 | CP21: =SUM('Свод по датам'!JG10:JI10) -> 0 | CQ21: =SUM('Свод по датам'!JJ10:JL10) -> 0 | CR21: =SUM('Свод по датам'!JM10:JO10) -> 0 | CS21: =SUM('Свод по датам'!JP10:JR10) -> 0 | CT21: =SUM('Свод по датам'!JS10:JU10) -> 0 | CU21: =SUM('Свод по датам'!JV10:JX10) -> 0 | CV21: =SUM(G21:CU21) -> 307.6
